
BEGIN:VCALENDAR
VERSION:2.0
PRODID:-//Music In Belgium - ECPv6.15.20//NONSGML v1.0//EN
CALSCALE:GREGORIAN
METHOD:PUBLISH
X-WR-CALNAME:Music In Belgium
X-ORIGINAL-URL:https://musicinbelgium.net
X-WR-CALDESC:Events for Music In Belgium
REFRESH-INTERVAL;VALUE=DURATION:PT1H
X-Robots-Tag:noindex
X-PUBLISHED-TTL:PT1H
BEGIN:VTIMEZONE
TZID:Europe/Brussels
BEGIN:DAYLIGHT
TZOFFSETFROM:+0100
TZOFFSETTO:+0200
TZNAME:CEST
DTSTART:20220327T010000
END:DAYLIGHT
BEGIN:STANDARD
TZOFFSETFROM:+0200
TZOFFSETTO:+0100
TZNAME:CET
DTSTART:20221030T010000
END:STANDARD
BEGIN:DAYLIGHT
TZOFFSETFROM:+0100
TZOFFSETTO:+0200
TZNAME:CEST
DTSTART:20230326T010000
END:DAYLIGHT
BEGIN:STANDARD
TZOFFSETFROM:+0200
TZOFFSETTO:+0100
TZNAME:CET
DTSTART:20231029T010000
END:STANDARD
BEGIN:DAYLIGHT
TZOFFSETFROM:+0100
TZOFFSETTO:+0200
TZNAME:CEST
DTSTART:20240331T010000
END:DAYLIGHT
BEGIN:STANDARD
TZOFFSETFROM:+0200
TZOFFSETTO:+0100
TZNAME:CET
DTSTART:20241027T010000
END:STANDARD
END:VTIMEZONE
BEGIN:VEVENT
DTSTART;TZID=Europe/Brussels:20231112T204500
DTEND;TZID=Europe/Brussels:20231112T230000
DTSTAMP:20260423T234438
CREATED:20230827T211350Z
LAST-MODIFIED:20231112T100713Z
UID:123907-1699821900-1699830000@musicinbelgium.net
SUMMARY:GRETA VAN FLEET (Bruxelles)
DESCRIPTION:Prix: 51\,40 EUR / 45\,80 EUR \nÀ l’affiche:\n– Greta Van Fleet \n‘Starcatcher World Tour’
URL:https://musicinbelgium.net/evenement/greta-van-fleet-bruxelles/
LOCATION:Forest National\, Avenue Victor Rousseau 208\, Bruxelles\, 1000\, Belgium
CATEGORIES:!!!SOLD OUT!!!
END:VEVENT
BEGIN:VEVENT
DTSTART;TZID=Europe/Brussels:20231113T200000
DTEND;TZID=Europe/Brussels:20231113T223000
DTSTAMP:20260423T234438
CREATED:20230724T220553Z
LAST-MODIFIED:20231113T074801Z
UID:122828-1699905600-1699914600@musicinbelgium.net
SUMMARY:The MAGNETIC FIELDS & CONCHUR WHITE (Bruxelles)
DESCRIPTION:Prix: 29\,50 EUR (prévente: 26\,50 EUR)\nBota’Carte: 23\,50 EUR \nÀ l’affiche:\n– The Magnetic Fields\n– Conchur White
URL:https://musicinbelgium.net/evenement/the-magnetic-fields-bruxelles/
LOCATION:Le Botanique\, Orangerie\, rue Royale 236\, Bruxelles\, 1000\, Belgium
END:VEVENT
BEGIN:VEVENT
DTSTART;TZID=Europe/Brussels:20231113T200000
DTEND;TZID=Europe/Brussels:20231113T223000
DTSTAMP:20260423T234438
CREATED:20230726T220816Z
LAST-MODIFIED:20231113T074932Z
UID:122909-1699905600-1699914600@musicinbelgium.net
SUMMARY:NOURISHED BY TIME & Senna JMB (Bruxelles)
DESCRIPTION:Prix: 18\,50 EUR (prévente: 15\,50 EUR)\nBota’Carte: 12\,50 EUR \nÀ l’affiche:\n– Nourished By Time\n– Senna JMB
URL:https://musicinbelgium.net/evenement/nourished-by-time-bruxelles/
LOCATION:Le Botanique\, Rotonde\, rue Royale 236\, Bruxelles\, 1000\, Belgium
END:VEVENT
BEGIN:VEVENT
DTSTART;TZID=Europe/Brussels:20231113T200000
DTEND;TZID=Europe/Brussels:20231113T223000
DTSTAMP:20260423T234438
CREATED:20231003T162111Z
LAST-MODIFIED:20231113T075043Z
UID:124893-1699905600-1699914600@musicinbelgium.net
SUMMARY:7EBRA & WHOMAN (Bruxelles)
DESCRIPTION:Prix: 10\,00 EUR\nBota’Carte: 7\,00 EUR \nÀ l’affiche:\n– 7ebra\n– Whoman
URL:https://musicinbelgium.net/evenement/7ebra-bruxelles/
LOCATION:Le Botanique\, Witloof Bar\, rue Royale 236\, Bruxelles\, 1000\, Belgium
END:VEVENT
BEGIN:VEVENT
DTSTART;TZID=Europe/Brussels:20231113T200000
DTEND;TZID=Europe/Brussels:20231113T223000
DTSTAMP:20260423T234438
CREATED:20231007T101539Z
LAST-MODIFIED:20231007T101539Z
UID:125021-1699905600-1699914600@musicinbelgium.net
SUMMARY:GOOSE (US) (Bruxelles)
DESCRIPTION:Prix: 21\,00 EUR (prévente) \nÀ l’affiche:\n– Goose (US)
URL:https://musicinbelgium.net/evenement/goose-us-bruxelles/
LOCATION:AB Club\, bd Anspach 110\, Bruxelles\, 1000\, Belgium
CATEGORIES:!!!SOLD OUT!!!
END:VEVENT
BEGIN:VEVENT
DTSTART;TZID=Europe/Brussels:20231113T200000
DTEND;TZID=Europe/Brussels:20231113T230000
DTSTAMP:20260423T234438
CREATED:20231029T154916Z
LAST-MODIFIED:20231113T075258Z
UID:125553-1699905600-1699916400@musicinbelgium.net
SUMMARY:Steph STRINGS & UNA (Borgerhout)
DESCRIPTION:Prix: 12\,00 EUR / 10\,00 EUR \nÀ l’affiche:\n– Steph Strings\n– UNA
URL:https://musicinbelgium.net/evenement/steph-strings-borgerhout/
LOCATION:De Roma (Foyer)\, Turnhoutsebaan 286\, Borgerhout\, 2140\, Belgium
END:VEVENT
BEGIN:VEVENT
DTSTART;TZID=Europe/Brussels:20231113T203000
DTEND;TZID=Europe/Brussels:20231113T230000
DTSTAMP:20260423T234438
CREATED:20230811T215914Z
LAST-MODIFIED:20231113T125554Z
UID:123273-1699907400-1699916400@musicinbelgium.net
SUMMARY:ABSYNTHE MINDED & WOOLVS (Leuven)
DESCRIPTION:Prix: 27\,00 EUR (prévente: 24\,00 EUR) \nÀ l’affiche:\n– Absynthe Minded\n– Woolvs
URL:https://musicinbelgium.net/evenement/absynthe-minded-leuven-2/
LOCATION:Het Depot\, Martelarenplein 12\, Leuven\, 3000\, Belgium
END:VEVENT
BEGIN:VEVENT
DTSTART;TZID=Europe/Brussels:20231113T210000
DTEND;TZID=Europe/Brussels:20231113T230000
DTSTAMP:20260423T234438
CREATED:20231113T125911Z
LAST-MODIFIED:20231113T125911Z
UID:125900-1699909200-1699916400@musicinbelgium.net
SUMMARY:ITCHES & NICE GUISE (Bruxelles)
DESCRIPTION:Prix: Gratuit \nÀ l’affiche:\n– Itches\n– Nice Guise
URL:https://musicinbelgium.net/evenement/itches-nice-guise-bruxelles/
LOCATION:Chaff\, Place du Jeu de Balle 21\, Bruxelles\, 1000\, Belgium
END:VEVENT
BEGIN:VEVENT
DTSTART;TZID=Europe/Brussels:20231114T200000
DTEND;TZID=Europe/Brussels:20231114T223000
DTSTAMP:20260423T234438
CREATED:20230326T210559Z
LAST-MODIFIED:20231113T162436Z
UID:119653-1699992000-1700001000@musicinbelgium.net
SUMMARY:BLANCO WHITE & Jasmine JETHWA (Bruxelles)
DESCRIPTION:Prix: 21\,50 EUR (prévente: 18\,50 EUR)\nBota’Carte: 15\,50 EUR \nÀ l’affiche:\n– Blanco White\n– Jasmine Jethwa
URL:https://musicinbelgium.net/evenement/blanco-white-bruxelles-2/
LOCATION:Le Botanique\, Orangerie\, rue Royale 236\, Bruxelles\, 1000\, Belgium
CATEGORIES:!!!SOLD OUT!!!
END:VEVENT
BEGIN:VEVENT
DTSTART;TZID=Europe/Brussels:20231114T200000
DTEND;TZID=Europe/Brussels:20231114T223000
DTSTAMP:20260423T234438
CREATED:20230724T220756Z
LAST-MODIFIED:20230724T220756Z
UID:122830-1699992000-1700001000@musicinbelgium.net
SUMMARY:Laura MISCH (Bruxelles)
DESCRIPTION:Prix: 17\,50 EUR (prévente: 14\,50 EUR)\nBota’Carte: 11\,50 EUR \nÀ l’affiche:\n– Laura Misch
URL:https://musicinbelgium.net/evenement/laura-misch-bruxelles-2/
LOCATION:Le Botanique\, Witloof Bar\, rue Royale 236\, Bruxelles\, 1000\, Belgium
END:VEVENT
BEGIN:VEVENT
DTSTART;TZID=Europe/Brussels:20231114T200000
DTEND;TZID=Europe/Brussels:20231114T224500
DTSTAMP:20260423T234438
CREATED:20230402T110003Z
LAST-MODIFIED:20231114T205300Z
UID:120094-1699992000-1700001900@musicinbelgium.net
SUMMARY:Natalie MERCHANT (Bruxelles)
DESCRIPTION:Prix: 43\,60 EUR / 39\,24 EUR \nÀ l’affiche:\n– Natalie Merchant
URL:https://musicinbelgium.net/evenement/natalie-merchant-bruxelles/
LOCATION:Cirque Royal\, rue de l'Enseignement 81\, Bruxelles\, 1000\, Belgium
CATEGORIES:!!!SOLD OUT!!!
END:VEVENT
BEGIN:VEVENT
DTSTART;TZID=Europe/Brussels:20231114T200000
DTEND;TZID=Europe/Brussels:20231114T230000
DTSTAMP:20260423T234438
CREATED:20231104T094808Z
LAST-MODIFIED:20231104T094808Z
UID:125669-1699992000-1700002800@musicinbelgium.net
SUMMARY:EURYTHMICS SONGBOOK featuring DAVE STEWART (Bruxelles)
DESCRIPTION:Prix: 55\,00 EUR \nÀ l’affiche:\n– Dave Stewart
URL:https://musicinbelgium.net/evenement/eurythmics-songbook-featuring-dave-stewart-bruxelles/
LOCATION:La Madeleine\, Rue Duquesnoy 14\, Bruxelles\, 1000\, Belgium
ATTACH;FMTTYPE=image/jpeg:https://musicinbelgium.net/wp-content/uploads/2023/11/Vignette-400x300-Songbook.jpg
ORGANIZER;CN="Greenhouse Talent":MAILTO:info@greenhousetalent.be
END:VEVENT
BEGIN:VEVENT
DTSTART;TZID=Europe/Brussels:20231114T200000
DTEND;TZID=Europe/Brussels:20231114T230000
DTSTAMP:20260423T234438
CREATED:20231113T163350Z
LAST-MODIFIED:20231113T163350Z
UID:125908-1699992000-1700002800@musicinbelgium.net
SUMMARY:Micah P. HINSON & SOLAH (Bruxelles)
DESCRIPTION:Prix: 15\,00 EUR (prévente: 12\,00 EUR) \nÀ l’affiche:\n– Micah P. Hinson\n– Solah
URL:https://musicinbelgium.net/evenement/micah-p-hinson-solah-bruxelles/
LOCATION:La Source Beer Co\, Rue Dieudonné Lefèvre 4\, Bruxelles\, 1020\, Belgium
END:VEVENT
BEGIN:VEVENT
DTSTART;TZID=Europe/Brussels:20231114T210000
DTEND;TZID=Europe/Brussels:20231114T233000
DTSTAMP:20260423T234438
CREATED:20230811T220113Z
LAST-MODIFIED:20231113T162628Z
UID:123275-1699995600-1700004600@musicinbelgium.net
SUMMARY:Peter HOOK and The LIGHT (Leuven)
DESCRIPTION:Prix: 43\,00 EUR (prévente: 39\,00 EUR) \nÀ l’affiche:\n– Peter Hook & The Light
URL:https://musicinbelgium.net/evenement/peter-hook-and-the-light-leuven/
LOCATION:Het Depot\, Martelarenplein 12\, Leuven\, 3000\, Belgium
CATEGORIES:!!!SOLD OUT!!!
END:VEVENT
BEGIN:VEVENT
DTSTART;TZID=Europe/Brussels:20231115T200000
DTEND;TZID=Europe/Brussels:20231115T223000
DTSTAMP:20260423T234438
CREATED:20230518T101350Z
LAST-MODIFIED:20230518T101350Z
UID:121273-1700078400-1700087400@musicinbelgium.net
SUMMARY:The SAXOPHONES (Bruxelles)
DESCRIPTION:Prix: 10\,00 EUR\nBota’Carte: 7\,00 EUR \nÀ l’affiche:\n– The Saxophones
URL:https://musicinbelgium.net/evenement/the-saxophones-bruxelles/
LOCATION:Le Botanique\, Witloof Bar\, rue Royale 236\, Bruxelles\, 1000\, Belgium
END:VEVENT
BEGIN:VEVENT
DTSTART;TZID=Europe/Brussels:20231115T200000
DTEND;TZID=Europe/Brussels:20231115T223000
DTSTAMP:20260423T234438
CREATED:20230725T213746Z
LAST-MODIFIED:20231114T220104Z
UID:122843-1700078400-1700087400@musicinbelgium.net
SUMMARY:COLOUR HAZE & SWAN VALLEY HEIGHTS (Bruxelles)
DESCRIPTION:Prix: 25\,50 EUR (prévente: 22\,50 EUR)\nBota’Carte: 19\,50 EUR \nÀ l’affiche:\n– Colour Haze\n– Swan Valley Heights
URL:https://musicinbelgium.net/evenement/colour-haze-bruxelles/
LOCATION:Le Botanique\, Orangerie\, rue Royale 236\, Bruxelles\, 1000\, Belgium
END:VEVENT
BEGIN:VEVENT
DTSTART;TZID=Europe/Brussels:20231115T200000
DTEND;TZID=Europe/Brussels:20231115T224000
DTSTAMP:20260423T234438
CREATED:20230814T114830Z
LAST-MODIFIED:20231114T220223Z
UID:123400-1700078400-1700088000@musicinbelgium.net
SUMMARY:LANKUM & INNERWOUD (Borgerhout)
DESCRIPTION:Prix: 24\,00 EUR (prévente: 22\,50 EUR)\nMoins de 26 ans: 20\,50 EUR \nÀ l’affiche:\n– Lankum\n– Innerwoud
URL:https://musicinbelgium.net/evenement/lankum-borgerhout-4/
LOCATION:Trix Club\, Noordersingel 28-30\, Borgerhout\, 2140\, Belgium
END:VEVENT
BEGIN:VEVENT
DTSTART;TZID=Europe/Brussels:20231115T200000
DTEND;TZID=Europe/Brussels:20231115T230000
DTSTAMP:20260423T234438
CREATED:20230817T220844Z
LAST-MODIFIED:20231114T220350Z
UID:123567-1700078400-1700089200@musicinbelgium.net
SUMMARY:BLACK MIRRORS & Giac TAYLOR (Liège)
DESCRIPTION:Prix: 20\,00 EUR (prévente) \nÀ l’affiche:\n– Black Mirrors\n– Giac Taylor
URL:https://musicinbelgium.net/evenement/black-mirrors-liege/
LOCATION:Reflektor\, Place Xavier Neujean 24\, Liege\, 4000\, Belgium
END:VEVENT
BEGIN:VEVENT
DTSTART;TZID=Europe/Brussels:20231115T200000
DTEND;TZID=Europe/Brussels:20231115T230000
DTSTAMP:20260423T234438
CREATED:20231114T220718Z
LAST-MODIFIED:20231114T220830Z
UID:125941-1700078400-1700089200@musicinbelgium.net
SUMMARY:The LESLIES (Gent)
DESCRIPTION:Prix: NC \nÀ l’affiche:\n– The Leslies
URL:https://musicinbelgium.net/evenement/the-leslies-gent/
LOCATION:Afsnis\, Bij Sint Jacobs 11\, Gent\, 9000\, Belgium
END:VEVENT
BEGIN:VEVENT
DTSTART;TZID=Europe/Brussels:20231116T200000
DTEND;TZID=Europe/Brussels:20231116T223000
DTSTAMP:20260423T234438
CREATED:20230329T165839Z
LAST-MODIFIED:20231115T115806Z
UID:119860-1700164800-1700173800@musicinbelgium.net
SUMMARY:BLACK SEA DAHU & AUGUSTA (Borgerhout)
DESCRIPTION:Prix: 19\,00 EUR (prévente: 17\,50 EUR)\nMoins de 26 ans: 15\,50 EUR \nÀ l’affiche:\n– Black Sea Dahu\n– Augusta
URL:https://musicinbelgium.net/evenement/black-sea-dahu-borgerhout/
LOCATION:Trix Club\, Noordersingel 28-30\, Borgerhout\, 2140\, Belgium
END:VEVENT
BEGIN:VEVENT
DTSTART;TZID=Europe/Brussels:20231116T200000
DTEND;TZID=Europe/Brussels:20231116T223000
DTSTAMP:20260423T234438
CREATED:20230518T101625Z
LAST-MODIFIED:20230518T101625Z
UID:121275-1700164800-1700173800@musicinbelgium.net
SUMMARY:Will BUTLER & SISTER SQUARES (Bruxelles)
DESCRIPTION:Prix: 21\,50 EUR (prévente: 18\,50 EUR)\nBota’Carte: 15\,50 EUR \nÀ l’affiche:\n– Will Butler & Sister Squares
URL:https://musicinbelgium.net/evenement/will-butler-sister-squares-bruxelles/
LOCATION:Le Botanique\, Grand Salon\, rue Royale 236\, Bruxelles\, 1000\, Belgium
END:VEVENT
BEGIN:VEVENT
DTSTART;TZID=Europe/Brussels:20231116T200000
DTEND;TZID=Europe/Brussels:20231116T223000
DTSTAMP:20260423T234438
CREATED:20230524T224229Z
LAST-MODIFIED:20231115T115951Z
UID:121627-1700164800-1700173800@musicinbelgium.net
SUMMARY:SWANS & Norman WESTBERG (Bruxelles)
DESCRIPTION:Prix: 36\,50 EUR (prévente: 33\,50 EUR)\nBota’Carte: 30\,50 EUR \nÀ l’affiche:\n– Swans\n– Norman Westberg
URL:https://musicinbelgium.net/evenement/swans-bruxelles-3/
LOCATION:Le Botanique\, Orangerie\, rue Royale 236\, Bruxelles\, 1000\, Belgium
CATEGORIES:!!!SOLD OUT!!!
END:VEVENT
BEGIN:VEVENT
DTSTART;TZID=Europe/Brussels:20231116T200000
DTEND;TZID=Europe/Brussels:20231116T223000
DTSTAMP:20260423T234438
CREATED:20230725T214036Z
LAST-MODIFIED:20231115T120159Z
UID:122845-1700164800-1700173800@musicinbelgium.net
SUMMARY:SQUIRREL FLOWER & HER WILD LOVE (Bruxelles)
DESCRIPTION:Prix: 18\,50 EUR (prévente: 15\,50 EUR)\nBota’Carte: 12\,50 EUR \nÀ l’affiche:\n– Squirrel Flower\n– Her Wild Love
URL:https://musicinbelgium.net/evenement/squirrel-flower-bruxelles/
LOCATION:Le Botanique\, Rotonde\, rue Royale 236\, Bruxelles\, 1000\, Belgium
END:VEVENT
BEGIN:VEVENT
DTSTART;TZID=Europe/Brussels:20231116T200000
DTEND;TZID=Europe/Brussels:20231116T230000
DTSTAMP:20260423T234438
CREATED:20230817T221109Z
LAST-MODIFIED:20231115T120410Z
UID:123569-1700164800-1700175600@musicinbelgium.net
SUMMARY:dEUS & ELIAS (Seraing)
DESCRIPTION:Prix: 45\,00 EUR (prévente) \nÀ l’affiche:\n– dEUS\n– Elias
URL:https://musicinbelgium.net/evenement/deus-seraing/
LOCATION:OM\, Quai Louva 1\, Seraing\, 4102\, Belgium
CATEGORIES:!!!SOLD OUT!!!
END:VEVENT
BEGIN:VEVENT
DTSTART;TZID=Europe/Brussels:20231116T200000
DTEND;TZID=Europe/Brussels:20231116T230000
DTSTAMP:20260423T234438
CREATED:20231007T104006Z
LAST-MODIFIED:20231007T104047Z
UID:125036-1700164800-1700175600@musicinbelgium.net
SUMMARY:Max & Igor CAVALERA (Gent)
DESCRIPTION:Prix: 36\,00 EUR (prévente: 32\,00 EUR) \nÀ l’affiche:\n– Max & Igor Cavalera \n‘Morbid Devastation Tour’
URL:https://musicinbelgium.net/evenement/max-igor-cavalera-gent/
LOCATION:Vooruit Concertzaal\, Sint-Pietersnieuwstraat 23\, Gent\, 9000\, Belgium
END:VEVENT
BEGIN:VEVENT
DTSTART;TZID=Europe/Brussels:20231117T194500
DTEND;TZID=Europe/Brussels:20231117T230000
DTSTAMP:20260423T234438
CREATED:20230813T225656Z
LAST-MODIFIED:20231116T201127Z
UID:123325-1700250300-1700262000@musicinbelgium.net
SUMMARY:The REYTONS & CORELLA (Gent)
DESCRIPTION:Prix: 20\,00 EUR (prévente: 17\,00 EUR) \nÀ l’affiche:\n– The Reytons\n– Corella
URL:https://musicinbelgium.net/evenement/the-reytons-gent/
LOCATION:Club Wintercircus\, Miriam Makebaplein 2\, Gent\, 9000\, Belgium
CATEGORIES:!!!SOLD OUT!!!
END:VEVENT
BEGIN:VEVENT
DTSTART;TZID=Europe/Brussels:20231117T200000
DTEND;TZID=Europe/Brussels:20231117T223000
DTSTAMP:20260423T234438
CREATED:20230518T101810Z
LAST-MODIFIED:20230518T101810Z
UID:121277-1700251200-1700260200@musicinbelgium.net
SUMMARY:GIRL RAY (Bruxelles)
DESCRIPTION:Prix: 10\,00 EUR\nBota’Carte: 7\,00 EUR \nÀ l’affiche:\n– Girl Ray
URL:https://musicinbelgium.net/evenement/girl-ray-bruxelles-2/
LOCATION:Le Botanique\, Witloof Bar\, rue Royale 236\, Bruxelles\, 1000\, Belgium
END:VEVENT
BEGIN:VEVENT
DTSTART;TZID=Europe/Brussels:20231117T200000
DTEND;TZID=Europe/Brussels:20231117T223000
DTSTAMP:20260423T234438
CREATED:20230827T214701Z
LAST-MODIFIED:20231116T200802Z
UID:123927-1700251200-1700260200@musicinbelgium.net
SUMMARY:WARHAUS & NOONZY (Brugge)
DESCRIPTION:Prix: 32\,00 EUR (prévente: 29\,00 EUR)\nPrikkaart: 25\,00 EUR \nA l’affiche:\n– Warhaus\n– Noonzy
URL:https://musicinbelgium.net/evenement/warhaus-brugge/
LOCATION:Cactus Club\, Bargeweg 10\, Brugge\, 8000\, Belgium
CATEGORIES:!!!SOLD OUT!!!
END:VEVENT
BEGIN:VEVENT
DTSTART;TZID=Europe/Brussels:20231117T200000
DTEND;TZID=Europe/Brussels:20231117T230000
DTSTAMP:20260423T234438
CREATED:20230817T221315Z
LAST-MODIFIED:20231116T201245Z
UID:123572-1700251200-1700262000@musicinbelgium.net
SUMMARY:dEUS & ELIAS (Seraing)
DESCRIPTION:Prix: 45\,00 EUR (prévente) \nÀ l’affiche:\n– dEUS\n– Elias
URL:https://musicinbelgium.net/evenement/deus-seraing-2/
LOCATION:OM\, Quai Louva 1\, Seraing\, 4102\, Belgium
END:VEVENT
BEGIN:VEVENT
DTSTART;TZID=Europe/Brussels:20231117T200000
DTEND;TZID=Europe/Brussels:20231117T230000
DTSTAMP:20260423T234438
CREATED:20230827T205033Z
LAST-MODIFIED:20231116T200621Z
UID:123896-1700251200-1700262000@musicinbelgium.net
SUMMARY:MILITARIE GUN & GUMM & VILLENOIRE (Bruxelles)
DESCRIPTION:Prix: 23\,50 EUR (prévente: 20\,50 EUR)\nBota’Carte: 17\,50 EUR \nÀ l’affiche:\n– Militarie Gun\n– Gumm\n– Villenoire
URL:https://musicinbelgium.net/evenement/militarie-gun-gumm-bruxelles/
LOCATION:Le Botanique\, Grand Salon\, rue Royale 236\, Bruxelles\, 1000\, Belgium
END:VEVENT
END:VCALENDAR