
BEGIN:VCALENDAR
VERSION:2.0
PRODID:-//Music In Belgium - ECPv6.15.20//NONSGML v1.0//EN
CALSCALE:GREGORIAN
METHOD:PUBLISH
X-ORIGINAL-URL:https://musicinbelgium.net
X-WR-CALDESC:Events for Music In Belgium
REFRESH-INTERVAL;VALUE=DURATION:PT1H
X-Robots-Tag:noindex
X-PUBLISHED-TTL:PT1H
BEGIN:VTIMEZONE
TZID:Europe/Brussels
BEGIN:DAYLIGHT
TZOFFSETFROM:+0100
TZOFFSETTO:+0200
TZNAME:CEST
DTSTART:20220327T010000
END:DAYLIGHT
BEGIN:STANDARD
TZOFFSETFROM:+0200
TZOFFSETTO:+0100
TZNAME:CET
DTSTART:20221030T010000
END:STANDARD
BEGIN:DAYLIGHT
TZOFFSETFROM:+0100
TZOFFSETTO:+0200
TZNAME:CEST
DTSTART:20230326T010000
END:DAYLIGHT
BEGIN:STANDARD
TZOFFSETFROM:+0200
TZOFFSETTO:+0100
TZNAME:CET
DTSTART:20231029T010000
END:STANDARD
BEGIN:DAYLIGHT
TZOFFSETFROM:+0100
TZOFFSETTO:+0200
TZNAME:CEST
DTSTART:20240331T010000
END:DAYLIGHT
BEGIN:STANDARD
TZOFFSETFROM:+0200
TZOFFSETTO:+0100
TZNAME:CET
DTSTART:20241027T010000
END:STANDARD
END:VTIMEZONE
BEGIN:VEVENT
DTSTART;TZID=Europe/Brussels:20231109T210000
DTEND;TZID=Europe/Brussels:20231109T233000
DTSTAMP:20260423T123317
CREATED:20231105T114519Z
LAST-MODIFIED:20231108T221017Z
UID:125717-1699563600-1699572600@musicinbelgium.net
SUMMARY:AGENT SIDE GRINDER & The ULTIMATE DREAMERS (Liège)
DESCRIPTION:Prix: 15\,00 EUR (prévente: 12\,00 EUR) \nÀ l’affiche:\n– Agent Side Grinder\n– The Ultimate Dreamers
URL:https://musicinbelgium.net/evenement/agent-side-grinder-the-ultimate-dreamers-liege/
LOCATION:KulturA.\, Rue Roture 13\, Liège\, 4020\, Belgium
END:VEVENT
BEGIN:VEVENT
DTSTART;TZID=Europe/Brussels:20231110T190000
DTEND;TZID=Europe/Brussels:20231110T223000
DTSTAMP:20260423T123317
CREATED:20230204T113847Z
LAST-MODIFIED:20231110T074013Z
UID:118105-1699642800-1699655400@musicinbelgium.net
SUMMARY:AGAINST THE CURRENT & LØLØ & CALLMEAMOUR (Bruxelles)
DESCRIPTION:Prix: 26\,00 EUR (prévente: 25\,00 EUR) \nÀ l’affiche:\n– Against The Current\n– LØLØ\n– CallMeAmour
URL:https://musicinbelgium.net/evenement/against-the-current-bruxelles/
LOCATION:AB Ballroom\, bd Anspach 110\, Bruxelles\, 1000\, Belgium
END:VEVENT
BEGIN:VEVENT
DTSTART;TZID=Europe/Brussels:20231110T190000
DTEND;TZID=Europe/Brussels:20231110T235900
DTSTAMP:20260423T123317
CREATED:20230817T222800Z
LAST-MODIFIED:20231104T121829Z
UID:123584-1699642800-1699660740@musicinbelgium.net
SUMMARY:SONIC CITY (Kortrijk)
DESCRIPTION:Prix:\nJour (VE): 30\,00 EUR (prévente) – 27\,00 EUR (Wild Card)\nCombi 3 jours (VE-SA-DI): 95\,00 EUR (prévente) – 92\,00 EUR (Wild Card)\nCombi 2 jours (SA-DI): 75\,00 EUR (prévente) – 72\,00 EUR (Wild Card) \nÀ l’affiche: (ordre alphabétique)\n– Deerhoof\n– Rose City Band\n– Stereolab\n– Youth Lagoon
URL:https://musicinbelgium.net/evenement/sonic-city-kortrijk-3/
LOCATION:Depart\, Nelson Mandelaplein 18\, Kortrijk\, 8500\, Belgium
END:VEVENT
BEGIN:VEVENT
DTSTART;TZID=Europe/Brussels:20231110T200000
DTEND;TZID=Europe/Brussels:20231110T223000
DTSTAMP:20260423T123317
CREATED:20230731T230913Z
LAST-MODIFIED:20231110T125353Z
UID:123058-1699646400-1699655400@musicinbelgium.net
SUMMARY:JOCKSTRAP & THOOM (Bruxelles)
DESCRIPTION:Prix: 22\,50 EUR (prévente: 19\,50 EUR)\nBota’Carte: 16\,50 EUR \nÀ l’affiche:\n– Jockstrap\n– Thoom
URL:https://musicinbelgium.net/evenement/jockstrap-bruxelles-2/
LOCATION:Le Botanique\, Grand Salon\, rue Royale 236\, Bruxelles\, 1000\, Belgium
CATEGORIES:!!!SOLD OUT!!!
END:VEVENT
BEGIN:VEVENT
DTSTART;TZID=Europe/Brussels:20231110T200000
DTEND;TZID=Europe/Brussels:20231110T230000
DTSTAMP:20260423T123317
CREATED:20230402T123051Z
LAST-MODIFIED:20231110T074358Z
UID:120120-1699646400-1699657200@musicinbelgium.net
SUMMARY:WARHAUS & PHILEMON (Charleroi)
DESCRIPTION:Prix: 28\,00 EUR (prévente: 25\,00 EUR)\nAbonnés: 21\,00 EUR \nA l’affiche:\n– Warhaus\n– Philemon
URL:https://musicinbelgium.net/evenement/warhaus-charleroi/
LOCATION:Eden\, Boulevard Jacques Bertrand 1\, Charleroi\, 6000\, Belgium
CATEGORIES:!!!SOLD OUT!!!
END:VEVENT
BEGIN:VEVENT
DTSTART;TZID=Europe/Brussels:20231110T200000
DTEND;TZID=Europe/Brussels:20231110T230000
DTSTAMP:20260423T123317
CREATED:20230817T220607Z
LAST-MODIFIED:20230817T220607Z
UID:123565-1699646400-1699657200@musicinbelgium.net
SUMMARY:PUPPETMASTAZ (Liège)
DESCRIPTION:Prix: 24\,00 EUR (prévente) \nÀ l’affiche:\n– Puppetmastaz
URL:https://musicinbelgium.net/evenement/puppetmastaz-liege-2/
LOCATION:Reflektor\, Place Xavier Neujean 24\, Liege\, 4000\, Belgium
CATEGORIES:!!!SOLD OUT!!!
END:VEVENT
BEGIN:VEVENT
DTSTART;TZID=Europe/Brussels:20231110T200000
DTEND;TZID=Europe/Brussels:20231110T230000
DTSTAMP:20260423T123317
CREATED:20231014T103139Z
LAST-MODIFIED:20231014T103443Z
UID:125228-1699646400-1699657200@musicinbelgium.net
SUMMARY:NIHILOXICA & NAH (Antwerpen)
DESCRIPTION:Prix: 18\,00 EUR (prévente: 14\,00 EUR) \nÀ l’affiche:\n– Nihiloxica\n– NAH
URL:https://musicinbelgium.net/evenement/nihiloxica-nah-antwerpen/
LOCATION:Het Bos\, Ankerrui 5-7\, Antwerpen\, 2000\, Belgium
END:VEVENT
BEGIN:VEVENT
DTSTART;TZID=Europe/Brussels:20231110T210000
DTEND;TZID=Europe/Brussels:20231110T230000
DTSTAMP:20260423T123317
CREATED:20231007T103328Z
LAST-MODIFIED:20231110T124144Z
UID:125033-1699650000-1699657200@musicinbelgium.net
SUMMARY:YOUNG GUN SILVER FOX (Gent)
DESCRIPTION:Prix: 26\,00 EUR (prévente: 22\,00 EUR) \nÀ l’affiche:\n– Young Gun Silver Fox \nConcert initialement prévu le 08.09.2023
URL:https://musicinbelgium.net/evenement/copie-de-young-gun-silver-fox-gent-reporte/
LOCATION:Vooruit (Balzaal)\, Sint-Pietersnieuwstraat 23\, Gent\, 9000\, Belgium
END:VEVENT
BEGIN:VEVENT
DTSTART;TZID=Europe/Brussels:20231111T120000
DTEND;TZID=Europe/Brussels:20231112T013000
DTSTAMP:20260423T123317
CREATED:20231101T121412Z
LAST-MODIFIED:20231105T104214Z
UID:125641-1699704000-1699752600@musicinbelgium.net
SUMMARY:HELL'S BALLS BELGIUM (Kortrijk)
DESCRIPTION:Prix:\nJour: 60\,00 EUR \nA l’affiche:\n– Epica\n– Carcass\n– Stratovarius\n– Peter Pan Speedrock\n– Sonata Arctica\n– Asphyx\n– Suicidal Angels\n– Carnation\n– Bark\n– Temptations For The Weak
URL:https://musicinbelgium.net/evenement/hell-balls-belgium-kortrijk/
LOCATION:KORTRIJK XPO\, President Kennedylaan 100\, Kortrijk\, 8500\, Belgium
ATTACH;FMTTYPE=image/jpeg:https://musicinbelgium.net/wp-content/uploads/2023/11/poster-scaled.jpg
END:VEVENT
BEGIN:VEVENT
DTSTART;TZID=Europe/Brussels:20231111T142000
DTEND;TZID=Europe/Brussels:20231111T235900
DTSTAMP:20260423T123317
CREATED:20230817T223602Z
LAST-MODIFIED:20231111T093821Z
UID:123587-1699712400-1699747140@musicinbelgium.net
SUMMARY:SONIC CITY (Kortrijk)
DESCRIPTION:Prix:\nJour (SA): 45\,00 EUR (prévente) – 42\,00 EUR (Wild Card)\nCombi 3 jours (VE-SA-DI): 95\,00 EUR (prévente) – 92\,00 EUR (Wild Card)\nCombi 2 jours (SA-DI): 75\,00 EUR (prévente) – 72\,00 EUR (Wild Card) \nÀ l’affiche: (ordre alphabétique)\n– Alice Low\n– Brahja\n– Chalk\n– Charlotte Adigéry & Bolis Pupul\n– Deki Alem\n– Eddie Chacon\n– Geoffrey Burton\n– The Germans\n– Jockstrap\n– Laima\n– Lucretia Dalt\n– Model/Actriz\n– Nah\n– Ruby Haunt\n– The Whodads
URL:https://musicinbelgium.net/evenement/sonic-city-kortrijk-4/
LOCATION:Depart\, Nelson Mandelaplein 18\, Kortrijk\, 8500\, Belgium
END:VEVENT
BEGIN:VEVENT
DTSTART;TZID=Europe/Brussels:20231111T200000
DTEND;TZID=Europe/Brussels:20231111T223000
DTSTAMP:20260423T123317
CREATED:20230815T101417Z
LAST-MODIFIED:20231111T094349Z
UID:123450-1699732800-1699741800@musicinbelgium.net
SUMMARY:EXPLOSIONS IN THE SKY & TAKH (Borgerhout)
DESCRIPTION:Prix: 33\,00 EUR / 31\,00 EUR \nÀ l’affiche:\n– Explosions In The Sky\n– TAKH
URL:https://musicinbelgium.net/evenement/explosions-in-the-sky-borgerhout-2/
LOCATION:De Roma\, Turnhoutsebaan 327\, Borgerhout\, 2140\, Belgium
END:VEVENT
BEGIN:VEVENT
DTSTART;TZID=Europe/Brussels:20231111T200000
DTEND;TZID=Europe/Brussels:20231111T223000
DTSTAMP:20260423T123317
CREATED:20231003T161818Z
LAST-MODIFIED:20231003T161818Z
UID:124891-1699732800-1699741800@musicinbelgium.net
SUMMARY:CHOUK BWA AND THE ANGSTRÖMERS & AVALANCHE KAITO (Bruxelles)
DESCRIPTION:Prix: 20\,50 EUR (prévente: 17\,50 EUR)\nBota’Carte: 14\,50 EUR \nÀ l’affiche:\n– Chouk Bwa & The Angströmers\n– Avalanche Kaito
URL:https://musicinbelgium.net/evenement/chouk-bwa-and-the-angstromers-avalanche-kaito-bruxelles/
LOCATION:Le Botanique\, Rotonde\, rue Royale 236\, Bruxelles\, 1000\, Belgium
END:VEVENT
BEGIN:VEVENT
DTSTART;TZID=Europe/Brussels:20231111T200000
DTEND;TZID=Europe/Brussels:20231111T233000
DTSTAMP:20260423T123317
CREATED:20230821T103616Z
LAST-MODIFIED:20231111T094135Z
UID:123693-1699732800-1699745400@musicinbelgium.net
SUMMARY:KLONE & HAMASAARI & BLACK PAPER PLANE (Ittre)
DESCRIPTION:Prix: 22\,00 EUR (prévente) \nÀ l’affiche:\n– Klone\n– HamaSaari\n– Black Paper Plane
URL:https://musicinbelgium.net/evenement/klone-hamasaari-black-paper-plane-ittre/
LOCATION:Zik-Zak\, Rue de Tubize 28\, Ittre\, 1460\, Belgium
END:VEVENT
BEGIN:VEVENT
DTSTART;TZID=Europe/Brussels:20231112T131000
DTEND;TZID=Europe/Brussels:20231112T235900
DTSTAMP:20260423T123317
CREATED:20230817T224417Z
LAST-MODIFIED:20231104T123808Z
UID:123589-1699794600-1699833540@musicinbelgium.net
SUMMARY:SONIC CITY (Kortrijk)
DESCRIPTION:Prix:\nJour (DI): 45\,00 EUR (prévente) – 42\,00 EUR (Wild Card)\nCombi 3 jours (VE-SA-DI): 95\,00 EUR (prévente) – 92\,00 EUR (Wild Card)\nCombi 2 jours (SA-DI): 75\,00 EUR (prévente) – 72\,00 EUR (Wild Card) \nÀ l’affiche: (ordre alphabétique)\n– Andy Stott\n– Bitchin Bajas\n– CumGirl8\n– Decisive Pink\n– Deeper\n– Dream Wife\n– Fat Dog\n– Joanna Sternberg\n– Moin\n– Rahill\n– Timber Timbre\n– Tom Skinner\n– University\n– U.S. Girls\n– Water From Your Eyes\n– Willow Parlo\n– Witch
URL:https://musicinbelgium.net/evenement/sonic-city-kortrijk-5/
LOCATION:Depart\, Nelson Mandelaplein 18\, Kortrijk\, 8500\, Belgium
END:VEVENT
BEGIN:VEVENT
DTSTART;TZID=Europe/Brussels:20231112T191500
DTEND;TZID=Europe/Brussels:20231112T230000
DTSTAMP:20260423T123317
CREATED:20230827T211121Z
LAST-MODIFIED:20231112T101145Z
UID:123905-1699816500-1699830000@musicinbelgium.net
SUMMARY:QUEENS OF THE STONE AGE & The CHATS & DEEP TAN (Merksem)
DESCRIPTION:Prix: 66\,78 EUR / 62\,30 EUR / 39\,90 EUR \nÀ l’affiche:\n– Queens Of The Stone Age\n– The Chats\n– Deep Tan \n‘The End Is Nero’
URL:https://musicinbelgium.net/evenement/queens-of-the-stone-age-merksem/
LOCATION:AFAS Dome\, Schijnpoortweg 119\, Merksem\, 2170\, Belgium
END:VEVENT
BEGIN:VEVENT
DTSTART;TZID=Europe/Brussels:20231112T193000
DTEND;TZID=Europe/Brussels:20231112T223000
DTSTAMP:20260423T123317
CREATED:20230519T112616Z
LAST-MODIFIED:20231112T100312Z
UID:121354-1699817400-1699828200@musicinbelgium.net
SUMMARY:RIVAL SONS & L.A. EDWARDS (Bruxelles)
DESCRIPTION:Prix: 35\,00 EUR (prévente) \nÀ l’affiche:\n– Rival Sons\n– L.A. Edwards
URL:https://musicinbelgium.net/evenement/rival-sons-bruxelles/
LOCATION:AB Salle\, bd Anspach 110\, Bruxelles\, 1000\, Belgium
CATEGORIES:!!!SOLD OUT!!!
END:VEVENT
BEGIN:VEVENT
DTSTART;TZID=Europe/Brussels:20231112T200000
DTEND;TZID=Europe/Brussels:20231112T221500
DTSTAMP:20260423T123317
CREATED:20230815T101613Z
LAST-MODIFIED:20231112T100850Z
UID:123452-1699819200-1699827300@musicinbelgium.net
SUMMARY:Matt MAESON & Brennan SMILEY (Borgerhout)
DESCRIPTION:Prix: 14\,00 EUR / 12\,00 EUR \nÀ l’affiche:\n– Matt Maeson\n– Brennan Smiley
URL:https://musicinbelgium.net/evenement/matt-maeson-borgerhout/
LOCATION:De Roma (Foyer)\, Turnhoutsebaan 286\, Borgerhout\, 2140\, Belgium
CATEGORIES:!!!SOLD OUT!!!
END:VEVENT
BEGIN:VEVENT
DTSTART;TZID=Europe/Brussels:20231112T200000
DTEND;TZID=Europe/Brussels:20231112T223000
DTSTAMP:20260423T123317
CREATED:20230724T220406Z
LAST-MODIFIED:20230724T220406Z
UID:122826-1699819200-1699828200@musicinbelgium.net
SUMMARY:Juan WAUTERS (Bruxelles)
DESCRIPTION:Prix: 18\,50 EUR (prévente: 15\,50 EUR)\nBota’Carte: 12\,50 EUR \nÀ l’affiche:\n– Juan Wauters
URL:https://musicinbelgium.net/evenement/juan-wauters-bruxelles-3/
LOCATION:Le Botanique\, Witloof Bar\, rue Royale 236\, Bruxelles\, 1000\, Belgium
END:VEVENT
BEGIN:VEVENT
DTSTART;TZID=Europe/Brussels:20231112T200000
DTEND;TZID=Europe/Brussels:20231112T223000
DTSTAMP:20260423T123317
CREATED:20230727T212746Z
LAST-MODIFIED:20231112T100530Z
UID:122961-1699819200-1699828200@musicinbelgium.net
SUMMARY:WOOLVS & UWASE (Bruxelles)
DESCRIPTION:Prix: 17\,00 EUR \nÀ l’affiche:\n– Woolvs\n– Uwase
URL:https://musicinbelgium.net/evenement/woolvs-bruxelles/
LOCATION:AB Club\, bd Anspach 110\, Bruxelles\, 1000\, Belgium
END:VEVENT
BEGIN:VEVENT
DTSTART;TZID=Europe/Brussels:20231112T200000
DTEND;TZID=Europe/Brussels:20231112T223000
DTSTAMP:20260423T123317
CREATED:20231105T112518Z
LAST-MODIFIED:20231105T112518Z
UID:125714-1699819200-1699828200@musicinbelgium.net
SUMMARY:Attila CSIHAR & Yuko ARAKI (Bruxelles)
DESCRIPTION:Prix: 24\,50 EUR (prévente: 22\,50 EUR)\nBota’Carte: 19\,50 EUR \nÀ l’affiche:\n– Attila Csihar\n– Yuko Araki
URL:https://musicinbelgium.net/evenement/attila-csihar-yuko-araki-bruxelles/
LOCATION:Le Botanique\, Rotonde\, rue Royale 236\, Bruxelles\, 1000\, Belgium
END:VEVENT
BEGIN:VEVENT
DTSTART;TZID=Europe/Brussels:20231112T204500
DTEND;TZID=Europe/Brussels:20231112T230000
DTSTAMP:20260423T123317
CREATED:20230827T211350Z
LAST-MODIFIED:20231112T100713Z
UID:123907-1699821900-1699830000@musicinbelgium.net
SUMMARY:GRETA VAN FLEET (Bruxelles)
DESCRIPTION:Prix: 51\,40 EUR / 45\,80 EUR \nÀ l’affiche:\n– Greta Van Fleet \n‘Starcatcher World Tour’
URL:https://musicinbelgium.net/evenement/greta-van-fleet-bruxelles/
LOCATION:Forest National\, Avenue Victor Rousseau 208\, Bruxelles\, 1000\, Belgium
CATEGORIES:!!!SOLD OUT!!!
END:VEVENT
BEGIN:VEVENT
DTSTART;TZID=Europe/Brussels:20231113T200000
DTEND;TZID=Europe/Brussels:20231113T223000
DTSTAMP:20260423T123317
CREATED:20230724T220553Z
LAST-MODIFIED:20231113T074801Z
UID:122828-1699905600-1699914600@musicinbelgium.net
SUMMARY:The MAGNETIC FIELDS & CONCHUR WHITE (Bruxelles)
DESCRIPTION:Prix: 29\,50 EUR (prévente: 26\,50 EUR)\nBota’Carte: 23\,50 EUR \nÀ l’affiche:\n– The Magnetic Fields\n– Conchur White
URL:https://musicinbelgium.net/evenement/the-magnetic-fields-bruxelles/
LOCATION:Le Botanique\, Orangerie\, rue Royale 236\, Bruxelles\, 1000\, Belgium
END:VEVENT
BEGIN:VEVENT
DTSTART;TZID=Europe/Brussels:20231113T200000
DTEND;TZID=Europe/Brussels:20231113T223000
DTSTAMP:20260423T123317
CREATED:20230726T220816Z
LAST-MODIFIED:20231113T074932Z
UID:122909-1699905600-1699914600@musicinbelgium.net
SUMMARY:NOURISHED BY TIME & Senna JMB (Bruxelles)
DESCRIPTION:Prix: 18\,50 EUR (prévente: 15\,50 EUR)\nBota’Carte: 12\,50 EUR \nÀ l’affiche:\n– Nourished By Time\n– Senna JMB
URL:https://musicinbelgium.net/evenement/nourished-by-time-bruxelles/
LOCATION:Le Botanique\, Rotonde\, rue Royale 236\, Bruxelles\, 1000\, Belgium
END:VEVENT
BEGIN:VEVENT
DTSTART;TZID=Europe/Brussels:20231113T200000
DTEND;TZID=Europe/Brussels:20231113T223000
DTSTAMP:20260423T123317
CREATED:20231003T162111Z
LAST-MODIFIED:20231113T075043Z
UID:124893-1699905600-1699914600@musicinbelgium.net
SUMMARY:7EBRA & WHOMAN (Bruxelles)
DESCRIPTION:Prix: 10\,00 EUR\nBota’Carte: 7\,00 EUR \nÀ l’affiche:\n– 7ebra\n– Whoman
URL:https://musicinbelgium.net/evenement/7ebra-bruxelles/
LOCATION:Le Botanique\, Witloof Bar\, rue Royale 236\, Bruxelles\, 1000\, Belgium
END:VEVENT
BEGIN:VEVENT
DTSTART;TZID=Europe/Brussels:20231113T200000
DTEND;TZID=Europe/Brussels:20231113T223000
DTSTAMP:20260423T123317
CREATED:20231007T101539Z
LAST-MODIFIED:20231007T101539Z
UID:125021-1699905600-1699914600@musicinbelgium.net
SUMMARY:GOOSE (US) (Bruxelles)
DESCRIPTION:Prix: 21\,00 EUR (prévente) \nÀ l’affiche:\n– Goose (US)
URL:https://musicinbelgium.net/evenement/goose-us-bruxelles/
LOCATION:AB Club\, bd Anspach 110\, Bruxelles\, 1000\, Belgium
CATEGORIES:!!!SOLD OUT!!!
END:VEVENT
BEGIN:VEVENT
DTSTART;TZID=Europe/Brussels:20231113T200000
DTEND;TZID=Europe/Brussels:20231113T230000
DTSTAMP:20260423T123317
CREATED:20231029T154916Z
LAST-MODIFIED:20231113T075258Z
UID:125553-1699905600-1699916400@musicinbelgium.net
SUMMARY:Steph STRINGS & UNA (Borgerhout)
DESCRIPTION:Prix: 12\,00 EUR / 10\,00 EUR \nÀ l’affiche:\n– Steph Strings\n– UNA
URL:https://musicinbelgium.net/evenement/steph-strings-borgerhout/
LOCATION:De Roma (Foyer)\, Turnhoutsebaan 286\, Borgerhout\, 2140\, Belgium
END:VEVENT
BEGIN:VEVENT
DTSTART;TZID=Europe/Brussels:20231113T203000
DTEND;TZID=Europe/Brussels:20231113T230000
DTSTAMP:20260423T123317
CREATED:20230811T215914Z
LAST-MODIFIED:20231113T125554Z
UID:123273-1699907400-1699916400@musicinbelgium.net
SUMMARY:ABSYNTHE MINDED & WOOLVS (Leuven)
DESCRIPTION:Prix: 27\,00 EUR (prévente: 24\,00 EUR) \nÀ l’affiche:\n– Absynthe Minded\n– Woolvs
URL:https://musicinbelgium.net/evenement/absynthe-minded-leuven-2/
LOCATION:Het Depot\, Martelarenplein 12\, Leuven\, 3000\, Belgium
END:VEVENT
BEGIN:VEVENT
DTSTART;TZID=Europe/Brussels:20231113T210000
DTEND;TZID=Europe/Brussels:20231113T230000
DTSTAMP:20260423T123317
CREATED:20231113T125911Z
LAST-MODIFIED:20231113T125911Z
UID:125900-1699909200-1699916400@musicinbelgium.net
SUMMARY:ITCHES & NICE GUISE (Bruxelles)
DESCRIPTION:Prix: Gratuit \nÀ l’affiche:\n– Itches\n– Nice Guise
URL:https://musicinbelgium.net/evenement/itches-nice-guise-bruxelles/
LOCATION:Chaff\, Place du Jeu de Balle 21\, Bruxelles\, 1000\, Belgium
END:VEVENT
BEGIN:VEVENT
DTSTART;TZID=Europe/Brussels:20231114T200000
DTEND;TZID=Europe/Brussels:20231114T223000
DTSTAMP:20260423T123317
CREATED:20230326T210559Z
LAST-MODIFIED:20231113T162436Z
UID:119653-1699992000-1700001000@musicinbelgium.net
SUMMARY:BLANCO WHITE & Jasmine JETHWA (Bruxelles)
DESCRIPTION:Prix: 21\,50 EUR (prévente: 18\,50 EUR)\nBota’Carte: 15\,50 EUR \nÀ l’affiche:\n– Blanco White\n– Jasmine Jethwa
URL:https://musicinbelgium.net/evenement/blanco-white-bruxelles-2/
LOCATION:Le Botanique\, Orangerie\, rue Royale 236\, Bruxelles\, 1000\, Belgium
CATEGORIES:!!!SOLD OUT!!!
END:VEVENT
BEGIN:VEVENT
DTSTART;TZID=Europe/Brussels:20231114T200000
DTEND;TZID=Europe/Brussels:20231114T223000
DTSTAMP:20260423T123317
CREATED:20230724T220756Z
LAST-MODIFIED:20230724T220756Z
UID:122830-1699992000-1700001000@musicinbelgium.net
SUMMARY:Laura MISCH (Bruxelles)
DESCRIPTION:Prix: 17\,50 EUR (prévente: 14\,50 EUR)\nBota’Carte: 11\,50 EUR \nÀ l’affiche:\n– Laura Misch
URL:https://musicinbelgium.net/evenement/laura-misch-bruxelles-2/
LOCATION:Le Botanique\, Witloof Bar\, rue Royale 236\, Bruxelles\, 1000\, Belgium
END:VEVENT
END:VCALENDAR