
BEGIN:VCALENDAR
VERSION:2.0
PRODID:-//Music In Belgium - ECPv6.15.20//NONSGML v1.0//EN
CALSCALE:GREGORIAN
METHOD:PUBLISH
X-ORIGINAL-URL:https://musicinbelgium.net
X-WR-CALDESC:Events for Music In Belgium
REFRESH-INTERVAL;VALUE=DURATION:PT1H
X-Robots-Tag:noindex
X-PUBLISHED-TTL:PT1H
BEGIN:VTIMEZONE
TZID:Europe/Brussels
BEGIN:DAYLIGHT
TZOFFSETFROM:+0100
TZOFFSETTO:+0200
TZNAME:CEST
DTSTART:20250330T010000
END:DAYLIGHT
BEGIN:STANDARD
TZOFFSETFROM:+0200
TZOFFSETTO:+0100
TZNAME:CET
DTSTART:20251026T010000
END:STANDARD
BEGIN:DAYLIGHT
TZOFFSETFROM:+0100
TZOFFSETTO:+0200
TZNAME:CEST
DTSTART:20260329T010000
END:DAYLIGHT
BEGIN:STANDARD
TZOFFSETFROM:+0200
TZOFFSETTO:+0100
TZNAME:CET
DTSTART:20261025T010000
END:STANDARD
BEGIN:DAYLIGHT
TZOFFSETFROM:+0100
TZOFFSETTO:+0200
TZNAME:CEST
DTSTART:20270328T010000
END:DAYLIGHT
BEGIN:STANDARD
TZOFFSETFROM:+0200
TZOFFSETTO:+0100
TZNAME:CET
DTSTART:20271031T010000
END:STANDARD
END:VTIMEZONE
BEGIN:VEVENT
DTSTART;TZID=Europe/Brussels:20260429T200000
DTEND;TZID=Europe/Brussels:20260429T223000
DTSTAMP:20260425T142908
CREATED:20260112T103431Z
LAST-MODIFIED:20260112T103431Z
UID:154423-1777492800-1777501800@musicinbelgium.net
SUMMARY:TRIGGERFINGER (Bruxelles)
DESCRIPTION:Prix: 38\,00 EUR (prévente: 37\,00 EUR) \nÀ l’affiche:\n– Triggerfinger
URL:https://musicinbelgium.net/evenement/triggerfinger-bruxelles-3/
LOCATION:AB Salle\, bd Anspach 110\, Bruxelles\, 1000\, Belgium
END:VEVENT
BEGIN:VEVENT
DTSTART;TZID=Europe/Brussels:20260429T200000
DTEND;TZID=Europe/Brussels:20260429T223000
DTSTAMP:20260425T142908
CREATED:20260112T103619Z
LAST-MODIFIED:20260112T103619Z
UID:154425-1777492800-1777501800@musicinbelgium.net
SUMMARY:SEEFEEL (Bruxelles)
DESCRIPTION:Prix: 26\,00 EUR \nÀ l’affiche:\n– Seefeel
URL:https://musicinbelgium.net/evenement/seefeel-bruxelles/
LOCATION:AB Club\, bd Anspach 110\, Bruxelles\, 1000\, Belgium
END:VEVENT
BEGIN:VEVENT
DTSTART;TZID=Europe/Brussels:20260429T200000
DTEND;TZID=Europe/Brussels:20260429T223000
DTSTAMP:20260425T142908
CREATED:20260119T215812Z
LAST-MODIFIED:20260119T215812Z
UID:154896-1777492800-1777501800@musicinbelgium.net
SUMMARY:OPROER (Borgerhout)
DESCRIPTION:Prix: 22\,00 EUR (prévente: 20\,50 EUR)\nMoins de 26 ans: 18\,50 EUR \nÀ l’affiche:\n– Oproer
URL:https://musicinbelgium.net/evenement/oproer-borgerhout/
LOCATION:Trix Club\, Noordersingel 28-30\, Borgerhout\, 2140\, Belgium
END:VEVENT
BEGIN:VEVENT
DTSTART;TZID=Europe/Brussels:20260429T200000
DTEND;TZID=Europe/Brussels:20260429T230000
DTSTAMP:20260425T142908
CREATED:20260124T095558Z
LAST-MODIFIED:20260124T095558Z
UID:155366-1777492800-1777503600@musicinbelgium.net
SUMMARY:The HAUNTED YOUTH (Bruxelles)
DESCRIPTION:Prix:  \nÀ l’affiche:\n– The Haunted Youth
URL:https://musicinbelgium.net/evenement/the-haunted-youth-bruxelles-3/
LOCATION:Cirque Royal\, rue de l'Enseignement 81\, Bruxelles\, 1000\, Belgium
CATEGORIES:!!!SOLD OUT!!!
END:VEVENT
BEGIN:VEVENT
DTSTART;TZID=Europe/Brussels:20260429T200000
DTEND;TZID=Europe/Brussels:20260429T230000
DTSTAMP:20260425T142908
CREATED:20260202T004111Z
LAST-MODIFIED:20260202T004111Z
UID:155958-1777492800-1777503600@musicinbelgium.net
SUMMARY:VASTUM (Namur)
DESCRIPTION:Prix: 25\,00 EUR (prévente: 20\,00 EUR) \nÀ l’affiche:\n– Vastum
URL:https://musicinbelgium.net/evenement/vastum-namur/
LOCATION:Le Belvédère\, Avenue Marie d'Artois 1\, Namur\, 5000\, Belgium
END:VEVENT
BEGIN:VEVENT
DTSTART;TZID=Europe/Brussels:20260429T200000
DTEND;TZID=Europe/Brussels:20260429T230000
DTSTAMP:20260425T142908
CREATED:20260408T224338Z
LAST-MODIFIED:20260408T224338Z
UID:157819-1777492800-1777503600@musicinbelgium.net
SUMMARY:L.A. WITCH + GROS COEUR (Brugge)
DESCRIPTION:Prix: 20\,00 EUR (prévente: 17\,00 EUR)\nPrikkaart: 13\,00 EUR \nA l’affiche:\n– L.A. Witch\n– Gros Coeur
URL:https://musicinbelgium.net/evenement/l-a-witch-gros-coeur-brugge/
LOCATION:Cactus Café\, Bargeweg 10\, Brugge\, 8000\, Belgium
END:VEVENT
BEGIN:VEVENT
DTSTART;TZID=Europe/Brussels:20260429T203000
DTEND;TZID=Europe/Brussels:20260429T213000
DTSTAMP:20260425T142908
CREATED:20260119T215614Z
LAST-MODIFIED:20260119T215614Z
UID:154894-1777494600-1777498200@musicinbelgium.net
SUMMARY:L.A.SAGNE (Borgerhout)
DESCRIPTION:Prix: 5\,00 EUR \nÀ l’affiche:\n– L.A.Sagne
URL:https://musicinbelgium.net/evenement/l-a-sagne-borgerhout/
LOCATION:Trix Café\, Noordersingel 28-30\, Borgerhout\, 2140\, Belgium
END:VEVENT
BEGIN:VEVENT
DTSTART;TZID=Europe/Brussels:20260430T190000
DTEND;TZID=Europe/Brussels:20260430T233000
DTSTAMP:20260425T142908
CREATED:20260417T172522Z
LAST-MODIFIED:20260417T172522Z
UID:158056-1777575600-1777591800@musicinbelgium.net
SUMMARY:HELL ON AIR (Diest)
DESCRIPTION:Prix:\nVendredi 1er mai: 10\,25 EUR\nSamedi 2 mai: 33\,31 EUR\nDimanche 3 mai: 58\,94 EUR\nCombiticket: 87\,13 EUR \nÀ l’affiche :\n– Hurricane Season\n– DJ Skullz / Cosmismasseur
URL:https://musicinbelgium.net/evenement/hell-on-air-diest/
LOCATION:OC Molenhuis\, Dorpsstraat 45\, Molenstede (Diest)\, 3294\, Belgium
ATTACH;FMTTYPE=image/webp:https://musicinbelgium.net/wp-content/uploads/2026/04/HellOnAir.webp
END:VEVENT
BEGIN:VEVENT
DTSTART;TZID=Europe/Brussels:20260430T193000
DTEND;TZID=Europe/Brussels:20260430T220000
DTSTAMP:20260425T142908
CREATED:20260201T085247Z
LAST-MODIFIED:20260201T085247Z
UID:155713-1777577400-1777586400@musicinbelgium.net
SUMMARY:Niels ORENS (Bruxelles)
DESCRIPTION:Prix: 21\,50 EUR (prévente: 18\,50 EUR)\nBota’Carte: 15\,50 EUR \nÀ l’affiche:\n– Niels Orens
URL:https://musicinbelgium.net/evenement/niels-orens-bruxelles/
LOCATION:Le Botanique\, Rotonde\, rue Royale 236\, Bruxelles\, 1000\, Belgium
END:VEVENT
BEGIN:VEVENT
DTSTART;TZID=Europe/Brussels:20260430T193000
DTEND;TZID=Europe/Brussels:20260430T220000
DTSTAMP:20260425T142908
CREATED:20260404T094905Z
LAST-MODIFIED:20260404T094905Z
UID:157465-1777577400-1777586400@musicinbelgium.net
SUMMARY:Elle COVES (Bruxelles)
DESCRIPTION:Prix: 20\,50 EUR (prévente: 17\,50 EUR)\nBota’Carte: 14\,50 EUR \nÀ l’affiche:\n– Elle Coves
URL:https://musicinbelgium.net/evenement/elle-coves-bruxelles/
LOCATION:Le Botanique\, Witloof Bar\, rue Royale 236\, Bruxelles\, 1000\, Belgium
END:VEVENT
BEGIN:VEVENT
DTSTART;TZID=Europe/Brussels:20260430T200000
DTEND;TZID=Europe/Brussels:20260430T223000
DTSTAMP:20260425T142908
CREATED:20260112T103818Z
LAST-MODIFIED:20260112T103818Z
UID:154427-1777579200-1777588200@musicinbelgium.net
SUMMARY:ADMIRAL FREEBEE (Bruxelles)
DESCRIPTION:Prix: 33\,00 EUR (prévente: 32\,00 EUR) \nÀ l’affiche:\n– Admiral Freebee
URL:https://musicinbelgium.net/evenement/admiral-freebee-bruxelles-5/
LOCATION:AB Salle\, bd Anspach 110\, Bruxelles\, 1000\, Belgium
END:VEVENT
BEGIN:VEVENT
DTSTART;TZID=Europe/Brussels:20260430T200000
DTEND;TZID=Europe/Brussels:20260430T223000
DTSTAMP:20260425T142908
CREATED:20260112T104514Z
LAST-MODIFIED:20260112T104548Z
UID:154429-1777579200-1777588200@musicinbelgium.net
SUMMARY:Michelle DAVID & The TRUE-TONES (Bruxelles)
DESCRIPTION:Prix: 17\,00 EUR \nÀ l’affiche:\n– Michelle David & The True-Tones
URL:https://musicinbelgium.net/evenement/michelle-david-the-true-tones-bruxelles/
LOCATION:AB Club\, bd Anspach 110\, Bruxelles\, 1000\, Belgium
END:VEVENT
BEGIN:VEVENT
DTSTART;TZID=Europe/Brussels:20260430T200000
DTEND;TZID=Europe/Brussels:20260430T230000
DTSTAMP:20260425T142908
CREATED:20260121T213340Z
LAST-MODIFIED:20260121T213340Z
UID:155056-1777579200-1777590000@musicinbelgium.net
SUMMARY:HIGH HI (Borgerhout)
DESCRIPTION:Prix: 27\,00 EUR (prévente: 25\,00 EUR) \nÀ l’affiche:\n– High Hi
URL:https://musicinbelgium.net/evenement/high-hi-borgerhout-3/
LOCATION:De Roma\, Turnhoutsebaan 327\, Borgerhout\, 2140\, Belgium
END:VEVENT
BEGIN:VEVENT
DTSTART;TZID=Europe/Brussels:20260430T200000
DTEND;TZID=Europe/Brussels:20260430T230000
DTSTAMP:20260425T142908
CREATED:20260124T095739Z
LAST-MODIFIED:20260124T095739Z
UID:155368-1777579200-1777590000@musicinbelgium.net
SUMMARY:The HAUNTED YOUTH (Bruxelles)
DESCRIPTION:Prix:  \nÀ l’affiche:\n– The Haunted Youth
URL:https://musicinbelgium.net/evenement/the-haunted-youth-bruxelles-4/
LOCATION:Cirque Royal\, rue de l'Enseignement 81\, Bruxelles\, 1000\, Belgium
CATEGORIES:!!!SOLD OUT!!!
END:VEVENT
BEGIN:VEVENT
DTSTART;TZID=Europe/Brussels:20260501T120000
DTEND;TZID=Europe/Brussels:20260501T233000
DTSTAMP:20260425T142908
CREATED:20260417T175527Z
LAST-MODIFIED:20260417T175527Z
UID:158063-1777636800-1777678200@musicinbelgium.net
SUMMARY:HELL ON AIR (Diest)
DESCRIPTION:Prix:\nVendredi 1er mai: 10\,25 EUR\nSamedi 2 mai: 33\,31 EUR\nDimanche 3 mai: 58\,94 EUR\nCombiticket: 87\,13 EUR \nÀ l’affiche :\n– 13:00 Astrodriver\n– 14:00 Funeraria\n– 15:00 Storm Upon The Masses\n– 16:00 Solifugia\n– 17:00 Artefacts\n– 18:15 Alcatraz Bash Finalist 1: Wijf\n– 19:10 Alcatraz Bash Finalist 2: Dalver\n– 20:00 Alcatraz Bash Finalist 3: Death Fury\n– 20:50 Alcatraz Bash Finalist 4: Trekhaak\n– 21:40 Alcatraz Bash Finalist 5: Hope As A Weapon\n– 22:40 Fractured Insanity\n– 23:50 Krashkarma
URL:https://musicinbelgium.net/evenement/hell-on-air-diest-4/
LOCATION:OC Molenhuis\, Dorpsstraat 45\, Molenstede (Diest)\, 3294\, Belgium
ATTACH;FMTTYPE=image/webp:https://musicinbelgium.net/wp-content/uploads/2026/04/HellOnAir.webp
END:VEVENT
BEGIN:VEVENT
DTSTART;TZID=Europe/Brussels:20260501T150000
DTEND;TZID=Europe/Brussels:20260501T233000
DTSTAMP:20260425T142908
CREATED:20260323T173853Z
LAST-MODIFIED:20260323T173853Z
UID:157251-1777647600-1777678200@musicinbelgium.net
SUMMARY:ROOTS & ROSES FESTIVAL (Lessines)
DESCRIPTION:Prix:\nJour: 45\,00 EUR (prévente jusqu’au 15 avril minuit) \nÀ l’affiche :\n– Luther Dickinson & JD SIMO\n– Robert Finley\n– The Buttshakers\n– Thomas Frank Hopper\n– Eddy Smith & the 507\n– Jessie Lee & the Alchemists\n– Sergi Estella one man band\n– Big Dave & the Dutchmen\n– The Animeros\n– Cabana Belgicana\n– Connolly Hayes\n– Jovin Webb
URL:https://musicinbelgium.net/evenement/roots-roses-festival-lessines-2/
LOCATION:Roots & Roses Festival\, Ancien Chemin d'Ollignies 10\, Lessines\, 7860\, Belgium
ATTACH;FMTTYPE=image/jpeg:https://musicinbelgium.net/wp-content/uploads/2026/03/Focus-Roots-neutre-300x234-1.jpg
END:VEVENT
BEGIN:VEVENT
DTSTART;TZID=Europe/Brussels:20260501T193000
DTEND;TZID=Europe/Brussels:20260501T220000
DTSTAMP:20260425T142908
CREATED:20260404T095426Z
LAST-MODIFIED:20260404T095426Z
UID:157469-1777663800-1777672800@musicinbelgium.net
SUMMARY:SABABA 5 (Bruxelles)
DESCRIPTION:Prix: 21\,00 EUR (prévente: 18\,00 EUR)\nBota’Carte: 15\,00 EUR \nÀ l’affiche:\n– Sababa 5
URL:https://musicinbelgium.net/evenement/sababa-5-bruxelles/
LOCATION:Le Botanique\, Witloof Bar\, rue Royale 236\, Bruxelles\, 1000\, Belgium
END:VEVENT
BEGIN:VEVENT
DTSTART;TZID=Europe/Brussels:20260501T200000
DTEND;TZID=Europe/Brussels:20260501T223000
DTSTAMP:20260425T142908
CREATED:20260119T220007Z
LAST-MODIFIED:20260119T220007Z
UID:154898-1777665600-1777674600@musicinbelgium.net
SUMMARY:YOUNISS (Borgerhout)
DESCRIPTION:Prix: 19\,00 EUR (prévente: 17\,50 EUR)\nMoins de 26 ans: 15\,50 EUR \nÀ l’affiche:\n– Youniss
URL:https://musicinbelgium.net/evenement/youniss-borgerhout/
LOCATION:Trix Bar\, Noordersingel 28-30\, Borgerhout\, 2140\, Belgium
END:VEVENT
BEGIN:VEVENT
DTSTART;TZID=Europe/Brussels:20260501T200000
DTEND;TZID=Europe/Brussels:20260501T230000
DTSTAMP:20260425T142908
CREATED:20260121T213601Z
LAST-MODIFIED:20260121T213601Z
UID:155058-1777665600-1777676400@musicinbelgium.net
SUMMARY:Sam BETTENS (Borgerhout)
DESCRIPTION:Prix: 31\,00 EUR (prévente: 29\,00 EUR) \nÀ l’affiche:\n– Sam Bettens
URL:https://musicinbelgium.net/evenement/sam-bettens-borgerhout/
LOCATION:De Roma\, Turnhoutsebaan 327\, Borgerhout\, 2140\, Belgium
END:VEVENT
BEGIN:VEVENT
DTSTART;TZID=Europe/Brussels:20260501T200000
DTEND;TZID=Europe/Brussels:20260501T230000
DTSTAMP:20260425T142908
CREATED:20260124T095856Z
LAST-MODIFIED:20260124T095856Z
UID:155370-1777665600-1777676400@musicinbelgium.net
SUMMARY:The HAUNTED YOUTH (Bruxelles)
DESCRIPTION:Prix:  \nÀ l’affiche:\n– The Haunted Youth
URL:https://musicinbelgium.net/evenement/the-haunted-youth-bruxelles-5/
LOCATION:Cirque Royal\, rue de l'Enseignement 81\, Bruxelles\, 1000\, Belgium
CATEGORIES:!!!SOLD OUT!!!
END:VEVENT
BEGIN:VEVENT
DTSTART;TZID=Europe/Brussels:20260501T200000
DTEND;TZID=Europe/Brussels:20260501T230000
DTSTAMP:20260425T142908
CREATED:20260201T231716Z
LAST-MODIFIED:20260201T231716Z
UID:155886-1777665600-1777676400@musicinbelgium.net
SUMMARY:HYPER GAL (Bruxelles)
DESCRIPTION:Prix: 15\,00 EUR \nÀ l’affiche:\n– Hyper Gal
URL:https://musicinbelgium.net/evenement/hyper-gal-bruxelles/
LOCATION:Magasin 4\, Rue de l'Entrepôt 7\, Bruxelles\, 1020\, Belgium
END:VEVENT
BEGIN:VEVENT
DTSTART;TZID=Europe/Brussels:20260501T203000
DTEND;TZID=Europe/Brussels:20260501T230000
DTSTAMP:20260425T142908
CREATED:20260118T204811Z
LAST-MODIFIED:20260118T204811Z
UID:154751-1777667400-1777676400@musicinbelgium.net
SUMMARY:VIVE LA FÊTE (Leuven)
DESCRIPTION:Prix: 29\,00 EUR (prévente: 26\,00 EUR) \nÀ l’affiche:\n– Vive La Fête
URL:https://musicinbelgium.net/evenement/vive-la-fete-leuven-2/
LOCATION:Het Depot\, Martelarenplein 12\, Leuven\, 3000\, Belgium
END:VEVENT
BEGIN:VEVENT
DTSTART;TZID=Europe/Brussels:20260502T120000
DTEND;TZID=Europe/Brussels:20260502T233000
DTSTAMP:20260425T142908
CREATED:20260417T174408Z
LAST-MODIFIED:20260417T174408Z
UID:158066-1777723200-1777764600@musicinbelgium.net
SUMMARY:HELL ON AIR (Diest)
DESCRIPTION:Prix:\nVendredi 1er mai: 10\,25 EUR\nSamedi 2 mai: 33\,31 EUR\nDimanche 3 mai: 58\,94 EUR\nCombiticket: 87\,13 EUR \nÀ l’affiche :\n– 13:00 Restless (Tribute to Accept)\n– 14:30 Dallas 1PM (Tribute to Saxon)\n– 16:00 Berserker (Tribute to Amon Amarth)\n– 17:30 Concrete Priest (Tribute to Judas Priest)\n– 19:00 Welcome To My Nightmare (Tribute to Alice Cooper)\n– 20:45 Manomore (Tribute to Manowar)\n– 22:30 Up The Irons (Tribute to Iron Maiden)
URL:https://musicinbelgium.net/evenement/hell-on-air-diest-2/
LOCATION:OC Molenhuis\, Dorpsstraat 45\, Molenstede (Diest)\, 3294\, Belgium
ATTACH;FMTTYPE=image/webp:https://musicinbelgium.net/wp-content/uploads/2026/04/HellOnAir.webp
END:VEVENT
BEGIN:VEVENT
DTSTART;TZID=Europe/Brussels:20260502T200000
DTEND;TZID=Europe/Brussels:20260502T223000
DTSTAMP:20260425T142908
CREATED:20260108T232546Z
LAST-MODIFIED:20260108T232546Z
UID:154211-1777752000-1777761000@musicinbelgium.net
SUMMARY:ML (Bruxelles)
DESCRIPTION:Prix: 20\,50 EUR (prévente: 17\,50 EUR)\nBota’Carte: 14\,50 EUR \nÀ l’affiche:\n– ML
URL:https://musicinbelgium.net/evenement/ml-bruxelles/
LOCATION:Le Botanique\, Rotonde\, rue Royale 236\, Bruxelles\, 1000\, Belgium
END:VEVENT
BEGIN:VEVENT
DTSTART;TZID=Europe/Brussels:20260502T200000
DTEND;TZID=Europe/Brussels:20260502T230000
DTSTAMP:20260425T142908
CREATED:20260121T213757Z
LAST-MODIFIED:20260121T213757Z
UID:155060-1777752000-1777762800@musicinbelgium.net
SUMMARY:FISCHER-Z (Borgerhout)
DESCRIPTION:Prix: 39\,00 EUR (prévente: 37\,00 EUR) \nÀ l’affiche:\n– Fischer-Z
URL:https://musicinbelgium.net/evenement/fischer-z-borgerhout/
LOCATION:De Roma\, Turnhoutsebaan 327\, Borgerhout\, 2140\, Belgium
CATEGORIES:!!!SOLD OUT!!!
END:VEVENT
BEGIN:VEVENT
DTSTART;TZID=Europe/Brussels:20260502T200000
DTEND;TZID=Europe/Brussels:20260502T230000
DTSTAMP:20260425T142908
CREATED:20260201T111859Z
LAST-MODIFIED:20260201T111859Z
UID:155813-1777752000-1777762800@musicinbelgium.net
SUMMARY:DAS POP (Brugge)
DESCRIPTION:Prix: 33\,00 EUR (prévente) \nA l’affiche:\n– Das Pop
URL:https://musicinbelgium.net/evenement/das-pop-brugge/
LOCATION:Cactus Club\, Bargeweg 10\, Brugge\, 8000\, Belgium
END:VEVENT
BEGIN:VEVENT
DTSTART;TZID=Europe/Brussels:20260502T200000
DTEND;TZID=Europe/Brussels:20260502T230000
DTSTAMP:20260425T142908
CREATED:20260406T101753Z
LAST-MODIFIED:20260406T103036Z
UID:157694-1777752000-1777762800@musicinbelgium.net
SUMMARY:MOJO & THE KITCHEN BROTHERS (Borgerhout)
DESCRIPTION:Prix: 21\,00 EUR (prévente: 19\,50 EUR)\nMoins de 26 ans: 17\,50 EUR \nÀ l’affiche:\n– Mojo & The Kitchen Brothers
URL:https://musicinbelgium.net/evenement/mojo-the-kitchen-brothers-borgerhout/
LOCATION:Trix Bar\, Noordersingel 28-30\, Borgerhout\, 2140\, Belgium
END:VEVENT
BEGIN:VEVENT
DTSTART;TZID=Europe/Brussels:20260503T110000
DTEND;TZID=Europe/Brussels:20260503T233000
DTSTAMP:20260425T142908
CREATED:20260417T175410Z
LAST-MODIFIED:20260417T175410Z
UID:158068-1777806000-1777851000@musicinbelgium.net
SUMMARY:HELL ON AIR (Diest)
DESCRIPTION:Prix:\nVendredi 1er mai: 10\,25 EUR\nSamedi 2 mai: 33\,31 EUR\nDimanche 3 mai: 58\,94 EUR\nCombiticket: 87\,13 EUR \nÀ l’affiche :\n– 12:30 Aeonik\n– 13:35 Aerdling\n– 14:40 Famyne\n– 15:45 Temtris\n– 16:55 Liv Sin\n– 18:05 Exoto\n– 19:15 Assassin\n– 20:35 Burning Witches\n– 22:20 Dogma
URL:https://musicinbelgium.net/evenement/hell-on-air-diest-3/
LOCATION:OC Molenhuis\, Dorpsstraat 45\, Molenstede (Diest)\, 3294\, Belgium
ATTACH;FMTTYPE=image/webp:https://musicinbelgium.net/wp-content/uploads/2026/04/HellOnAir.webp
END:VEVENT
BEGIN:VEVENT
DTSTART;TZID=Europe/Brussels:20260503T180000
DTEND;TZID=Europe/Brussels:20260503T203000
DTSTAMP:20260425T142908
CREATED:20260108T232753Z
LAST-MODIFIED:20260108T232753Z
UID:154213-1777831200-1777840200@musicinbelgium.net
SUMMARY:JERONIMO (Bruxelles)
DESCRIPTION:Prix: 20\,50 EUR (prévente: 17\,50 EUR)\nBota’Carte: 14\,50 EUR \nÀ l’affiche:\n– Jeronimo
URL:https://musicinbelgium.net/evenement/jeronimo-bruxelles-2/
LOCATION:Le Botanique\, Rotonde\, rue Royale 236\, Bruxelles\, 1000\, Belgium
END:VEVENT
BEGIN:VEVENT
DTSTART;TZID=Europe/Brussels:20260503T180000
DTEND;TZID=Europe/Brussels:20260503T203000
DTSTAMP:20260425T142908
CREATED:20260108T232958Z
LAST-MODIFIED:20260108T232958Z
UID:154215-1777831200-1777840200@musicinbelgium.net
SUMMARY:PUBLIC IMAGE LTD. (Bruxelles)
DESCRIPTION:Prix: 45\,00 EUR (prévente: 42\,00 EUR)\nBota’Carte: 39\,00 EUR \nÀ l’affiche:\n– Public Image Ltd.
URL:https://musicinbelgium.net/evenement/public-image-ltd-bruxelles/
LOCATION:Le Botanique\, Orangerie\, rue Royale 236\, Bruxelles\, 1000\, Belgium
END:VEVENT
END:VCALENDAR