
BEGIN:VCALENDAR
VERSION:2.0
PRODID:-//Music In Belgium - ECPv6.15.20//NONSGML v1.0//EN
CALSCALE:GREGORIAN
METHOD:PUBLISH
X-WR-CALNAME:Music In Belgium
X-ORIGINAL-URL:https://musicinbelgium.net
X-WR-CALDESC:Events for Music In Belgium
REFRESH-INTERVAL;VALUE=DURATION:PT1H
X-Robots-Tag:noindex
X-PUBLISHED-TTL:PT1H
BEGIN:VTIMEZONE
TZID:Europe/Brussels
BEGIN:DAYLIGHT
TZOFFSETFROM:+0100
TZOFFSETTO:+0200
TZNAME:CEST
DTSTART:20220327T010000
END:DAYLIGHT
BEGIN:STANDARD
TZOFFSETFROM:+0200
TZOFFSETTO:+0100
TZNAME:CET
DTSTART:20221030T010000
END:STANDARD
BEGIN:DAYLIGHT
TZOFFSETFROM:+0100
TZOFFSETTO:+0200
TZNAME:CEST
DTSTART:20230326T010000
END:DAYLIGHT
BEGIN:STANDARD
TZOFFSETFROM:+0200
TZOFFSETTO:+0100
TZNAME:CET
DTSTART:20231029T010000
END:STANDARD
BEGIN:DAYLIGHT
TZOFFSETFROM:+0100
TZOFFSETTO:+0200
TZNAME:CEST
DTSTART:20240331T010000
END:DAYLIGHT
BEGIN:STANDARD
TZOFFSETFROM:+0200
TZOFFSETTO:+0100
TZNAME:CET
DTSTART:20241027T010000
END:STANDARD
END:VTIMEZONE
BEGIN:VEVENT
DTSTART;TZID=Europe/Brussels:20230629T200000
DTEND;TZID=Europe/Brussels:20230629T220000
DTSTAMP:20260423T054137
CREATED:20230628T120056Z
LAST-MODIFIED:20230628T120056Z
UID:122310-1688068800-1688076000@musicinbelgium.net
SUMMARY:MERCELIS & KOBI ONE AND THE FULL SACKS (Bruxelles)
DESCRIPTION:Prix: Gratuit \nÀ l’affiche:\n– Mercelis\n– Kobi One & The Full Sacks
URL:https://musicinbelgium.net/evenement/mercelis-kobi-one-and-the-full-sacks-bruxelles/
LOCATION:Café Central\, 14 rue borgval\, Bruxelles\, 1000\, Belgium
END:VEVENT
BEGIN:VEVENT
DTSTART;TZID=Europe/Brussels:20230629T193000
DTEND;TZID=Europe/Brussels:20230629T230000
DTSTAMP:20260423T054137
CREATED:20230603T094707Z
LAST-MODIFIED:20230628T115636Z
UID:121858-1688067000-1688079600@musicinbelgium.net
SUMMARY:ABORTED & BRUTAL SPHINCTER & WHEN PLAGUES COLLIDE (Antwerpen)
DESCRIPTION:Prix: 22\,00 EUR (prévente) \nÀ l’affiche:\n– Aborted\n– Brutal Sphincter\n– When Plagues Collide
URL:https://musicinbelgium.net/evenement/aborted-brutal-sphincter-when-plagues-collide-antwerpen/
LOCATION:Kavka Oudaan\, Oudaan 14\, Antwerpen\, 2000\, Belgium
END:VEVENT
BEGIN:VEVENT
DTSTART;TZID=Europe/Brussels:20230629T130000
DTEND;TZID=Europe/Brussels:20230629T235900
DTSTAMP:20260423T054137
CREATED:20230403T214922Z
LAST-MODIFIED:20230628T120718Z
UID:120241-1688043600-1688083140@musicinbelgium.net
SUMMARY:ROCK WERCHTER (Werchter)
DESCRIPTION:Prix:\nJour: 127\,00 EUR\nPass 4 jours: 292\,00 EUR \nA l’affiche (ordre alphabétique):\n– The 1975\n– Anna Calvi\n– Aurora\n– Body Type\n– Compact Disk Dummies\n– Iggy Pop\n– King Princess\n– The Mary Wallopers\n– Mumford & Sons\n– Picture This\n– The Reytons\n– Sam Fender\n– Stormzy\n– Warhaus\n– Weyes Blood\n– Röyksopp
URL:https://musicinbelgium.net/evenement/rock-werchter-werchter-8/
LOCATION:Werchter Festivalpark\, Hachtsesteenweg\, Werchter\, 3118\, Belgium
END:VEVENT
BEGIN:VEVENT
DTSTART;TZID=Europe/Brussels:20230628T200000
DTEND;TZID=Europe/Brussels:20230628T223000
DTSTAMP:20260423T054137
CREATED:20230204T113058Z
LAST-MODIFIED:20230628T115322Z
UID:118099-1687982400-1687991400@musicinbelgium.net
SUMMARY:COCOROSIE (Bruxelles)
DESCRIPTION:Prix: 34\,00 EUR (prévente: 33\,00 EUR) \nÀ l’affiche:\n– CocoRosie
URL:https://musicinbelgium.net/evenement/cocorosie-bruxelles-2/
LOCATION:AB Box\, bd Anspach 110\, Bruxelles\, 1000\, Belgium
END:VEVENT
BEGIN:VEVENT
DTSTART;TZID=Europe/Brussels:20230627T203000
DTEND;TZID=Europe/Brussels:20230627T233000
DTSTAMP:20260423T054137
CREATED:20230626T115234Z
LAST-MODIFIED:20230626T115336Z
UID:122304-1687897800-1687908600@musicinbelgium.net
SUMMARY:HONEY RADAR & EASY EGO & ECHEC (Bruxelles)
DESCRIPTION:Prix: 5\,00 EUR \nÀ l’affiche:\n– Honey Radar\n– Easy Ego\n– Échec
URL:https://musicinbelgium.net/evenement/honey-radar-easy-ego-echec-bruxelles/
LOCATION:Cobra Jaune\, Boulevard du Midi 76\, Bruxelles\, 1000\, Belgium
END:VEVENT
BEGIN:VEVENT
DTSTART;TZID=Europe/Brussels:20230627T200000
DTEND;TZID=Europe/Brussels:20230627T230000
DTSTAMP:20260423T054137
CREATED:20230626T114859Z
LAST-MODIFIED:20230626T114859Z
UID:122302-1687896000-1687906800@musicinbelgium.net
SUMMARY:IRNINI MONS & REAL FARMER (Bruxelles)
DESCRIPTION:Prix: 9\,00 EUR \nÀ l’affiche:\n– Irnini Mons\n– Real Farmer
URL:https://musicinbelgium.net/evenement/irnini-mons-real-farmer-bruxelles/
LOCATION:Super Fourchette\, Rue des Hirondelles 3\, Bruxelles\, 1000\, Belgium
END:VEVENT
BEGIN:VEVENT
DTSTART;TZID=Europe/Brussels:20230627T200000
DTEND;TZID=Europe/Brussels:20230627T230000
DTSTAMP:20260423T054137
CREATED:20230527T212906Z
LAST-MODIFIED:20230626T113655Z
UID:121673-1687896000-1687906800@musicinbelgium.net
SUMMARY:COMPACT DISK DUMMIES & Bobby LU (Sint-Niklaas)
DESCRIPTION:Prix: 26\,00 EUR (prévente: 23\,00 EUR) \nÀ l’affiche:\n– Compact Disk Dummies (try-out)\n– Bobby Lu
URL:https://musicinbelgium.net/evenement/compact-disk-dummies-bobby-lu-sint-niklaas/
LOCATION:De Casino\, Stationsstraat 104\, Sint-Niklaas\, 9100\, Belgium
CATEGORIES:!!!SOLD OUT!!!
END:VEVENT
BEGIN:VEVENT
DTSTART;TZID=Europe/Brussels:20230627T200000
DTEND;TZID=Europe/Brussels:20230627T214500
DTSTAMP:20260423T054137
CREATED:20230527T204730Z
LAST-MODIFIED:20230626T113544Z
UID:121656-1687896000-1687902300@musicinbelgium.net
SUMMARY:Jools HOLLAND (Borgerhout)
DESCRIPTION:Prix: 36\,00 EUR / 34\,00 EUR \nÀ l’affiche:\n– Jools Holland And His Rhythm & Blues Orchestra \nConcert initialement prévu le 06.04.2023
URL:https://musicinbelgium.net/evenement/copie-de-jools-holland/
LOCATION:De Roma\, Turnhoutsebaan 327\, Borgerhout\, 2140\, Belgium
CATEGORIES:!!!SOLD OUT!!!
END:VEVENT
BEGIN:VEVENT
DTSTART;TZID=Europe/Brussels:20230626T210000
DTEND;TZID=Europe/Brussels:20230626T230000
DTSTAMP:20260423T054137
CREATED:20230626T114059Z
LAST-MODIFIED:20230626T114059Z
UID:122298-1687813200-1687820400@musicinbelgium.net
SUMMARY:HOW YES NO & TYPHON (Bruxelles)
DESCRIPTION:Prix: Gratuit \nÀ l’affiche:\n– How Yes No\n– Typhon
URL:https://musicinbelgium.net/evenement/how-yes-no-typhon-bruxelles/
LOCATION:Chaff\, Place du Jeu de Balle 21\, Bruxelles\, 1000\, Belgium
END:VEVENT
BEGIN:VEVENT
DTSTART;TZID=Europe/Brussels:20230626T200000
DTEND;TZID=Europe/Brussels:20230626T230000
DTSTAMP:20260423T054137
CREATED:20230626T114530Z
LAST-MODIFIED:20230626T114530Z
UID:122300-1687809600-1687820400@musicinbelgium.net
SUMMARY:FRANKIE AND THE WITCH FINGERS & STAKATTAK (Bruxelles)
DESCRIPTION:Prix: At the door \nÀ l’affiche:\n– Frankei And The Witch Fingers\n– Stakattak
URL:https://musicinbelgium.net/evenement/frankie-and-the-witch-fingers-stakattak-bruxelles/
LOCATION:La Source Beer Co\, Rue Dieudonné Lefèvre 4\, Bruxelles\, 1020\, Belgium
END:VEVENT
BEGIN:VEVENT
DTSTART;TZID=Europe/Brussels:20230626T193000
DTEND;TZID=Europe/Brussels:20230626T230000
DTSTAMP:20260423T054137
CREATED:20230603T094320Z
LAST-MODIFIED:20230626T113423Z
UID:121856-1687807800-1687820400@musicinbelgium.net
SUMMARY:SOUL GLO & MILITARIE GUN & BLOSSOM (Antwerpen)
DESCRIPTION:Prix: 17\,00 EUR (prévente) \nÀ l’affiche:\n– Soul Glo\n– Militarie Gun\n– Bløssom
URL:https://musicinbelgium.net/evenement/soul-glo-militarie-gun-antwerpen/
LOCATION:Kavka Zappa\, August Leyweg 6\, Antwerpen\, 2020\, Belgium
END:VEVENT
BEGIN:VEVENT
DTSTART;TZID=Europe/Brussels:20230626T193000
DTEND;TZID=Europe/Brussels:20230626T223000
DTSTAMP:20260423T054137
CREATED:20230327T000304Z
LAST-MODIFIED:20230626T113207Z
UID:119696-1687807800-1687818600@musicinbelgium.net
SUMMARY:FLOGGING MOLLY & PET NEEDS (Bruxelles)
DESCRIPTION:Prix: 35\,00 EUR (prévente: 34\,00 EUR) \nÀ l’affiche:\n– Flogging Molly\n– Pet Needs
URL:https://musicinbelgium.net/evenement/flogging-molly-bruxelles-2/
LOCATION:AB Salle\, bd Anspach 110\, Bruxelles\, 1000\, Belgium
CATEGORIES:!!!SOLD OUT!!!
END:VEVENT
BEGIN:VEVENT
DTSTART;TZID=Europe/Brussels:20230625T223000
DTEND;TZID=Europe/Brussels:20230625T233000
DTSTAMP:20260423T054137
CREATED:20230329T162931Z
LAST-MODIFIED:20230329T162931Z
UID:119837-1687732200-1687735800@musicinbelgium.net
SUMMARY:RONKER (Borgerhout)
DESCRIPTION:Prix: Gratuit \nÀ l’affiche:\n– Ronker
URL:https://musicinbelgium.net/evenement/ronker-borgerhout/
LOCATION:Trix Café\, Noordersingel 28-30\, Borgerhout\, 2140\, Belgium
END:VEVENT
BEGIN:VEVENT
DTSTART;TZID=Europe/Brussels:20230625T200000
DTEND;TZID=Europe/Brussels:20230625T224500
DTSTAMP:20260423T054137
CREATED:20230409T122217Z
LAST-MODIFIED:20230625T094458Z
UID:120414-1687723200-1687733100@musicinbelgium.net
SUMMARY:FLOGGING MOLLY & PET NEEDS (Deurne)
DESCRIPTION:Prix: 36\,00 EUR\nMoins de 26 ans: 33\,00 EUR \nA l’affiche:\n– Flogging Molly\n– Pet Needs
URL:https://musicinbelgium.net/evenement/flogging-molly-deurne/
LOCATION:OLT Rivierenhof\, Turnhoutsebaan 246\, Deurne\, 2100\, Belgium
CATEGORIES:!!!SOLD OUT!!!
END:VEVENT
BEGIN:VEVENT
DTSTART;TZID=Europe/Brussels:20230625T200000
DTEND;TZID=Europe/Brussels:20230625T221500
DTSTAMP:20260423T054137
CREATED:20230329T162642Z
LAST-MODIFIED:20230625T094325Z
UID:119835-1687723200-1687731300@musicinbelgium.net
SUMMARY:The MELVINS & TAIPEI HOUSTON (Borgerhout)
DESCRIPTION:Prix: 29\,00 EUR (prévente: 27\,50 EUR)\nMoins de 26 ans: 25\,50 EUR \nÀ l’affiche:\n– The Melvins\n– Taipei Houston \n’40th Anniversary Tour’
URL:https://musicinbelgium.net/evenement/the-melvins-taipei-houston-borgerhout/
LOCATION:Trix\, Noordersingel 28-30\, Borgerhout\, 2140\, Belgium
CATEGORIES:!!!SOLD OUT!!!
END:VEVENT
BEGIN:VEVENT
DTSTART;TZID=Europe/Brussels:20230625T190000
DTEND;TZID=Europe/Brussels:20230625T230000
DTSTAMP:20260423T054137
CREATED:20230603T093940Z
LAST-MODIFIED:20230625T094620Z
UID:121854-1687719600-1687734000@musicinbelgium.net
SUMMARY:FULL OF HELL & SPECTRAL WOUND (Antwerpen)
DESCRIPTION:Prix: 26\,00 EUR (prévente) \nÀ l’affiche:\n– Full Of Hell\n– Spectral Wound\n– Primitive Man\n– Candy
URL:https://musicinbelgium.net/evenement/full-of-hell-spectral-wound-antwerpen/
LOCATION:Kavka Oudaan\, Oudaan 14\, Antwerpen\, 2000\, Belgium
END:VEVENT
BEGIN:VEVENT
DTSTART;TZID=Europe/Brussels:20230625T134500
DTEND;TZID=Europe/Brussels:20230625T235000
DTSTAMP:20260423T054137
CREATED:20230403T213113Z
LAST-MODIFIED:20230623T163430Z
UID:120237-1687700700-1687737000@musicinbelgium.net
SUMMARY:LIVE IS LIVE (Linkeroever)
DESCRIPTION:Prix: 80\,00 EUR\nTribune seats: 105\,00 EUR\nFrontstage: 110\,00 EUR \nA l’affiche (ordre alphabétique):\n– Admiral Freebee (solo)\n– Belle And Sebastian\n– dEUS\n– Grace Jones\n– The Hickey Underworld\n– Hydrogen Sea\n– Neomi\n– Suede\n– Whispering Sons
URL:https://musicinbelgium.net/evenement/live-is-live-linkeroever-2/
LOCATION:Middenvijver\, Middenvijver\, Linkeroever\, 2050\, Belgium
END:VEVENT
BEGIN:VEVENT
DTSTART;TZID=Europe/Brussels:20230624T203000
DTEND;TZID=Europe/Brussels:20230624T230000
DTSTAMP:20260423T054137
CREATED:20230623T164130Z
LAST-MODIFIED:20230623T164156Z
UID:122238-1687638600-1687647600@musicinbelgium.net
SUMMARY:The MELVINS & TAIPEI HOUSTON (Leffinge)
DESCRIPTION:Prix: 30\,00 EUR (prévente: 27\,00 EUR)\nZwerverpaz: 24\,00 EUR \nÀ l’affiche:\n– The Melvins\n– Taipei Houston \n’40th Anniversary Tour’
URL:https://musicinbelgium.net/evenement/the-melvins-taipei-houston-borgerhout-2/
LOCATION:De Zwerver\, Dorpsstraat 95\, Leffinge\, 8432\, Belgium
CATEGORIES:!!!SOLD OUT!!!
END:VEVENT
BEGIN:VEVENT
DTSTART;TZID=Europe/Brussels:20230624T131500
DTEND;TZID=Europe/Brussels:20230624T234500
DTSTAMP:20260423T054137
CREATED:20230403T212249Z
LAST-MODIFIED:20230623T163039Z
UID:120232-1687612500-1687650300@musicinbelgium.net
SUMMARY:LIVE IS LIVE (Linkeroever)
DESCRIPTION:Prix: 80\,00 EUR\nTribune seats: 105\,00 EUR\nFrontstage: 110\,00 EUR \nA l’affiche (ordre alphabétique):\n– Balthazar\n– Indigo Sparke\n– Jasmine Jethwa\n– Katie Gregson-MacLeod\n– Novastar (solo)\n– School Is Cool\n– Sylvie Kreusch\n– The War On Drugs\n– Warpaint\n– Whitney
URL:https://musicinbelgium.net/evenement/live-is-live-linkeroever/
LOCATION:Middenvijver\, Middenvijver\, Linkeroever\, 2050\, Belgium
END:VEVENT
BEGIN:VEVENT
DTSTART;TZID=Europe/Brussels:20230623T200000
DTEND;TZID=Europe/Brussels:20230623T221500
DTSTAMP:20260423T054137
CREATED:20230527T212555Z
LAST-MODIFIED:20230623T163749Z
UID:121671-1687550400-1687558500@musicinbelgium.net
SUMMARY:MERCURY REV & LIGHTSPEED (Sint-Niklaas)
DESCRIPTION:Prix: 33\,00 EUR (prévente: 30\,00 EUR) \nÀ l’affiche:\n– Mercury Rev\n– Lightspeed
URL:https://musicinbelgium.net/evenement/mercury-rev-lightspeed-sint-niklaas/
LOCATION:De Casino\, Stationsstraat 104\, Sint-Niklaas\, 9100\, Belgium
END:VEVENT
BEGIN:VEVENT
DTSTART;TZID=Europe/Brussels:20230622T200000
DTEND;TZID=Europe/Brussels:20230622T230000
DTSTAMP:20260423T054137
CREATED:20230603T093345Z
LAST-MODIFIED:20230603T093345Z
UID:121852-1687464000-1687474800@musicinbelgium.net
SUMMARY:AUTHOR AND PUNISHER & IMPERIAL TRIUMPHANT (Antwerpen)
DESCRIPTION:Prix: 20\,00 EUR (prévente) \nÀ l’affiche:\n– Author & Punisher\n– Imperial Triumphant
URL:https://musicinbelgium.net/evenement/author-and-punisher-imperial-triumphant-antwerpen/
LOCATION:Kavka Zappa\, August Leyweg 6\, Antwerpen\, 2020\, Belgium
END:VEVENT
BEGIN:VEVENT
DTSTART;TZID=Europe/Brussels:20230622T200000
DTEND;TZID=Europe/Brussels:20230622T230000
DTSTAMP:20260423T054137
CREATED:20230527T212135Z
LAST-MODIFIED:20230527T212135Z
UID:121669-1687464000-1687474800@musicinbelgium.net
SUMMARY:RAMKOT & MORTEL (Sint-Niklaas)
DESCRIPTION:Prix: 23\,00 EUR (prévente: 20\,00 EUR) \nÀ l’affiche:\n– Ramkot\n– Mortel
URL:https://musicinbelgium.net/evenement/ramkot-mortel-sint-niklaas/
LOCATION:De Casino\, Stationsstraat 104\, Sint-Niklaas\, 9100\, Belgium
END:VEVENT
BEGIN:VEVENT
DTSTART;TZID=Europe/Brussels:20230622T200000
DTEND;TZID=Europe/Brussels:20230622T223000
DTSTAMP:20260423T054137
CREATED:20230327T000106Z
LAST-MODIFIED:20230622T174436Z
UID:119694-1687464000-1687473000@musicinbelgium.net
SUMMARY:Beth ORTON & Indigo SPARKE (Bruxelles)
DESCRIPTION:Prix: 30\,00 EUR (prévente: 29\,00 EUR) \nÀ l’affiche:\n– Beth Orton\n– Indigo Sparke
URL:https://musicinbelgium.net/evenement/beth-orton-bruxelles/
LOCATION:AB Club\, bd Anspach 110\, Bruxelles\, 1000\, Belgium
END:VEVENT
BEGIN:VEVENT
DTSTART;TZID=Europe/Brussels:20230622T200000
DTEND;TZID=Europe/Brussels:20230622T223000
DTSTAMP:20260423T054137
CREATED:20230326T194908Z
LAST-MODIFIED:20230326T194908Z
UID:119630-1687464000-1687473000@musicinbelgium.net
SUMMARY:ULTRAPHALLUS & LE PRINCE HARRY (Bruxelles)
DESCRIPTION:Prix: 18\,50 EUR (prévente: 15\,50 EUR)\nBota’Carte: 12\,50 EUR \nÀ l’affiche:\n– Ultraphallus\n– Le Prince Harry
URL:https://musicinbelgium.net/evenement/ultraphallus-le-prince-harry-bruxelles/
LOCATION:Le Botanique\, Rotonde\, rue Royale 236\, Bruxelles\, 1000\, Belgium
END:VEVENT
BEGIN:VEVENT
DTSTART;TZID=Europe/Brussels:20230621T220000
DTEND;TZID=Europe/Brussels:20230621T220000
DTSTAMP:20260423T054137
CREATED:20230402T104742Z
LAST-MODIFIED:20230621T051641Z
UID:120083-1687384800-1687384800@musicinbelgium.net
SUMMARY:INCUBUS (Bruxelles) (ANNULÉ)
DESCRIPTION:Prix: 111\,09 EUR / 51\,14 EUR \nÀ l’affiche:\n– Incubus \n« To our fans in France\, Netherlands and Belgium\, we regret to announce that we will be cancelling our shows this week. Unfortunately the doctor has recommended that Brandon take more time and be on vocal rest the next few days\, so it saddens us to make this announcement. Thank you for all the love and support along the way and we look forward to seeing our fans in the UK this Friday.
URL:https://musicinbelgium.net/evenement/incubus-bruxelles/
LOCATION:Cirque Royal\, rue de l'Enseignement 81\, Bruxelles\, 1000\, Belgium
CATEGORIES:!!!ANNULÉ!!!
END:VEVENT
BEGIN:VEVENT
DTSTART;TZID=Europe/Brussels:20230621T203000
DTEND;TZID=Europe/Brussels:20230621T223000
DTSTAMP:20260423T054137
CREATED:20230402T090506Z
LAST-MODIFIED:20230621T051332Z
UID:120040-1687379400-1687386600@musicinbelgium.net
SUMMARY:RIVERSIDE (Kortrijk)
DESCRIPTION:Prix: 30\,00 EUR (prévente: 27\,00 EUR)\nWild Card: 25\,00 EUR \nÀ l’affiche:\n– Riverside
URL:https://musicinbelgium.net/evenement/riverside-kortrijk/
LOCATION:De Kreun\, Conservatoriumplein 1\, Kortrijk\, 8500\, Belgium
END:VEVENT
BEGIN:VEVENT
DTSTART;TZID=Europe/Brussels:20230621T201500
DTEND;TZID=Europe/Brussels:20230621T221500
DTSTAMP:20260423T054137
CREATED:20230329T162338Z
LAST-MODIFIED:20230621T051043Z
UID:119833-1687378500-1687385700@musicinbelgium.net
SUMMARY:AVALANCHE KAITO & VERMIN TWINS (Borgerhout)
DESCRIPTION:Prix: 15\,00 EUR (prévente: 13\,50 EUR)\nMoins de 26 ans: 11\,50 EUR \nÀ l’affiche:\n– Avalanche Kaito\n– Vermin Twins
URL:https://musicinbelgium.net/evenement/avalanche-kaito-vermin-twins-borgerhout/
LOCATION:Trix Bar\, Noordersingel 28-30\, Borgerhout\, 2140\, Belgium
END:VEVENT
BEGIN:VEVENT
DTSTART;TZID=Europe/Brussels:20230621T200000
DTEND;TZID=Europe/Brussels:20230621T223000
DTSTAMP:20260423T054137
CREATED:20230518T093207Z
LAST-MODIFIED:20230518T093207Z
UID:121238-1687377600-1687386600@musicinbelgium.net
SUMMARY:EMPLOYED TO SERVE & SAINT AGNES (Bruxelles)
DESCRIPTION:Prix: 22\,50 EUR (prévente: 19\,50 EUR)\nBota’Carte: 16\,50 EUR \nÀ l’affiche:\n– Employed To Serve\n– Saint Agnes
URL:https://musicinbelgium.net/evenement/employed-to-serve-saint-agnes-bruxelles/
LOCATION:Le Botanique\, Rotonde\, rue Royale 236\, Bruxelles\, 1000\, Belgium
END:VEVENT
BEGIN:VEVENT
DTSTART;TZID=Europe/Brussels:20230621T200000
DTEND;TZID=Europe/Brussels:20230621T223000
DTSTAMP:20260423T054137
CREATED:20230117T220916Z
LAST-MODIFIED:20230117T220916Z
UID:117301-1687377600-1687386600@musicinbelgium.net
SUMMARY:SON LUX & Anna B SAVAGE (Bruxelles)
DESCRIPTION:Prix: 26\,00 EUR (prévente: 25\,00 EUR) \nÀ l’affiche:\n– Son Lux\n– Anna B Savage \nConcert initialement prévu le 22.02.2023
URL:https://musicinbelgium.net/evenement/son-lux-bruxelles-2/
LOCATION:AB Ballroom\, bd Anspach 110\, Bruxelles\, 1000\, Belgium
END:VEVENT
BEGIN:VEVENT
DTSTART;TZID=Europe/Brussels:20230620T200000
DTEND;TZID=Europe/Brussels:20230620T230000
DTSTAMP:20260423T054137
CREATED:20230218T125000Z
LAST-MODIFIED:20230218T125035Z
UID:118580-1687291200-1687302000@musicinbelgium.net
SUMMARY:SPARKS (Bruxelles)
DESCRIPTION:Prix: 62\,00 EUR / 57\,00 EUR \nÀ l’affiche:\n– Sparks
URL:https://musicinbelgium.net/evenement/sparks-bruxelles-4/
LOCATION:Cirque Royal\, rue de l'Enseignement 81\, Bruxelles\, 1000\, Belgium
END:VEVENT
END:VCALENDAR