
BEGIN:VCALENDAR
VERSION:2.0
PRODID:-//Music In Belgium - ECPv6.15.20//NONSGML v1.0//EN
CALSCALE:GREGORIAN
METHOD:PUBLISH
X-ORIGINAL-URL:https://musicinbelgium.net
X-WR-CALDESC:Events for Music In Belgium
REFRESH-INTERVAL;VALUE=DURATION:PT1H
X-Robots-Tag:noindex
X-PUBLISHED-TTL:PT1H
BEGIN:VTIMEZONE
TZID:Europe/Brussels
BEGIN:DAYLIGHT
TZOFFSETFROM:+0100
TZOFFSETTO:+0200
TZNAME:CEST
DTSTART:20220327T010000
END:DAYLIGHT
BEGIN:STANDARD
TZOFFSETFROM:+0200
TZOFFSETTO:+0100
TZNAME:CET
DTSTART:20221030T010000
END:STANDARD
BEGIN:DAYLIGHT
TZOFFSETFROM:+0100
TZOFFSETTO:+0200
TZNAME:CEST
DTSTART:20230326T010000
END:DAYLIGHT
BEGIN:STANDARD
TZOFFSETFROM:+0200
TZOFFSETTO:+0100
TZNAME:CET
DTSTART:20231029T010000
END:STANDARD
BEGIN:DAYLIGHT
TZOFFSETFROM:+0100
TZOFFSETTO:+0200
TZNAME:CEST
DTSTART:20240331T010000
END:DAYLIGHT
BEGIN:STANDARD
TZOFFSETFROM:+0200
TZOFFSETTO:+0100
TZNAME:CET
DTSTART:20241027T010000
END:STANDARD
END:VTIMEZONE
BEGIN:VEVENT
DTSTART;TZID=Europe/Brussels:20231104T200000
DTEND;TZID=Europe/Brussels:20231104T223000
DTSTAMP:20260419T161752
CREATED:20231007T101106Z
LAST-MODIFIED:20231007T101132Z
UID:125018-1699128000-1699137000@musicinbelgium.net
SUMMARY:JUICY (Bruxelles)
DESCRIPTION:Prix: 22\,00 EUR (prévente: 21\,00 EUR) \nÀ l’affiche:\n– Juicy
URL:https://musicinbelgium.net/evenement/juicy-bruxelles-3/
LOCATION:AB Box\, bd Anspach 110\, Bruxelles\, 1000\, Belgium
END:VEVENT
BEGIN:VEVENT
DTSTART;TZID=Europe/Brussels:20231104T203000
DTEND;TZID=Europe/Brussels:20231104T230000
DTSTAMP:20260419T161752
CREATED:20230821T102616Z
LAST-MODIFIED:20231104T093229Z
UID:123689-1699129800-1699138800@musicinbelgium.net
SUMMARY:LORD OF THE LOST & CELLAR TWINS (Ittre)
DESCRIPTION:Prix: 22\,00 EUR (prévente) \nÀ l’affiche:\n– Cellar Twins\n– Lord of the Lost
URL:https://musicinbelgium.net/evenement/lord-of-the-lost-cellar-twins-ittre/
LOCATION:Zik-Zak\, Rue de Tubize 28\, Ittre\, 1460\, Belgium
CATEGORIES:!!!SOLD OUT!!!
END:VEVENT
BEGIN:VEVENT
DTSTART;TZID=Europe/Brussels:20231104T203000
DTEND;TZID=Europe/Brussels:20231104T230000
DTSTAMP:20260419T161752
CREATED:20231104T094423Z
LAST-MODIFIED:20231104T211617Z
UID:125671-1699129800-1699138800@musicinbelgium.net
SUMMARY:DAYS OF SORROW & DEAD CRUSH (Bruxelles)
DESCRIPTION:Prix: Libre (recommandé: 5\,00 EUR) \nÀ l’affiche:\n– Days Of Sorrow\n– Dead Crush
URL:https://musicinbelgium.net/evenement/days-of-sorrow-dead-crush-bruxelles/
LOCATION:Filousophe\, Place Princesse Elisabeth 5\, Bruxelles\, 1030\, Belgium
END:VEVENT
BEGIN:VEVENT
DTSTART;TZID=Europe/Brussels:20231104T203000
DTEND;TZID=Europe/Brussels:20231104T233000
DTSTAMP:20260419T161752
CREATED:20231029T125210Z
LAST-MODIFIED:20231029T125210Z
UID:125538-1699129800-1699140600@musicinbelgium.net
SUMMARY:MARCEL & EMPTY HEAD & FERVENTS (Liège)
DESCRIPTION:Prix: 12\,00 EUR (prévente: 10\,00 EUR) \nÀ l’affiche:\n– marcel\n– Empty Head\n– Fervents
URL:https://musicinbelgium.net/evenement/marcel-empty-head-fervents-liege/
LOCATION:KulturA.\, Rue Roture 13\, Liège\, 4020\, Belgium
END:VEVENT
BEGIN:VEVENT
DTSTART;TZID=Europe/Brussels:20231105T200000
DTEND;TZID=Europe/Brussels:20231105T223000
DTSTAMP:20260419T161752
CREATED:20230519T111832Z
LAST-MODIFIED:20231104T220519Z
UID:121346-1699214400-1699223400@musicinbelgium.net
SUMMARY:THEE SACRED SOULS (Bruxelles)
DESCRIPTION:Prix: 26\,00 EUR (prévente: 25\,00 EUR) \nÀ l’affiche:\n– Thee Sacred Souls
URL:https://musicinbelgium.net/evenement/thee-sacred-souls-bruxelles/
LOCATION:AB Box\, bd Anspach 110\, Bruxelles\, 1000\, Belgium
END:VEVENT
BEGIN:VEVENT
DTSTART;TZID=Europe/Brussels:20231105T200000
DTEND;TZID=Europe/Brussels:20231105T223000
DTSTAMP:20260419T161752
CREATED:20230724T215412Z
LAST-MODIFIED:20231104T224459Z
UID:122817-1699214400-1699223400@musicinbelgium.net
SUMMARY:Gus DAPPERTON & Abby ROBERTS (Bruxelles)
DESCRIPTION:Prix: 23\,50 EUR (prévente: 20\,50 EUR)\nBota’Carte: 17\,50 EUR \nÀ l’affiche:\n– Gus Dapperton\n– Abby Roberts
URL:https://musicinbelgium.net/evenement/gus-dapperton-bruxelles/
LOCATION:Le Botanique\, Orangerie\, rue Royale 236\, Bruxelles\, 1000\, Belgium
END:VEVENT
BEGIN:VEVENT
DTSTART;TZID=Europe/Brussels:20231105T200000
DTEND;TZID=Europe/Brussels:20231105T223000
DTSTAMP:20260419T161752
CREATED:20230724T215612Z
LAST-MODIFIED:20231104T224615Z
UID:122819-1699214400-1699223400@musicinbelgium.net
SUMMARY:Robert FINLEY & Bertrand LANI (Bruxelles)
DESCRIPTION:Prix: 19\,50 EUR (prévente: 16\,50 EUR)\nBota’Carte: 13\,50 EUR \nÀ l’affiche:\n– Robert Finley\n– Bertrand Lani
URL:https://musicinbelgium.net/evenement/robert-finley-bruxelles/
LOCATION:Le Botanique\, Rotonde\, rue Royale 236\, Bruxelles\, 1000\, Belgium
CATEGORIES:!!!SOLD OUT!!!
END:VEVENT
BEGIN:VEVENT
DTSTART;TZID=Europe/Brussels:20231105T200000
DTEND;TZID=Europe/Brussels:20231105T230000
DTSTAMP:20260419T161752
CREATED:20231104T225031Z
LAST-MODIFIED:20231104T225031Z
UID:125693-1699214400-1699225200@musicinbelgium.net
SUMMARY:VIVE LA FÊTE & DRESSCODE (Namur)
DESCRIPTION:Prix: 24\,53 EUR \nÀ l’affiche:\n– Vive La Fête\n– Dresscode
URL:https://musicinbelgium.net/evenement/vive-la-fete-dresscode-namur/
LOCATION:Le Delta\, Avenue Golenvaux 18\, Namur\, 5000\, Belgium
END:VEVENT
BEGIN:VEVENT
DTSTART;TZID=Europe/Brussels:20231105T203000
DTEND;TZID=Europe/Brussels:20231105T231500
DTSTAMP:20260419T161752
CREATED:20230811T215132Z
LAST-MODIFIED:20231104T224707Z
UID:123266-1699216200-1699226100@musicinbelgium.net
SUMMARY:Lloyd COLE (Leuven)
DESCRIPTION:Prix: 36\,00 EUR (prévente: 32\,00 EUR) \nÀ l’affiche:\n– Lloyd Cole
URL:https://musicinbelgium.net/evenement/lloyd-cole-leuven/
LOCATION:Het Depot\, Martelarenplein 12\, Leuven\, 3000\, Belgium
END:VEVENT
BEGIN:VEVENT
DTSTART;TZID=Europe/Brussels:20231106T200000
DTEND;TZID=Europe/Brussels:20231106T213000
DTSTAMP:20260419T161752
CREATED:20230815T100855Z
LAST-MODIFIED:20231105T101151Z
UID:123443-1699300800-1699306200@musicinbelgium.net
SUMMARY:Duke GARWOOD (Borgerhout)
DESCRIPTION:Prix: 15\,00 EUR / 13\,00 EUR \nÀ l’affiche:\n– Duke Garwood
URL:https://musicinbelgium.net/evenement/duke-garwood-borgerhout/
LOCATION:De Roma (Amor)\, Turnhoutsebaan 288\, Borgerhout\, 2140\, Belgium
CATEGORIES:!!!SOLD OUT!!!
END:VEVENT
BEGIN:VEVENT
DTSTART;TZID=Europe/Brussels:20231106T200000
DTEND;TZID=Europe/Brussels:20231106T223000
DTSTAMP:20260419T161752
CREATED:20230518T101151Z
LAST-MODIFIED:20230518T101151Z
UID:121271-1699300800-1699309800@musicinbelgium.net
SUMMARY:The INSPECTOR CLUZO & Nate BERGMAN (Bruxelles)
DESCRIPTION:Prix: 20\,50 EUR (prévente: 17\,50 EUR)\nBota’Carte: 14\,50 EUR \nÀ l’affiche:\n– The Inspector Cluzo\n– Nate Bergman
URL:https://musicinbelgium.net/evenement/the-inspector-cluzo-nate-bergman-bruxelles/
LOCATION:Le Botanique\, Rotonde\, rue Royale 236\, Bruxelles\, 1000\, Belgium
END:VEVENT
BEGIN:VEVENT
DTSTART;TZID=Europe/Brussels:20231106T200000
DTEND;TZID=Europe/Brussels:20231106T223000
DTSTAMP:20260419T161752
CREATED:20231003T161441Z
LAST-MODIFIED:20231105T101033Z
UID:124889-1699300800-1699309800@musicinbelgium.net
SUMMARY:CONTOUR & AMOS (Bruxelles)
DESCRIPTION:Prix: 10\,00 EUR\nBota’Carte: 7\,00 EUR \nÀ l’affiche:\n– Contour\n– Amos
URL:https://musicinbelgium.net/evenement/contour-bruxelles/
LOCATION:Le Botanique\, Witloof Bar\, rue Royale 236\, Bruxelles\, 1000\, Belgium
END:VEVENT
BEGIN:VEVENT
DTSTART;TZID=Europe/Brussels:20231106T203000
DTEND;TZID=Europe/Brussels:20231106T230000
DTSTAMP:20260419T161752
CREATED:20231104T124744Z
LAST-MODIFIED:20231104T124744Z
UID:125685-1699302600-1699311600@musicinbelgium.net
SUMMARY:HEAVENPHETAMINE & Rodolphe COSTER (Bruxelles)
DESCRIPTION:Prix: Gratuit \nÀ l’affiche:\n– Heavenphetamine\n– Rodolphe Coster
URL:https://musicinbelgium.net/evenement/heavenphetamine-rodolphe-coster-bruxelles/
LOCATION:Chaff\, Place du Jeu de Balle 21\, Bruxelles\, 1000\, Belgium
END:VEVENT
BEGIN:VEVENT
DTSTART;TZID=Europe/Brussels:20231107T185000
DTEND;TZID=Europe/Brussels:20231107T223000
DTSTAMP:20260419T161752
CREATED:20230727T212357Z
LAST-MODIFIED:20231105T101806Z
UID:122958-1699383000-1699396200@musicinbelgium.net
SUMMARY:HALESTORM & BLACK VEIL BRIDES & MOTHICA (Bruxelles)
DESCRIPTION:Prix: 38\,00 EUR (prévente: 37\,00 EUR) \nÀ l’affiche:\n– Halestorm\n– Black Veil Brides\n– Mothica \n‘Back From The Dead Tour’
URL:https://musicinbelgium.net/evenement/halestorm-black-veil-brides-bruxelles/
LOCATION:AB Salle\, bd Anspach 110\, Bruxelles\, 1000\, Belgium
CATEGORIES:!!!SOLD OUT!!!
END:VEVENT
BEGIN:VEVENT
DTSTART;TZID=Europe/Brussels:20231107T200000
DTEND;TZID=Europe/Brussels:20231107T213000
DTSTAMP:20260419T161752
CREATED:20230815T100946Z
LAST-MODIFIED:20231105T101230Z
UID:123445-1699387200-1699392600@musicinbelgium.net
SUMMARY:Duke GARWOOD (Borgerhout)
DESCRIPTION:Prix: 15\,00 EUR / 13\,00 EUR \nÀ l’affiche:\n– Duke Garwood
URL:https://musicinbelgium.net/evenement/duke-garwood-borgerhout-2/
LOCATION:De Roma (Amor)\, Turnhoutsebaan 288\, Borgerhout\, 2140\, Belgium
CATEGORIES:!!!SOLD OUT!!!
END:VEVENT
BEGIN:VEVENT
DTSTART;TZID=Europe/Brussels:20231107T200000
DTEND;TZID=Europe/Brussels:20231107T230000
DTSTAMP:20260419T161752
CREATED:20231105T102236Z
LAST-MODIFIED:20231105T102236Z
UID:125703-1699387200-1699398000@musicinbelgium.net
SUMMARY:DANAVA & TERRIFIANT (Bruxelles)
DESCRIPTION:Prix: 13\,00 EUR (prévente: 11\,00 EUR) \nÀ l’affiche:\n– Danava\n– Terrifiant
URL:https://musicinbelgium.net/evenement/danava-terrifiant-bruxelles/
LOCATION:Le Lac\, Rue de Witte de Haelen 36\, Bruxelles\, 1000\, Belgium
END:VEVENT
BEGIN:VEVENT
DTSTART;TZID=Europe/Brussels:20231107T203000
DTEND;TZID=Europe/Brussels:20231107T230000
DTSTAMP:20260419T161752
CREATED:20230821T103151Z
LAST-MODIFIED:20231105T101624Z
UID:123691-1699389000-1699398000@musicinbelgium.net
SUMMARY:RANDY HANSEN (Ittre)
DESCRIPTION:Prix: 23\,00 EUR (prévente) \nÀ l’affiche:\n– Randy Hansen
URL:https://musicinbelgium.net/evenement/randy-hansen-ittre-2/
LOCATION:Zik-Zak\, Rue de Tubize 28\, Ittre\, 1460\, Belgium
END:VEVENT
BEGIN:VEVENT
DTSTART;TZID=Europe/Brussels:20231107T210000
DTEND;TZID=Europe/Brussels:20231107T210000
DTSTAMP:20260419T161752
CREATED:20230811T215505Z
LAST-MODIFIED:20240104T235802Z
UID:123269-1699390800-1699390800@musicinbelgium.net
SUMMARY:PORTLAND (Leuven) (REPORTÉ)
DESCRIPTION:Prix: 26\,00 EUR (prévente: 23\,00 EUR) \nÀ l’affiche:\n– Portland \nReporté au 18.03.2024
URL:https://musicinbelgium.net/evenement/portland-leuven-6/
LOCATION:Het Depot\, Martelarenplein 12\, Leuven\, 3000\, Belgium
CATEGORIES:!!!REPORTÉ!!!
END:VEVENT
BEGIN:VEVENT
DTSTART;TZID=Europe/Brussels:20231107T210000
DTEND;TZID=Europe/Brussels:20231107T210000
DTSTAMP:20260419T161752
CREATED:20230813T225144Z
LAST-MODIFIED:20231105T101944Z
UID:123321-1699390800-1699390800@musicinbelgium.net
SUMMARY:Dudu TASSA & Jonny GREENWOOD (Gent) (ANNULÉ)
DESCRIPTION:Prix: 30\,00 EUR (prévente: 26\,00 EUR) \nÀ l’affiche:\n– Dudu Tassa & Jonny Greenwood
URL:https://musicinbelgium.net/evenement/dudu-tassa-jonny-greenwood-gent/
LOCATION:Vooruit Concertzaal\, Sint-Pietersnieuwstraat 23\, Gent\, 9000\, Belgium
CATEGORIES:!!!ANNULÉ!!!
END:VEVENT
BEGIN:VEVENT
DTSTART;TZID=Europe/Brussels:20231108T200000
DTEND;TZID=Europe/Brussels:20231108T223000
DTSTAMP:20260419T161752
CREATED:20230519T112057Z
LAST-MODIFIED:20230519T112219Z
UID:121348-1699473600-1699482600@musicinbelgium.net
SUMMARY:DAAU & Rudy TROUVÉ (Bruxelles)
DESCRIPTION:Prix: 17\,00 EUR \nÀ l’affiche:\n– DAAU\n– Rudy Trouvé
URL:https://musicinbelgium.net/evenement/daau-rudy-trouve-bruxelles/
LOCATION:AB Club\, bd Anspach 110\, Bruxelles\, 1000\, Belgium
END:VEVENT
BEGIN:VEVENT
DTSTART;TZID=Europe/Brussels:20231108T200000
DTEND;TZID=Europe/Brussels:20231108T225000
DTSTAMP:20260419T161752
CREATED:20230815T101138Z
LAST-MODIFIED:20231107T214447Z
UID:123447-1699473600-1699483800@musicinbelgium.net
SUMMARY:Billy STRINGS (Borgerhout)
DESCRIPTION:Prix: 26\,00 EUR / 24\,00 EUR \nÀ l’affiche:\n– Billy Strings
URL:https://musicinbelgium.net/evenement/billy-strings-borgerhout/
LOCATION:De Roma\, Turnhoutsebaan 327\, Borgerhout\, 2140\, Belgium
END:VEVENT
BEGIN:VEVENT
DTSTART;TZID=Europe/Brussels:20231108T200000
DTEND;TZID=Europe/Brussels:20231108T230000
DTSTAMP:20260419T161752
CREATED:20230402T094214Z
LAST-MODIFIED:20231110T074331Z
UID:120073-1699473600-1699484400@musicinbelgium.net
SUMMARY:WARHAUS & PHILEMON (Liège)
DESCRIPTION:Prix: 28\,00 EUR (prévente) \nÀ l’affiche:\n– Warhaus\n– Philemon
URL:https://musicinbelgium.net/evenement/warhaus-liege/
LOCATION:Reflektor\, Place Xavier Neujean 24\, Liege\, 4000\, Belgium
CATEGORIES:!!!SOLD OUT!!!
END:VEVENT
BEGIN:VEVENT
DTSTART;TZID=Europe/Brussels:20231108T200000
DTEND;TZID=Europe/Brussels:20231108T230000
DTSTAMP:20260419T161752
CREATED:20231105T105408Z
LAST-MODIFIED:20231105T105408Z
UID:125711-1699473600-1699484400@musicinbelgium.net
SUMMARY:INSOMNIUM (Sint-Niklaas)
DESCRIPTION:Prix: 32\,00 EUR (prévente: 30\,00 EUR) \nÀ l’affiche:\n– Insomnium
URL:https://musicinbelgium.net/evenement/insomnium-sint-niklaas/
LOCATION:De Casino\, Stationsstraat 104\, Sint-Niklaas\, 9100\, Belgium
END:VEVENT
BEGIN:VEVENT
DTSTART;TZID=Europe/Brussels:20231108T204500
DTEND;TZID=Europe/Brussels:20231108T230000
DTSTAMP:20260419T161752
CREATED:20231107T222330Z
LAST-MODIFIED:20231107T222330Z
UID:125786-1699476300-1699484400@musicinbelgium.net
SUMMARY:BEEN STELLAR & SOFT BOY (Hasselt)
DESCRIPTION:Prix: NC \nÀ l’affiche:\n– Been Stellar\n– Soft Boy
URL:https://musicinbelgium.net/evenement/been-stellar-soft-boy-hasselt/
LOCATION:Werf\, Zeilstraat 4\, Hasselt\, 3500\, Belgium
END:VEVENT
BEGIN:VEVENT
DTSTART;TZID=Europe/Brussels:20231108T210000
DTEND;TZID=Europe/Brussels:20231108T210000
DTSTAMP:20260419T161752
CREATED:20230811T215617Z
LAST-MODIFIED:20240105T000734Z
UID:123271-1699477200-1699477200@musicinbelgium.net
SUMMARY:PORTLAND (Leuven) (REPORTÉ)
DESCRIPTION:Prix: 26\,00 EUR (prévente: 23\,00 EUR) \nÀ l’affiche:\n– Portland \nReporté au 23.03.2024
URL:https://musicinbelgium.net/evenement/portland-leuven-7/
LOCATION:Het Depot\, Martelarenplein 12\, Leuven\, 3000\, Belgium
CATEGORIES:!!!REPORTÉ!!!
END:VEVENT
BEGIN:VEVENT
DTSTART;TZID=Europe/Brussels:20231109T195000
DTEND;TZID=Europe/Brussels:20231109T223000
DTSTAMP:20260419T161752
CREATED:20230724T220107Z
LAST-MODIFIED:20231108T220632Z
UID:122823-1699559400-1699569000@musicinbelgium.net
SUMMARY:BRIQUEVILLE & POTHAMUS (Bruxelles)
DESCRIPTION:Prix: 21\,50 EUR (prévente: 18\,50 EUR)\nBota’Carte: 15\,50 EUR \nÀ l’affiche:\n– Briqueville\n– Pothamus
URL:https://musicinbelgium.net/evenement/briqueville-bruxelles/
LOCATION:Le Botanique\, Orangerie\, rue Royale 236\, Bruxelles\, 1000\, Belgium
END:VEVENT
BEGIN:VEVENT
DTSTART;TZID=Europe/Brussels:20231109T200000
DTEND;TZID=Europe/Brussels:20231109T222500
DTSTAMP:20260419T161752
CREATED:20230401T224015Z
LAST-MODIFIED:20231108T220851Z
UID:120025-1699560000-1699568700@musicinbelgium.net
SUMMARY:WEYES BLOOD & VAGABON (Borgerhout)
DESCRIPTION:Prix: 27\,00 EUR / 25\,00 EUR \nÀ l’affiche:\n– Weyes Blood\n– Vagabon
URL:https://musicinbelgium.net/evenement/weyes-blood-borgerhout/
LOCATION:De Roma\, Turnhoutsebaan 327\, Borgerhout\, 2140\, Belgium
END:VEVENT
BEGIN:VEVENT
DTSTART;TZID=Europe/Brussels:20231109T200000
DTEND;TZID=Europe/Brussels:20231109T223000
DTSTAMP:20260419T161752
CREATED:20230519T112419Z
LAST-MODIFIED:20231108T213843Z
UID:121352-1699560000-1699569000@musicinbelgium.net
SUMMARY:EXPLOSIONS IN THE SKY & INNERWOUD (Bruxelles)
DESCRIPTION:Prix: 34\,00 EUR (prévente: 33\,00 EUR) \nÀ l’affiche:\n– Explosions In The Sky\n– Innerwoud \n‘The End Tour’
URL:https://musicinbelgium.net/evenement/explosions-in-the-sky-bruxelles/
LOCATION:AB Salle\, bd Anspach 110\, Bruxelles\, 1000\, Belgium
CATEGORIES:!!!SOLD OUT!!!
END:VEVENT
BEGIN:VEVENT
DTSTART;TZID=Europe/Brussels:20231109T203000
DTEND;TZID=Europe/Brussels:20231109T223000
DTSTAMP:20260419T161752
CREATED:20230306T170156Z
LAST-MODIFIED:20231108T213610Z
UID:119075-1699561800-1699569000@musicinbelgium.net
SUMMARY:BOHREN UND DER CLUB OF GORE (Bruxelles)
DESCRIPTION:Prix: 21\,50 EUR (prévente: 18\,50 EUR)\nBota’Carte: 15\,50 EUR \nÀ l’affiche:\n– Bohren Und Der Club Of Gore
URL:https://musicinbelgium.net/evenement/bohren-und-der-club-of-gore-bruxelles-2/
LOCATION:Le Botanique\, Grand Salon\, rue Royale 236\, Bruxelles\, 1000\, Belgium
CATEGORIES:!!!SOLD OUT!!!
END:VEVENT
BEGIN:VEVENT
DTSTART;TZID=Europe/Brussels:20231109T203000
DTEND;TZID=Europe/Brussels:20231109T230000
DTSTAMP:20260419T161752
CREATED:20231108T221431Z
LAST-MODIFIED:20231108T221451Z
UID:125796-1699561800-1699570800@musicinbelgium.net
SUMMARY:PLUSH BABY & MAGIC MAX (Bruxelles)
DESCRIPTION:Prix: Libre \nÀ l’affiche:\n– Plush Baby\n– Magic Max \nConcerts de Soutien SUPER CONCERT asbl
URL:https://musicinbelgium.net/evenement/plush-baby-magic-max-bruxelles/
LOCATION:Super Fourchette\, Rue des Hirondelles 3\, Bruxelles\, 1000\, Belgium
END:VEVENT
END:VCALENDAR