
BEGIN:VCALENDAR
VERSION:2.0
PRODID:-//Music In Belgium - ECPv6.15.20//NONSGML v1.0//EN
CALSCALE:GREGORIAN
METHOD:PUBLISH
X-WR-CALNAME:Music In Belgium
X-ORIGINAL-URL:https://musicinbelgium.net
X-WR-CALDESC:Events for Music In Belgium
REFRESH-INTERVAL;VALUE=DURATION:PT1H
X-Robots-Tag:noindex
X-PUBLISHED-TTL:PT1H
BEGIN:VTIMEZONE
TZID:Europe/Brussels
BEGIN:DAYLIGHT
TZOFFSETFROM:+0100
TZOFFSETTO:+0200
TZNAME:CEST
DTSTART:20220327T010000
END:DAYLIGHT
BEGIN:STANDARD
TZOFFSETFROM:+0200
TZOFFSETTO:+0100
TZNAME:CET
DTSTART:20221030T010000
END:STANDARD
BEGIN:DAYLIGHT
TZOFFSETFROM:+0100
TZOFFSETTO:+0200
TZNAME:CEST
DTSTART:20230326T010000
END:DAYLIGHT
BEGIN:STANDARD
TZOFFSETFROM:+0200
TZOFFSETTO:+0100
TZNAME:CET
DTSTART:20231029T010000
END:STANDARD
BEGIN:DAYLIGHT
TZOFFSETFROM:+0100
TZOFFSETTO:+0200
TZNAME:CEST
DTSTART:20240331T010000
END:DAYLIGHT
BEGIN:STANDARD
TZOFFSETFROM:+0200
TZOFFSETTO:+0100
TZNAME:CET
DTSTART:20241027T010000
END:STANDARD
END:VTIMEZONE
BEGIN:VEVENT
DTSTART;TZID=Europe/Brussels:20231101T200000
DTEND;TZID=Europe/Brussels:20231101T221500
DTSTAMP:20260420T000816
CREATED:20231029T155738Z
LAST-MODIFIED:20231101T171259Z
UID:125559-1698868800-1698876900@musicinbelgium.net
SUMMARY:Andy SHAUF & AURE (Kortrijk)
DESCRIPTION:Prix: 30\,00 EUR (prévente: 27\,00 EUR)\nWild Card: 24\,00 EUR \nÀ l’affiche:\n– Andy Shauf\n– Aure
URL:https://musicinbelgium.net/evenement/andy-shauf-kortrijk/
LOCATION:Kerk Sint-Denijs\, Sint-Denijsplaats 3\, Zwevegem\, 8554\, Belgium
END:VEVENT
BEGIN:VEVENT
DTSTART;TZID=Europe/Brussels:20231101T194500
DTEND;TZID=Europe/Brussels:20231101T223000
DTSTAMP:20260420T000816
CREATED:20230814T114401Z
LAST-MODIFIED:20231101T171117Z
UID:123396-1698867900-1698877800@musicinbelgium.net
SUMMARY:KVELERTAK & CANCER BATS (Borgerhout)
DESCRIPTION:Prix: 29\,00 EUR (prévente: 27\,50 EUR)\nMoins de 26 ans: 25\,50 EUR \nÀ l’affiche:\n– Kvelertak\n– Cancer Bats
URL:https://musicinbelgium.net/evenement/kvelertak-cancer-bats-borgerhout/
LOCATION:Trix\, Noordersingel 28-30\, Borgerhout\, 2140\, Belgium
END:VEVENT
BEGIN:VEVENT
DTSTART;TZID=Europe/Brussels:20231031T203000
DTEND;TZID=Europe/Brussels:20231031T233000
DTSTAMP:20260420T000816
CREATED:20231029T124158Z
LAST-MODIFIED:20231029T124530Z
UID:125535-1698784200-1698795000@musicinbelgium.net
SUMMARY:SWEEPING PROMISES & POZI & CHATON LAVEUR (Liège)
DESCRIPTION:Prix: 12\,00 EUR (prévente: 10\,00 EUR) \nÀ l’affiche:\n– Sweeping Promises\n– Pozi\n– Chaton Laveur
URL:https://musicinbelgium.net/evenement/sweeping-promises-pozi-chaton-laveur-liege/
LOCATION:KulturA.\, Rue Roture 13\, Liège\, 4020\, Belgium
END:VEVENT
BEGIN:VEVENT
DTSTART;TZID=Europe/Brussels:20231031T200000
DTEND;TZID=Europe/Brussels:20231031T230000
DTSTAMP:20260420T000816
CREATED:20231003T220455Z
LAST-MODIFIED:20231003T221431Z
UID:124919-1698782400-1698793200@musicinbelgium.net
SUMMARY:The ULTIMATE DREAMERS (Bruxelles)
DESCRIPTION:Prix: 5\,00 EUR (prix recommandé)\nSpecial offer: CD + ticket = 10\,00 EUR (https://violentghost.eventbrite.be) \nÀ l’affiche:\n– The Ultimate Dreamers \nᴄᴏɴᴄᴇʀᴛ\nAfter the successful release of their 𝘌𝘤𝘩𝘰𝘪𝘯𝘨 𝘙𝘦𝘷𝘦𝘳𝘪𝘦 album\, 𝗧𝗵𝗲 𝗨𝗹𝘁𝗶𝗺𝗮𝘁𝗲 𝗗𝗿𝗲𝗮𝗺𝗲𝗿𝘀 present 𝙑𝙞𝙤𝙡𝙚𝙣𝙩 𝙂𝙝𝙤𝙨𝙩\, an EP containing alternative versions of selected tracks and remixes by 𝗙𝗿𝗼𝗻𝘁 𝟮𝟰𝟮\, 𝗦𝗵𝗮𝗱 𝗦𝗵𝗮𝗱𝗼𝘄𝘀 and 𝗵ø𝗿𝗱. \nᴀʀᴛ ᴇxʜɪʙɪᴛɪᴏɴ\nAfter her graphic collaboration with The Ultimate Dreamers for 3 cover sleeves\, 𝗠𝗶𝘀𝘁𝘆 will exhibit some artistic work from her B&W stylized world. \nᴍᴜꜱɪᴄ ꜱᴇʟᴇᴄᴛɪᴏɴ​\nThe musical ambience will be provided by none other than 𝗣𝗮𝘁𝗿𝗶𝗰𝗸 𝗖𝗼𝗱𝗲𝗻𝘆𝘀 (𝗙𝗿𝗼𝗻𝘁 𝟮𝟰𝟮) and 𝗟𝗶𝘀𝗮𝗟𝘂𝘃 (Addams Family).
URL:https://musicinbelgium.net/evenement/the-ultimate-dreamers-bruxelles-2/
LOCATION:Le Lac\, Rue de Witte de Haelen 36\, Bruxelles\, 1000\, Belgium
END:VEVENT
BEGIN:VEVENT
DTSTART;TZID=Europe/Brussels:20231031T200000
DTEND;TZID=Europe/Brussels:20231031T230000
DTSTAMP:20260420T000816
CREATED:20230801T223415Z
LAST-MODIFIED:20231030T214902Z
UID:123108-1698782400-1698793200@musicinbelgium.net
SUMMARY:Mr. PAUL and The LOWRIDERS & DINO and The CHICKS (Gent)
DESCRIPTION:Prix: 22\,00 EUR (prévente) \nÀ l’affiche:\n– Mr. Paul & The Lowriders\n– Dino & The Chicks
URL:https://musicinbelgium.net/evenement/mr-paul-and-the-lowriders-gent/
LOCATION:Vooruit (Balzaal)\, Sint-Pietersnieuwstraat 23\, Gent\, 9000\, Belgium
END:VEVENT
BEGIN:VEVENT
DTSTART;TZID=Europe/Brussels:20231031T200000
DTEND;TZID=Europe/Brussels:20231031T223000
DTSTAMP:20260420T000816
CREATED:20230519T111602Z
LAST-MODIFIED:20231030T203905Z
UID:121344-1698782400-1698791400@musicinbelgium.net
SUMMARY:WESTERMAN & TWAIN (Bruxelles)
DESCRIPTION:Prix: 17\,00 EUR \nÀ l’affiche:\n– Westerman\n– Twain
URL:https://musicinbelgium.net/evenement/westerman-bruxelles/
LOCATION:AB Club\, bd Anspach 110\, Bruxelles\, 1000\, Belgium
END:VEVENT
BEGIN:VEVENT
DTSTART;TZID=Europe/Brussels:20231031T200000
DTEND;TZID=Europe/Brussels:20231031T213000
DTSTAMP:20260420T000816
CREATED:20230401T223743Z
LAST-MODIFIED:20231030T212737Z
UID:120023-1698782400-1698787800@musicinbelgium.net
SUMMARY:RODRIGO Y GABRIELA (Borgerhout)
DESCRIPTION:Prix: 37\,00 EUR / 35\,00 EUR \nÀ l’affiche:\n– Rodrigo Y Gabriela \n‘In Between Thoughts… A New World Tour 2023’
URL:https://musicinbelgium.net/evenement/rodrigo-y-gabriela-borgerhout-2/
LOCATION:De Roma\, Turnhoutsebaan 327\, Borgerhout\, 2140\, Belgium
CATEGORIES:!!!SOLD OUT!!!
END:VEVENT
BEGIN:VEVENT
DTSTART;TZID=Europe/Brussels:20231030T210000
DTEND;TZID=Europe/Brussels:20231030T230000
DTSTAMP:20260420T000816
CREATED:20231029T123545Z
LAST-MODIFIED:20231029T123545Z
UID:125533-1698699600-1698706800@musicinbelgium.net
SUMMARY:PABLO X & AVENOIR (Bruxelles)
DESCRIPTION:Prix: Gratuit \nÀ l’affiche:\n– Pablo X\n– Avenoir
URL:https://musicinbelgium.net/evenement/pablo-x-avenoir-bruxelles/
LOCATION:Chaff\, Place du Jeu de Balle 21\, Bruxelles\, 1000\, Belgium
END:VEVENT
BEGIN:VEVENT
DTSTART;TZID=Europe/Brussels:20231030T201500
DTEND;TZID=Europe/Brussels:20231030T223000
DTSTAMP:20260420T000816
CREATED:20231007T100735Z
LAST-MODIFIED:20231029T100939Z
UID:125015-1698696900-1698705000@musicinbelgium.net
SUMMARY:Eli WINTER (Bruxelles)
DESCRIPTION:Prix: Gratuit \nÀ l’affiche:\n– Eli Winter
URL:https://musicinbelgium.net/evenement/eli-winter-bruxelles/
LOCATION:House of Growfunding\, Boulevard Anspach 178\, Bruxelles\, 1000\, Belgium
END:VEVENT
BEGIN:VEVENT
DTSTART;TZID=Europe/Brussels:20231030T201500
DTEND;TZID=Europe/Brussels:20231030T214500
DTSTAMP:20260420T000816
CREATED:20230402T105632Z
LAST-MODIFIED:20231029T101023Z
UID:120090-1698696900-1698702300@musicinbelgium.net
SUMMARY:RODRIGO Y GABRIELA (Bruxelles)
DESCRIPTION:Prix: 41\,42 EUR / 37\,06 EUR \nÀ l’affiche:\n– Rodrigo Y Gabriela
URL:https://musicinbelgium.net/evenement/rodrigo-y-gabriela-bruxelles-2/
LOCATION:Cirque Royal\, rue de l'Enseignement 81\, Bruxelles\, 1000\, Belgium
END:VEVENT
BEGIN:VEVENT
DTSTART;TZID=Europe/Brussels:20231030T193000
DTEND;TZID=Europe/Brussels:20231030T223000
DTSTAMP:20260420T000816
CREATED:20230519T104255Z
LAST-MODIFIED:20231029T100841Z
UID:121342-1698694200-1698705000@musicinbelgium.net
SUMMARY:Leith ROSS & BEGONIA & Kennedy FREEMAN (Bruxelles)
DESCRIPTION:Prix: 17\,00 EUR \nÀ l’affiche:\n– Leith Ross\n– Begonia\n– Kennedy Freeman
URL:https://musicinbelgium.net/evenement/leith-ross-bruxelles/
LOCATION:AB Club\, bd Anspach 110\, Bruxelles\, 1000\, Belgium
END:VEVENT
BEGIN:VEVENT
DTSTART;TZID=Europe/Brussels:20231029T200000
DTEND;TZID=Europe/Brussels:20231029T223000
DTSTAMP:20260420T000816
CREATED:20230724T214231Z
LAST-MODIFIED:20231029T100428Z
UID:122807-1698609600-1698618600@musicinbelgium.net
SUMMARY:STONE & MARCEL (Bruxelles)
DESCRIPTION:Prix: 20\,50 EUR (prévente: 17\,50 EUR)\nBota’Carte: 14\,50 EUR \nÀ l’affiche:\n– Stone\n– marcel
URL:https://musicinbelgium.net/evenement/stone-bruxelles/
LOCATION:Le Botanique\, Rotonde\, rue Royale 236\, Bruxelles\, 1000\, Belgium
CATEGORIES:!!!SOLD OUT!!!
END:VEVENT
BEGIN:VEVENT
DTSTART;TZID=Europe/Brussels:20231029T193000
DTEND;TZID=Europe/Brussels:20231029T223000
DTSTAMP:20260420T000816
CREATED:20230814T113152Z
LAST-MODIFIED:20231029T100612Z
UID:123394-1698607800-1698618600@musicinbelgium.net
SUMMARY:PROTOMARTYR & ES & DUST (Borgerhout)
DESCRIPTION:Prix: 24\,00 EUR (prévente: 22\,50 EUR)\nMoins de 26 ans: 20\,50 EUR \nÀ l’affiche:\n– Protomartyr\n– Es\n– Dust
URL:https://musicinbelgium.net/evenement/protomartyr-borgerhout/
LOCATION:Trix Club\, Noordersingel 28-30\, Borgerhout\, 2140\, Belgium
END:VEVENT
BEGIN:VEVENT
DTSTART;TZID=Europe/Brussels:20231028T203000
DTEND;TZID=Europe/Brussels:20231028T230000
DTSTAMP:20260420T000816
CREATED:20231028T092911Z
LAST-MODIFIED:20231028T092911Z
UID:125524-1698525000-1698534000@musicinbelgium.net
SUMMARY:The BLUE'S TURTLES (Liège)
DESCRIPTION:Prix: 9\,00 EUR \nÀ l’affiche:\n– The Blue’s Turtles
URL:https://musicinbelgium.net/evenement/the-blues-turtles-liege/
LOCATION:Blues-sphere\, rue Surlet 37\, Liege\, 4000\, Belgium
END:VEVENT
BEGIN:VEVENT
DTSTART;TZID=Europe/Brussels:20231028T201500
DTEND;TZID=Europe/Brussels:20231028T230000
DTSTAMP:20260420T000816
CREATED:20231007T102919Z
LAST-MODIFIED:20231028T092427Z
UID:125030-1698524100-1698534000@musicinbelgium.net
SUMMARY:BOMBATAZ & TJE (Gent)
DESCRIPTION:Prix: 16\,00 EUR (prévente: 13\,00 EUR) \nÀ l’affiche:\n– Bombataz\n– Tje
URL:https://musicinbelgium.net/evenement/bombataz-tje-gent/
LOCATION:De Koer\, Meibloemstraat 86\, Gent\, 9000\, Belgium
END:VEVENT
BEGIN:VEVENT
DTSTART;TZID=Europe/Brussels:20231028T200000
DTEND;TZID=Europe/Brussels:20231028T223000
DTSTAMP:20260420T000816
CREATED:20231003T155502Z
LAST-MODIFIED:20231022T230559Z
UID:124887-1698523200-1698532200@musicinbelgium.net
SUMMARY:Gretel HÄNLYN & Kai BOSCH & NATSUMA (Bruxelles)
DESCRIPTION:Prix: 10\,00 EUR\nBota’Carte: 7\,00 EUR \nÀ l’affiche:\n– Gretel Hänlyn\n– Kai Bosch\n– Natsuma
URL:https://musicinbelgium.net/evenement/gretel-hanlyn-bruxelles/
LOCATION:Le Botanique\, Witloof Bar\, rue Royale 236\, Bruxelles\, 1000\, Belgium
END:VEVENT
BEGIN:VEVENT
DTSTART;TZID=Europe/Brussels:20231028T200000
DTEND;TZID=Europe/Brussels:20231028T223000
DTSTAMP:20260420T000816
CREATED:20230306T165005Z
LAST-MODIFIED:20230518T100906Z
UID:119066-1698523200-1698532200@musicinbelgium.net
SUMMARY:TEENAGE FANCLUB & SWEET BABOO (Bruxelles)
DESCRIPTION:Prix: 26\,50 EUR (prévente: 23\,50 EUR)\nBota’Carte: 20\,50 EUR \nÀ l’affiche:\n– Teenage Fanclub\n– Sweet Baboo
URL:https://musicinbelgium.net/evenement/teenage-fanclub-bruxelles/
LOCATION:Le Botanique\, Orangerie\, rue Royale 236\, Bruxelles\, 1000\, Belgium
END:VEVENT
BEGIN:VEVENT
DTSTART;TZID=Europe/Brussels:20231028T200000
DTEND;TZID=Europe/Brussels:20231028T221500
DTSTAMP:20260420T000816
CREATED:20230402T090821Z
LAST-MODIFIED:20231028T092332Z
UID:120044-1698523200-1698531300@musicinbelgium.net
SUMMARY:BLACK BOX REVELATION & RATMOSPHERE (Kortrijk)
DESCRIPTION:Prix: 33\,00 EUR (prévente: 30\,00 EUR)\nWild Card: 27\,00 EUR \nÀ l’affiche:\n– Black Box Revelation\n– Ratmosphere
URL:https://musicinbelgium.net/evenement/black-box-revelation-kortrijk-3/
LOCATION:De Kreun\, Conservatoriumplein 1\, Kortrijk\, 8500\, Belgium
CATEGORIES:!!!SOLD OUT!!!
END:VEVENT
BEGIN:VEVENT
DTSTART;TZID=Europe/Brussels:20231027T203000
DTEND;TZID=Europe/Brussels:20231027T230000
DTSTAMP:20260420T000816
CREATED:20230821T102247Z
LAST-MODIFIED:20231026T214850Z
UID:123687-1698438600-1698447600@musicinbelgium.net
SUMMARY:BLACK TARTANS & JENKINSES (Ittre)
DESCRIPTION:Prix: 17\,50 EUR (prévente) \nÀ l’affiche:\n– Black Tartans\n– Jenkinses
URL:https://musicinbelgium.net/evenement/black-tartans-ittre/
LOCATION:Zik-Zak\, Rue de Tubize 28\, Ittre\, 1460\, Belgium
END:VEVENT
BEGIN:VEVENT
DTSTART;TZID=Europe/Brussels:20231027T200000
DTEND;TZID=Europe/Brussels:20231027T223000
DTSTAMP:20260420T000816
CREATED:20230827T213848Z
LAST-MODIFIED:20231026T215650Z
UID:123925-1698436800-1698445800@musicinbelgium.net
SUMMARY:BLACK BOX REVELATION & RATMOSPHERE (Brugge)
DESCRIPTION:Prix: 31\,00 EUR (prévente: 28\,00 EUR)\nPrikkaart: 24\,00 EUR \nA l’affiche:\n– Black Box Revelation\n– Ratmosphere
URL:https://musicinbelgium.net/evenement/black-box-revelation-brugge/
LOCATION:Cactus Club\, Bargeweg 10\, Brugge\, 8000\, Belgium
CATEGORIES:!!!SOLD OUT!!!
END:VEVENT
BEGIN:VEVENT
DTSTART;TZID=Europe/Brussels:20231027T200000
DTEND;TZID=Europe/Brussels:20231027T223000
DTSTAMP:20260420T000816
CREATED:20230724T214014Z
LAST-MODIFIED:20231026T215318Z
UID:122805-1698436800-1698445800@musicinbelgium.net
SUMMARY:GODCASTER & EASY EGO (Bruxelles)
DESCRIPTION:Prix: 10\,00 EUR\nBota’Carte: 7\,00 EUR \nÀ l’affiche:\n– Godcaster\n– Easy Ego
URL:https://musicinbelgium.net/evenement/godcaster-bruxelles/
LOCATION:Le Botanique\, Witloof Bar\, rue Royale 236\, Bruxelles\, 1000\, Belgium
END:VEVENT
BEGIN:VEVENT
DTSTART;TZID=Europe/Brussels:20231027T200000
DTEND;TZID=Europe/Brussels:20231027T221500
DTSTAMP:20260420T000816
CREATED:20230401T223509Z
LAST-MODIFIED:20231026T215512Z
UID:120020-1698436800-1698444900@musicinbelgium.net
SUMMARY:BLACK COUNTRY\, NEW ROAD & PLATONICA EROTICA (Borgerhout)
DESCRIPTION:Prix: 26\,00 EUR / 24\,00 EUR \nÀ l’affiche:\n– Black Country\, New Road\n– Platonica Erotica
URL:https://musicinbelgium.net/evenement/black-country-new-road-borgerhout/
LOCATION:De Roma\, Turnhoutsebaan 327\, Borgerhout\, 2140\, Belgium
END:VEVENT
BEGIN:VEVENT
DTSTART;TZID=Europe/Brussels:20231027T193000
DTEND;TZID=Europe/Brussels:20231027T221500
DTSTAMP:20260420T000816
CREATED:20230329T165647Z
LAST-MODIFIED:20231026T215112Z
UID:119858-1698435000-1698444900@musicinbelgium.net
SUMMARY:BIRDS IN ROW & Quentin SAUVÉ & WALFANG (Borgerhout)
DESCRIPTION:Prix: 20\,50 EUR (prévente: 19\,00 EUR)\nMoins de 26 ans: 17\,00 EUR \nÀ l’affiche:\n– Birds In Row\n– Quentin Sauvé\n– Walfang
URL:https://musicinbelgium.net/evenement/birds-in-row-borgerhout-2/
LOCATION:Trix Club\, Noordersingel 28-30\, Borgerhout\, 2140\, Belgium
END:VEVENT
BEGIN:VEVENT
DTSTART;TZID=Europe/Brussels:20231026T203000
DTEND;TZID=Europe/Brussels:20231026T233000
DTSTAMP:20260420T000816
CREATED:20230821T102001Z
LAST-MODIFIED:20231025T063512Z
UID:123685-1698352200-1698363000@musicinbelgium.net
SUMMARY:ASTONVILLA (Ittre)
DESCRIPTION:Prix: 25\,00 EUR (prévente) \nÀ l’affiche: \n– Astonvilla
URL:https://musicinbelgium.net/evenement/astonvilla-ittre/
LOCATION:Zik-Zak\, Rue de Tubize 28\, Ittre\, 1460\, Belgium
END:VEVENT
BEGIN:VEVENT
DTSTART;TZID=Europe/Brussels:20231026T201500
DTEND;TZID=Europe/Brussels:20231026T230000
DTSTAMP:20260420T000816
CREATED:20230401T122127Z
LAST-MODIFIED:20231025T063845Z
UID:119943-1698351300-1698361200@musicinbelgium.net
SUMMARY:BLACK BOX REVELATION & RATMOSPHERE (Gent)
DESCRIPTION:Prix: 32\,00 EUR (prévente: 28\,00 EUR) \nÀ l’affiche:\n– Black Box Revelation\n– Ratmosphere
URL:https://musicinbelgium.net/evenement/black-box-revelation-gent-2/
LOCATION:Vooruit Concertzaal\, Sint-Pietersnieuwstraat 23\, Gent\, 9000\, Belgium
CATEGORIES:!!!SOLD OUT!!!
END:VEVENT
BEGIN:VEVENT
DTSTART;TZID=Europe/Brussels:20231026T200000
DTEND;TZID=Europe/Brussels:20231026T223000
DTSTAMP:20260420T000816
CREATED:20230814T112712Z
LAST-MODIFIED:20231025T063328Z
UID:123390-1698350400-1698359400@musicinbelgium.net
SUMMARY:IT IT ANITA & GODCASTER (Borgerhout)
DESCRIPTION:Prix: 17\,00 EUR (prévente: 15\,50 EUR)\nMoins de 26 ans: 13\,50 EUR \nÀ l’affiche:\n– It It Anita\n– Godcaster
URL:https://musicinbelgium.net/evenement/it-it-anita-borgerhout/
LOCATION:Trix Café\, Noordersingel 28-30\, Borgerhout\, 2140\, Belgium
END:VEVENT
BEGIN:VEVENT
DTSTART;TZID=Europe/Brussels:20231026T200000
DTEND;TZID=Europe/Brussels:20231026T223000
DTSTAMP:20260420T000816
CREATED:20230814T112243Z
LAST-MODIFIED:20231025T063659Z
UID:123383-1698350400-1698359400@musicinbelgium.net
SUMMARY:BRASS AGAINST (Borgerhout)
DESCRIPTION:Prix: 27\,00 EUR (prévente: 25\,50 EUR)\nMoins de 26 ans: 23\,50 EUR \nÀ l’affiche:\n– Brass Against
URL:https://musicinbelgium.net/evenement/brass-against-borgerhout/
LOCATION:Trix Club\, Noordersingel 28-30\, Borgerhout\, 2140\, Belgium
END:VEVENT
BEGIN:VEVENT
DTSTART;TZID=Europe/Brussels:20231026T200000
DTEND;TZID=Europe/Brussels:20231026T223000
DTSTAMP:20260420T000816
CREATED:20230724T213753Z
LAST-MODIFIED:20230724T213753Z
UID:122803-1698350400-1698359400@musicinbelgium.net
SUMMARY:Maria BC (Bruxelles)
DESCRIPTION:Prix: 19\,50 EUR (prévente: 16\,50 EUR)\nBota’Carte: 13\,50 EUR \nÀ l’affiche:\n– Maria BC
URL:https://musicinbelgium.net/evenement/maria-bc-bruxelles/
LOCATION:Le Botanique\, Rotonde\, rue Royale 236\, Bruxelles\, 1000\, Belgium
END:VEVENT
BEGIN:VEVENT
DTSTART;TZID=Europe/Brussels:20231026T200000
DTEND;TZID=Europe/Brussels:20231026T223000
DTSTAMP:20260420T000816
CREATED:20230724T213510Z
LAST-MODIFIED:20230724T213510Z
UID:122801-1698350400-1698359400@musicinbelgium.net
SUMMARY:SEX SWING (Bruxelles)
DESCRIPTION:Prix: 16\,50 EUR (prévente: 13\,50 EUR)\nBota’Carte: 10\,50 EUR \nÀ l’affiche:\n– Sex Swing
URL:https://musicinbelgium.net/evenement/sex-swing-bruxelles/
LOCATION:Le Botanique\, Witloof Bar\, rue Royale 236\, Bruxelles\, 1000\, Belgium
END:VEVENT
BEGIN:VEVENT
DTSTART;TZID=Europe/Brussels:20231025T203000
DTEND;TZID=Europe/Brussels:20231025T230000
DTSTAMP:20260420T000816
CREATED:20230801T222951Z
LAST-MODIFIED:20231025T062803Z
UID:123104-1698265800-1698274800@musicinbelgium.net
SUMMARY:Dougie POOLE & Anday BOAY (Gent)
DESCRIPTION:Prix: 17\,00 EUR (prévente: 14\,00 EUR) \nÀ l’affiche:\n– Dougie Poole\n– Andy Boay
URL:https://musicinbelgium.net/evenement/dougie-poole-gent/
LOCATION:Charlatan\, Vlasmarkt 6\, Gent\, 9000\, Belgium
END:VEVENT
END:VCALENDAR