
BEGIN:VCALENDAR
VERSION:2.0
PRODID:-//Music In Belgium - ECPv6.15.20//NONSGML v1.0//EN
CALSCALE:GREGORIAN
METHOD:PUBLISH
X-WR-CALNAME:Music In Belgium
X-ORIGINAL-URL:https://musicinbelgium.net
X-WR-CALDESC:Events for Music In Belgium
REFRESH-INTERVAL;VALUE=DURATION:PT1H
X-Robots-Tag:noindex
X-PUBLISHED-TTL:PT1H
BEGIN:VTIMEZONE
TZID:Europe/Brussels
BEGIN:DAYLIGHT
TZOFFSETFROM:+0100
TZOFFSETTO:+0200
TZNAME:CEST
DTSTART:20250330T010000
END:DAYLIGHT
BEGIN:STANDARD
TZOFFSETFROM:+0200
TZOFFSETTO:+0100
TZNAME:CET
DTSTART:20251026T010000
END:STANDARD
BEGIN:DAYLIGHT
TZOFFSETFROM:+0100
TZOFFSETTO:+0200
TZNAME:CEST
DTSTART:20260329T010000
END:DAYLIGHT
BEGIN:STANDARD
TZOFFSETFROM:+0200
TZOFFSETTO:+0100
TZNAME:CET
DTSTART:20261025T010000
END:STANDARD
BEGIN:DAYLIGHT
TZOFFSETFROM:+0100
TZOFFSETTO:+0200
TZNAME:CEST
DTSTART:20270328T010000
END:DAYLIGHT
BEGIN:STANDARD
TZOFFSETFROM:+0200
TZOFFSETTO:+0100
TZNAME:CET
DTSTART:20271031T010000
END:STANDARD
END:VTIMEZONE
BEGIN:VEVENT
DTSTART;TZID=Europe/Brussels:20260418T200000
DTEND;TZID=Europe/Brussels:20260418T221500
DTSTAMP:20260425T144938
CREATED:20260121T203322Z
LAST-MODIFIED:20260417T213513Z
UID:155046-1776542400-1776550500@musicinbelgium.net
SUMMARY:Steph STRINGS + Joanne BIRD (Borgerhout)
DESCRIPTION:Prix: 20\,00 EUR (prévente: 18\,00 EUR) \nÀ l’affiche:\n– Steph Strings\n– Joanne Bird
URL:https://musicinbelgium.net/evenement/steph-strings-borgerhout-2/
LOCATION:De Roma (Foyer)\, Turnhoutsebaan 286\, Borgerhout\, 2140\, Belgium
CATEGORIES:!!!SOLD OUT!!!
END:VEVENT
BEGIN:VEVENT
DTSTART;TZID=Europe/Brussels:20260419T180000
DTEND;TZID=Europe/Brussels:20260419T203000
DTSTAMP:20260425T144938
CREATED:20260204T002958Z
LAST-MODIFIED:20260418T235816Z
UID:156022-1776621600-1776630600@musicinbelgium.net
SUMMARY:Sophia STEL + Clara KIMERA (Bruxelles)
DESCRIPTION:Prix: 20\,65 EUR (prévente: 17\,65 EUR)\nBota’Carte: 14\,65 EUR \nÀ l’affiche:\n– Sophia Stel\n– Clara Kimera
URL:https://musicinbelgium.net/evenement/sophia-stel-bruxelles/
LOCATION:Le Botanique\, Witloof Bar\, rue Royale 236\, Bruxelles\, 1000\, Belgium
CATEGORIES:!!!SOLD OUT!!!
END:VEVENT
BEGIN:VEVENT
DTSTART;TZID=Europe/Brussels:20260422T192000
DTEND;TZID=Europe/Brussels:20260422T220000
DTSTAMP:20260425T144938
CREATED:20260108T230405Z
LAST-MODIFIED:20260421T215238Z
UID:154191-1776885600-1776895200@musicinbelgium.net
SUMMARY:The NOTWIST + A HAPPY RETURN (Bruxelles)
DESCRIPTION:Prix: 29\,00 EUR (prévente: 26\,00 EUR)\nBota’Carte: 23\,00 EUR \nÀ l’affiche:\n– The Notwist\n– A Happy Return
URL:https://musicinbelgium.net/evenement/the-notwist-bruxelles/
LOCATION:Le Botanique\, Orangerie\, rue Royale 236\, Bruxelles\, 1000\, Belgium
CATEGORIES:!!!SOLD OUT!!!
END:VEVENT
BEGIN:VEVENT
DTSTART;TZID=Europe/Brussels:20260422T201500
DTEND;TZID=Europe/Brussels:20260422T230000
DTSTAMP:20260425T144938
CREATED:20260116T000740Z
LAST-MODIFIED:20260421T215550Z
UID:154629-1776888900-1776898800@musicinbelgium.net
SUMMARY:LÉZARD + GROTE GEELSTAART (Gent)
DESCRIPTION:Prix: 19\,00 EUR (prévente: 16\,50 EUR) \nÀ l’affiche:\n– Lézard\n– Grote Geelstaart
URL:https://musicinbelgium.net/evenement/lezard-gent/
LOCATION:De Koer\, Meibloemstraat 86\, Gent\, 9000\, Belgium
CATEGORIES:!!!SOLD OUT!!!
END:VEVENT
BEGIN:VEVENT
DTSTART;TZID=Europe/Brussels:20260423T193000
DTEND;TZID=Europe/Brussels:20260423T220000
DTSTAMP:20260425T144938
CREATED:20260108T230555Z
LAST-MODIFIED:20260423T050347Z
UID:154193-1776972600-1776981600@musicinbelgium.net
SUMMARY:SKINSHAPE + Pedro MIZUTANI (Bruxelles)
DESCRIPTION:Prix: 26\,50 EUR (prévente: 23\,50 EUR)\nBota’Carte: 20\,50 EUR \nÀ l’affiche:\n– Skinshape\n– Pedro Mizutani
URL:https://musicinbelgium.net/evenement/skinshape-bruxelles/
LOCATION:Le Botanique\, Orangerie\, rue Royale 236\, Bruxelles\, 1000\, Belgium
CATEGORIES:!!!SOLD OUT!!!
END:VEVENT
BEGIN:VEVENT
DTSTART;TZID=Europe/Brussels:20260423T193000
DTEND;TZID=Europe/Brussels:20260423T220000
DTSTAMP:20260425T144938
CREATED:20260108T230814Z
LAST-MODIFIED:20260423T050527Z
UID:154195-1776972600-1776981600@musicinbelgium.net
SUMMARY:RIKAS + NÉOMÍ (Bruxelles)
DESCRIPTION:Prix: 20\,50 EUR (prévente: 17\,50 EUR)\nBota’Carte: 14\,50 EUR \nÀ l’affiche:\n– Rikas\n– Néomí
URL:https://musicinbelgium.net/evenement/rikas-bruxelles/
LOCATION:Le Botanique\, Witloof Bar\, rue Royale 236\, Bruxelles\, 1000\, Belgium
CATEGORIES:!!!SOLD OUT!!!
END:VEVENT
BEGIN:VEVENT
DTSTART;TZID=Europe/Brussels:20260424T193000
DTEND;TZID=Europe/Brussels:20260424T220000
DTSTAMP:20260425T144938
CREATED:20260108T231011Z
LAST-MODIFIED:20260424T062918Z
UID:154197-1777059000-1777068000@musicinbelgium.net
SUMMARY:Jamie WOON + Jono McCLEERY (Bruxelles)
DESCRIPTION:Prix: 32\,50 EUR (prévente: 29\,50 EUR)\nBota’Carte: 26\,50 EUR \nÀ l’affiche:\n– Jamie Woon\n– Jono McCleery
URL:https://musicinbelgium.net/evenement/jamie-woon-bruxelles/
LOCATION:Le Botanique\, Orangerie\, rue Royale 236\, Bruxelles\, 1000\, Belgium
CATEGORIES:!!!SOLD OUT!!!
END:VEVENT
BEGIN:VEVENT
DTSTART;TZID=Europe/Brussels:20260424T193000
DTEND;TZID=Europe/Brussels:20260424T222000
DTSTAMP:20260425T144938
CREATED:20260112T102550Z
LAST-MODIFIED:20260425T101252Z
UID:154412-1777059000-1777069200@musicinbelgium.net
SUMMARY:The SCABS + THE ME IN YOU (Bruxelles)
DESCRIPTION:Prix: 39\,00 EUR (prévente: 38\,00 EUR) \nÀ l’affiche:\n– The Scabs\n– The Me In You \n‘The Phoenix Tour’
URL:https://musicinbelgium.net/evenement/the-scabs-bruxelles-2/
LOCATION:AB Salle\, bd Anspach 110\, Bruxelles\, 1000\, Belgium
CATEGORIES:!!!SOLD OUT!!!
END:VEVENT
BEGIN:VEVENT
DTSTART;TZID=Europe/Brussels:20260424T210000
DTEND;TZID=Europe/Brussels:20260424T230000
DTSTAMP:20260425T144938
CREATED:20260204T221010Z
LAST-MODIFIED:20260424T063517Z
UID:156064-1777064400-1777071600@musicinbelgium.net
SUMMARY:DITZ + STONKS (Charleroi)
DESCRIPTION:Prix: 20\,00 EUR (prévente: 17\,00 EUR)\nAbonnés: 14\,00 EUR \nA l’affiche:\n– Ditz\n– Stonks
URL:https://musicinbelgium.net/evenement/ditz-charleroi/
LOCATION:Eden\, Boulevard Jacques Bertrand 1\, Charleroi\, 6000\, Belgium
CATEGORIES:!!!SOLD OUT!!!
END:VEVENT
BEGIN:VEVENT
DTSTART;TZID=Europe/Brussels:20260425T193000
DTEND;TZID=Europe/Brussels:20260425T222000
DTSTAMP:20260425T144938
CREATED:20260112T102659Z
LAST-MODIFIED:20260425T101155Z
UID:154414-1777145400-1777155600@musicinbelgium.net
SUMMARY:The SCABS + HOLLIZ (Bruxelles)
DESCRIPTION:Prix: 39\,00 EUR (prévente: 38\,00 EUR) \nÀ l’affiche:\n– The Scabs\n– Holliz \n‘The Phoenix Tour’
URL:https://musicinbelgium.net/evenement/the-scabs-bruxelles-3/
LOCATION:AB Salle\, bd Anspach 110\, Bruxelles\, 1000\, Belgium
CATEGORIES:!!!SOLD OUT!!!
END:VEVENT
BEGIN:VEVENT
DTSTART;TZID=Europe/Brussels:20260425T200000
DTEND;TZID=Europe/Brussels:20260425T220000
DTSTAMP:20260425T144938
CREATED:20260121T212925Z
LAST-MODIFIED:20260425T101620Z
UID:155052-1777147200-1777154400@musicinbelgium.net
SUMMARY:Jools HOLLAND AND HIS RHYTHM & BLUES ORCHESTRA (Borgerhout)
DESCRIPTION:Prix: 47\,00 EUR (prévente: 45\,00 EUR) \nÀ l’affiche:\n– Jools Holland And His Rhythm & Blues Orchestra
URL:https://musicinbelgium.net/evenement/jools-holland-borgerhout-2/
LOCATION:De Roma\, Turnhoutsebaan 327\, Borgerhout\, 2140\, Belgium
CATEGORIES:!!!SOLD OUT!!!
END:VEVENT
BEGIN:VEVENT
DTSTART;TZID=Europe/Brussels:20260425T201500
DTEND;TZID=Europe/Brussels:20260425T223000
DTSTAMP:20260425T144938
CREATED:20260119T214944Z
LAST-MODIFIED:20260425T101426Z
UID:154888-1777148100-1777156200@musicinbelgium.net
SUMMARY:LÉZARD + OLGA (Borgerhout)
DESCRIPTION:Prix: 18\,00 EUR (prévente: 16\,50 EUR)\nMoins de 26 ans: 14\,50 EUR \nÀ l’affiche:\n– Lézard\n– Olga
URL:https://musicinbelgium.net/evenement/lezard-borgerhout/
LOCATION:Trix Bar\, Noordersingel 28-30\, Borgerhout\, 2140\, Belgium
CATEGORIES:!!!SOLD OUT!!!
END:VEVENT
BEGIN:VEVENT
DTSTART;TZID=Europe/Brussels:20260427T200000
DTEND;TZID=Europe/Brussels:20260427T223000
DTSTAMP:20260425T144938
CREATED:20260112T103225Z
LAST-MODIFIED:20260112T103225Z
UID:154421-1777320000-1777329000@musicinbelgium.net
SUMMARY:SKILLET (Bruxelles)
DESCRIPTION:Prix: 50\,00 EUR (prévente) \nÀ l’affiche:\n– Skillet
URL:https://musicinbelgium.net/evenement/skillet-bruxelles-2/
LOCATION:AB Salle\, bd Anspach 110\, Bruxelles\, 1000\, Belgium
CATEGORIES:!!!SOLD OUT!!!
END:VEVENT
BEGIN:VEVENT
DTSTART;TZID=Europe/Brussels:20260427T200000
DTEND;TZID=Europe/Brussels:20260427T230000
DTSTAMP:20260425T144938
CREATED:20260124T095328Z
LAST-MODIFIED:20260124T095328Z
UID:155364-1777320000-1777330800@musicinbelgium.net
SUMMARY:Tori AMOS (Bruxelles)
DESCRIPTION:Prix:  \nÀ l’affiche:\n– Tori Amos
URL:https://musicinbelgium.net/evenement/tori-amos-bruxelles-3/
LOCATION:Cirque Royal\, rue de l'Enseignement 81\, Bruxelles\, 1000\, Belgium
CATEGORIES:!!!SOLD OUT!!!
END:VEVENT
BEGIN:VEVENT
DTSTART;TZID=Europe/Brussels:20260429T200000
DTEND;TZID=Europe/Brussels:20260429T230000
DTSTAMP:20260425T144938
CREATED:20260124T095558Z
LAST-MODIFIED:20260124T095558Z
UID:155366-1777492800-1777503600@musicinbelgium.net
SUMMARY:The HAUNTED YOUTH (Bruxelles)
DESCRIPTION:Prix:  \nÀ l’affiche:\n– The Haunted Youth
URL:https://musicinbelgium.net/evenement/the-haunted-youth-bruxelles-3/
LOCATION:Cirque Royal\, rue de l'Enseignement 81\, Bruxelles\, 1000\, Belgium
CATEGORIES:!!!SOLD OUT!!!
END:VEVENT
BEGIN:VEVENT
DTSTART;TZID=Europe/Brussels:20260430T200000
DTEND;TZID=Europe/Brussels:20260430T230000
DTSTAMP:20260425T144938
CREATED:20260124T095739Z
LAST-MODIFIED:20260124T095739Z
UID:155368-1777579200-1777590000@musicinbelgium.net
SUMMARY:The HAUNTED YOUTH (Bruxelles)
DESCRIPTION:Prix:  \nÀ l’affiche:\n– The Haunted Youth
URL:https://musicinbelgium.net/evenement/the-haunted-youth-bruxelles-4/
LOCATION:Cirque Royal\, rue de l'Enseignement 81\, Bruxelles\, 1000\, Belgium
CATEGORIES:!!!SOLD OUT!!!
END:VEVENT
BEGIN:VEVENT
DTSTART;TZID=Europe/Brussels:20260501T200000
DTEND;TZID=Europe/Brussels:20260501T230000
DTSTAMP:20260425T144938
CREATED:20260124T095856Z
LAST-MODIFIED:20260124T095856Z
UID:155370-1777665600-1777676400@musicinbelgium.net
SUMMARY:The HAUNTED YOUTH (Bruxelles)
DESCRIPTION:Prix:  \nÀ l’affiche:\n– The Haunted Youth
URL:https://musicinbelgium.net/evenement/the-haunted-youth-bruxelles-5/
LOCATION:Cirque Royal\, rue de l'Enseignement 81\, Bruxelles\, 1000\, Belgium
CATEGORIES:!!!SOLD OUT!!!
END:VEVENT
BEGIN:VEVENT
DTSTART;TZID=Europe/Brussels:20260502T200000
DTEND;TZID=Europe/Brussels:20260502T230000
DTSTAMP:20260425T144938
CREATED:20260121T213757Z
LAST-MODIFIED:20260121T213757Z
UID:155060-1777752000-1777762800@musicinbelgium.net
SUMMARY:FISCHER-Z (Borgerhout)
DESCRIPTION:Prix: 39\,00 EUR (prévente: 37\,00 EUR) \nÀ l’affiche:\n– Fischer-Z
URL:https://musicinbelgium.net/evenement/fischer-z-borgerhout/
LOCATION:De Roma\, Turnhoutsebaan 327\, Borgerhout\, 2140\, Belgium
CATEGORIES:!!!SOLD OUT!!!
END:VEVENT
BEGIN:VEVENT
DTSTART;TZID=Europe/Brussels:20260503T200000
DTEND;TZID=Europe/Brussels:20260503T223000
DTSTAMP:20260425T144938
CREATED:20260112T105401Z
LAST-MODIFIED:20260112T105401Z
UID:154440-1777838400-1777847400@musicinbelgium.net
SUMMARY:FISCHER-Z (Bruxelles)
DESCRIPTION:Prix: 39\,00 EUR (prévente) \nÀ l’affiche:\n– Fischer-Z
URL:https://musicinbelgium.net/evenement/fischer-z-bruxelles/
LOCATION:AB Salle\, bd Anspach 110\, Bruxelles\, 1000\, Belgium
CATEGORIES:!!!SOLD OUT!!!
END:VEVENT
BEGIN:VEVENT
DTSTART;TZID=Europe/Brussels:20260505T200000
DTEND;TZID=Europe/Brussels:20260505T230000
DTSTAMP:20260425T144938
CREATED:20260125T205221Z
LAST-MODIFIED:20260125T205221Z
UID:155466-1778011200-1778022000@musicinbelgium.net
SUMMARY:TAME IMPALA (Merksem)
DESCRIPTION:Prix:  \nÀ l’affiche:\n– Tame Impala \n‘Deadbeat Tour’
URL:https://musicinbelgium.net/evenement/tame-impala-merksem/
LOCATION:AFAS Dome\, Schijnpoortweg 119\, Merksem\, 2170\, Belgium
CATEGORIES:!!!SOLD OUT!!!
END:VEVENT
BEGIN:VEVENT
DTSTART;TZID=Europe/Brussels:20260506T200000
DTEND;TZID=Europe/Brussels:20260506T223000
DTSTAMP:20260425T144938
CREATED:20260113T110032Z
LAST-MODIFIED:20260113T110032Z
UID:154445-1778097600-1778106600@musicinbelgium.net
SUMMARY:AMENRA (Bruxelles)
DESCRIPTION:Prix: 38\,00 EUR (prévente) \nÀ l’affiche:\n– Amenra
URL:https://musicinbelgium.net/evenement/amenra-bruxelles-8/
LOCATION:AB Salle\, bd Anspach 110\, Bruxelles\, 1000\, Belgium
CATEGORIES:!!!SOLD OUT!!!
END:VEVENT
BEGIN:VEVENT
DTSTART;TZID=Europe/Brussels:20260507T200000
DTEND;TZID=Europe/Brussels:20260507T223000
DTSTAMP:20260425T144938
CREATED:20260113T110137Z
LAST-MODIFIED:20260113T110137Z
UID:154447-1778184000-1778193000@musicinbelgium.net
SUMMARY:AMENRA (Bruxelles)
DESCRIPTION:Prix: 38\,00 EUR (prévente) \nÀ l’affiche:\n– Amenra
URL:https://musicinbelgium.net/evenement/amenra-bruxelles-9/
LOCATION:AB Salle\, bd Anspach 110\, Bruxelles\, 1000\, Belgium
CATEGORIES:!!!SOLD OUT!!!
END:VEVENT
BEGIN:VEVENT
DTSTART;TZID=Europe/Brussels:20260508T200000
DTEND;TZID=Europe/Brussels:20260508T223000
DTSTAMP:20260425T144938
CREATED:20260113T110234Z
LAST-MODIFIED:20260113T110234Z
UID:154449-1778270400-1778279400@musicinbelgium.net
SUMMARY:AMENRA (Bruxelles)
DESCRIPTION:Prix: 38\,00 EUR (prévente) \nÀ l’affiche:\n– Amenra
URL:https://musicinbelgium.net/evenement/amenra-bruxelles-10/
LOCATION:AB Salle\, bd Anspach 110\, Bruxelles\, 1000\, Belgium
CATEGORIES:!!!SOLD OUT!!!
END:VEVENT
BEGIN:VEVENT
DTSTART;TZID=Europe/Brussels:20260512T200000
DTEND;TZID=Europe/Brussels:20260512T223000
DTSTAMP:20260425T144938
CREATED:20260114T132517Z
LAST-MODIFIED:20260114T132517Z
UID:154477-1778616000-1778625000@musicinbelgium.net
SUMMARY:MACHINE HEAD (Bruxelles)
DESCRIPTION:Prix: 60\,00 EUR (prévente) \nÀ l’affiche:\n– Machine Head
URL:https://musicinbelgium.net/evenement/machine-head-bruxelles-2/
LOCATION:AB Salle\, bd Anspach 110\, Bruxelles\, 1000\, Belgium
CATEGORIES:!!!SOLD OUT!!!
END:VEVENT
BEGIN:VEVENT
DTSTART;TZID=Europe/Brussels:20260513T200000
DTEND;TZID=Europe/Brussels:20260513T230000
DTSTAMP:20260425T144938
CREATED:20260125T205502Z
LAST-MODIFIED:20260125T205502Z
UID:155468-1778702400-1778713200@musicinbelgium.net
SUMMARY:The NEIGHBOURHOOD (Merksem)
DESCRIPTION:Prix:  \nÀ l’affiche:\n– The Neighbourhood \n‘The Wourld Tour’
URL:https://musicinbelgium.net/evenement/the-neighbourhood-merksem/
LOCATION:AFAS Dome\, Schijnpoortweg 119\, Merksem\, 2170\, Belgium
CATEGORIES:!!!SOLD OUT!!!
END:VEVENT
BEGIN:VEVENT
DTSTART;TZID=Europe/Brussels:20260516T200000
DTEND;TZID=Europe/Brussels:20260516T230000
DTSTAMP:20260425T144938
CREATED:20260124T000423Z
LAST-MODIFIED:20260124T000423Z
UID:155317-1778961600-1778972400@musicinbelgium.net
SUMMARY:16 HORSEPOWER (Liège)
DESCRIPTION:Prix: 43\,00 EUR (prévente) \nÀ l’affiche:\n– 16 Horsepower
URL:https://musicinbelgium.net/evenement/16-horsepower-liege/
LOCATION:Reflektor\, Place Xavier Neujean 24\, Liege\, 4000\, Belgium
CATEGORIES:!!!SOLD OUT!!!
END:VEVENT
BEGIN:VEVENT
DTSTART;TZID=Europe/Brussels:20260521T200000
DTEND;TZID=Europe/Brussels:20260521T230000
DTSTAMP:20260425T144938
CREATED:20260124T003353Z
LAST-MODIFIED:20260124T003353Z
UID:155342-1779393600-1779404400@musicinbelgium.net
SUMMARY:PUGGY (Seraing)
DESCRIPTION:Prix: 38\,00 EUR (prévente) \nÀ l’affiche:\n– Puggy
URL:https://musicinbelgium.net/evenement/puggy-seraing-2/
LOCATION:OM\, Quai Louva 1\, Seraing\, 4102\, Belgium
CATEGORIES:!!!SOLD OUT!!!
END:VEVENT
BEGIN:VEVENT
DTSTART;TZID=Europe/Brussels:20260523T200000
DTEND;TZID=Europe/Brussels:20260523T223000
DTSTAMP:20260425T144938
CREATED:20260114T133502Z
LAST-MODIFIED:20260114T133546Z
UID:154483-1779566400-1779575400@musicinbelgium.net
SUMMARY:Sienna SPIRO (Bruxelles)
DESCRIPTION:Prix: 28\,00 EUR (prévente) \nÀ l’affiche:\n– Sienna Spiro \n‘The Visitor Tour’
URL:https://musicinbelgium.net/evenement/sienna-spiro-bruxelles/
LOCATION:AB Salle\, bd Anspach 110\, Bruxelles\, 1000\, Belgium
CATEGORIES:!!!SOLD OUT!!!
END:VEVENT
BEGIN:VEVENT
DTSTART;TZID=Europe/Brussels:20260524T200000
DTEND;TZID=Europe/Brussels:20260524T230000
DTSTAMP:20260425T144938
CREATED:20260121T215205Z
LAST-MODIFIED:20260121T215205Z
UID:155074-1779652800-1779663600@musicinbelgium.net
SUMMARY:Beth HART (Borgerhout)
DESCRIPTION:Prix: 57\,00 EUR (prévente: 55\,00 EUR) \nÀ l’affiche:\n– Beth Hart
URL:https://musicinbelgium.net/evenement/beth-hart-borgerhout/
LOCATION:De Roma\, Turnhoutsebaan 327\, Borgerhout\, 2140\, Belgium
CATEGORIES:!!!SOLD OUT!!!
END:VEVENT
BEGIN:VEVENT
DTSTART;TZID=Europe/Brussels:20260528T180000
DTEND;TZID=Europe/Brussels:20260528T230000
DTSTAMP:20260425T144938
CREATED:20260206T001910Z
LAST-MODIFIED:20260408T225556Z
UID:156116-1779991200-1780009200@musicinbelgium.net
SUMMARY:LES NUITS - ANGINE DE POITRINE (Bruxelles)
DESCRIPTION:Prix: 38\,50 EUR (Bota’Carte: 33\,50 EUR) \nA l’affiche (ordre alphabétique):\n– Angine de Poitrine\n– Chloe Slater\n– Forsissies\n– The Garden\n– Maria Iskariot\n– Model/Actriz\n– Panic Shack\n– Zep
URL:https://musicinbelgium.net/evenement/les-nuits-angine-de-poitrine-bruxelles/
LOCATION:Le Botanique\, toutes salles\, Rue Royale 236\, Bruxelles\, 1200\, Belgium
CATEGORIES:!!!SOLD OUT!!!
END:VEVENT
END:VCALENDAR