
BEGIN:VCALENDAR
VERSION:2.0
PRODID:-//Music In Belgium - ECPv6.15.20//NONSGML v1.0//EN
CALSCALE:GREGORIAN
METHOD:PUBLISH
X-ORIGINAL-URL:https://musicinbelgium.net
X-WR-CALDESC:Events for Music In Belgium
REFRESH-INTERVAL;VALUE=DURATION:PT1H
X-Robots-Tag:noindex
X-PUBLISHED-TTL:PT1H
BEGIN:VTIMEZONE
TZID:Europe/Brussels
BEGIN:DAYLIGHT
TZOFFSETFROM:+0100
TZOFFSETTO:+0200
TZNAME:CEST
DTSTART:20230326T010000
END:DAYLIGHT
BEGIN:STANDARD
TZOFFSETFROM:+0200
TZOFFSETTO:+0100
TZNAME:CET
DTSTART:20231029T010000
END:STANDARD
BEGIN:DAYLIGHT
TZOFFSETFROM:+0100
TZOFFSETTO:+0200
TZNAME:CEST
DTSTART:20240331T010000
END:DAYLIGHT
BEGIN:STANDARD
TZOFFSETFROM:+0200
TZOFFSETTO:+0100
TZNAME:CET
DTSTART:20241027T010000
END:STANDARD
BEGIN:DAYLIGHT
TZOFFSETFROM:+0100
TZOFFSETTO:+0200
TZNAME:CEST
DTSTART:20250330T010000
END:DAYLIGHT
BEGIN:STANDARD
TZOFFSETFROM:+0200
TZOFFSETTO:+0100
TZNAME:CET
DTSTART:20251026T010000
END:STANDARD
END:VTIMEZONE
BEGIN:VEVENT
DTSTART;TZID=Europe/Brussels:20240922T191000
DTEND;TZID=Europe/Brussels:20240922T223000
DTSTAMP:20260420T204440
CREATED:20240819T170409Z
LAST-MODIFIED:20240922T093918Z
UID:137044-1727032200-1727044200@musicinbelgium.net
SUMMARY:The DANDY WARHOLS & The BLACK ANGELS (Bruxelles)
DESCRIPTION:Prix: 36\,72 EUR \nÀ l’affiche:\n– The Dandy Warhols\n– The Black Angels\n– Miranda Lee Richards
URL:https://musicinbelgium.net/evenement/the-dandy-warhols-the-black-angels-bruxelles/
LOCATION:La Madeleine\, Rue Duquesnoy 14\, Bruxelles\, 1000\, Belgium
CATEGORIES:!!!SOLD OUT!!!
END:VEVENT
BEGIN:VEVENT
DTSTART;TZID=Europe/Brussels:20240922T210000
DTEND;TZID=Europe/Brussels:20240922T223000
DTSTAMP:20260420T204440
CREATED:20240725T200554Z
LAST-MODIFIED:20240922T094011Z
UID:136463-1727038800-1727044200@musicinbelgium.net
SUMMARY:Selah SUE (Leuven)
DESCRIPTION:Prix: 35\,00 EUR (prévente: 32\,00 EUR) \nÀ l’affiche:\n– Selah Sue
URL:https://musicinbelgium.net/evenement/selah-sue-leuven-2/
LOCATION:Het Depot\, Martelarenplein 12\, Leuven\, 3000\, Belgium
CATEGORIES:!!!SOLD OUT!!!
END:VEVENT
BEGIN:VEVENT
DTSTART;TZID=Europe/Brussels:20240924T200000
DTEND;TZID=Europe/Brussels:20240924T223000
DTSTAMP:20260420T204440
CREATED:20240724T212140Z
LAST-MODIFIED:20240924T053922Z
UID:136400-1727208000-1727217000@musicinbelgium.net
SUMMARY:SEAFRET & EMILINE (Bruxelles)
DESCRIPTION:Prix: 17\,00 EUR (prévente) \nÀ l’affiche:\n– Seafret\n– Emiline
URL:https://musicinbelgium.net/evenement/seafret-bruxelles/
LOCATION:AB Club\, bd Anspach 110\, Bruxelles\, 1000\, Belgium
CATEGORIES:!!!SOLD OUT!!!
END:VEVENT
BEGIN:VEVENT
DTSTART;TZID=Europe/Brussels:20240925T203000
DTEND;TZID=Europe/Brussels:20240925T223000
DTSTAMP:20260420T204440
CREATED:20240724T212458Z
LAST-MODIFIED:20240924T221017Z
UID:136404-1727296200-1727303400@musicinbelgium.net
SUMMARY:MEUTE (Bruxelles)
DESCRIPTION:Prix: 39\,00 EUR (prévente) \nÀ l’affiche:\n– Meute
URL:https://musicinbelgium.net/evenement/meute-bruxelles-4/
LOCATION:AB Salle\, bd Anspach 110\, Bruxelles\, 1000\, Belgium
CATEGORIES:!!!SOLD OUT!!!
END:VEVENT
BEGIN:VEVENT
DTSTART;TZID=Europe/Brussels:20240926T200000
DTEND;TZID=Europe/Brussels:20240926T223000
DTSTAMP:20260420T204440
CREATED:20240724T190157Z
LAST-MODIFIED:20240926T052036Z
UID:136336-1727380800-1727389800@musicinbelgium.net
SUMMARY:Marina SATTI (Bruxelles)
DESCRIPTION:Prix: 32\,00 EUR (prévente: 29\,00 EUR)\nBota’Carte: 26\,00 EUR \nÀ l’affiche:\n– Marina Satti
URL:https://musicinbelgium.net/evenement/marina-satti-bruxelles/
LOCATION:Le Botanique\, Orangerie\, rue Royale 236\, Bruxelles\, 1000\, Belgium
CATEGORIES:!!!SOLD OUT!!!
END:VEVENT
BEGIN:VEVENT
DTSTART;TZID=Europe/Brussels:20240926T203000
DTEND;TZID=Europe/Brussels:20240926T223000
DTSTAMP:20260420T204440
CREATED:20240724T212627Z
LAST-MODIFIED:20240926T052123Z
UID:136406-1727382600-1727389800@musicinbelgium.net
SUMMARY:MEUTE (Bruxelles)
DESCRIPTION:Prix: 39\,00 EUR (prévente) \nÀ l’affiche:\n– Meute
URL:https://musicinbelgium.net/evenement/meute-bruxelles-5/
LOCATION:AB Salle\, bd Anspach 110\, Bruxelles\, 1000\, Belgium
CATEGORIES:!!!SOLD OUT!!!
END:VEVENT
BEGIN:VEVENT
DTSTART;TZID=Europe/Brussels:20240927T200000
DTEND;TZID=Europe/Brussels:20240927T220500
DTSTAMP:20260420T204440
CREATED:20240725T220707Z
LAST-MODIFIED:20240926T204917Z
UID:136514-1727467200-1727474700@musicinbelgium.net
SUMMARY:Joe JACKSON (Borgerhout)
DESCRIPTION:Prix: 51\,00 EUR (prévente: 49\,00 EUR) \nÀ l’affiche:\n– Joe Jackson \n‘The Two Rounds of Racket Tour’
URL:https://musicinbelgium.net/evenement/joe-jackson-borgerhout-4/
LOCATION:De Roma\, Turnhoutsebaan 327\, Borgerhout\, 2140\, Belgium
CATEGORIES:!!!SOLD OUT!!!
END:VEVENT
BEGIN:VEVENT
DTSTART;TZID=Europe/Brussels:20240928T193000
DTEND;TZID=Europe/Brussels:20240928T223000
DTSTAMP:20260420T204440
CREATED:20240724T213243Z
LAST-MODIFIED:20240927T153930Z
UID:136412-1727551800-1727562600@musicinbelgium.net
SUMMARY:PUGGY & David NUMWAMI (Bruxelles)
DESCRIPTION:Prix: 36\,00 EUR (prévente: 35\,00 EUR) \nÀ l’affiche:\n– Puggy\n– David Numwami
URL:https://musicinbelgium.net/evenement/puggy-bruxelles-2/
LOCATION:AB Salle\, bd Anspach 110\, Bruxelles\, 1000\, Belgium
CATEGORIES:!!!SOLD OUT!!!
END:VEVENT
BEGIN:VEVENT
DTSTART;TZID=Europe/Brussels:20240929T192500
DTEND;TZID=Europe/Brussels:20240929T223000
DTSTAMP:20260420T204440
CREATED:20240725T210250Z
LAST-MODIFIED:20240929T105632Z
UID:136481-1727637900-1727649000@musicinbelgium.net
SUMMARY:OUR LAST NIGHT & NORMANDIE & LIFESPARK (Borgerhout)
DESCRIPTION:Prix: sold out \nÀ l’affiche:\n– Our Last Night\n– Normandie\n– Lifespark
URL:https://musicinbelgium.net/evenement/our-last-night-normandie-lifespark-borgerhout/
LOCATION:Trix\, Noordersingel 28-30\, Borgerhout\, 2140\, Belgium
CATEGORIES:!!!SOLD OUT!!!
END:VEVENT
BEGIN:VEVENT
DTSTART;TZID=Europe/Brussels:20240929T193000
DTEND;TZID=Europe/Brussels:20240929T223000
DTSTAMP:20260420T204440
CREATED:20240724T213354Z
LAST-MODIFIED:20240929T104010Z
UID:136414-1727638200-1727649000@musicinbelgium.net
SUMMARY:PUGGY & David NUMWAMI (Bruxelles)
DESCRIPTION:Prix: 36\,00 EUR (prévente: 35\,00 EUR) \nÀ l’affiche:\n– Puggy\n– David Numwami
URL:https://musicinbelgium.net/evenement/puggy-bruxelles-3/
LOCATION:AB Salle\, bd Anspach 110\, Bruxelles\, 1000\, Belgium
CATEGORIES:!!!SOLD OUT!!!
END:VEVENT
BEGIN:VEVENT
DTSTART;TZID=Europe/Brussels:20240929T200000
DTEND;TZID=Europe/Brussels:20240929T213000
DTSTAMP:20260420T204440
CREATED:20240725T220908Z
LAST-MODIFIED:20240929T111133Z
UID:136516-1727640000-1727645400@musicinbelgium.net
SUMMARY:The BYGONES (Borgerhout)
DESCRIPTION:Prix: 14\,00 EUR (prévente: 12\,00 EUR) \nÀ l’affiche:\n– The Bygones
URL:https://musicinbelgium.net/evenement/the-bygones-borgerhout/
LOCATION:De Roma (Amor)\, Turnhoutsebaan 288\, Borgerhout\, 2140\, Belgium
CATEGORIES:!!!SOLD OUT!!!
END:VEVENT
BEGIN:VEVENT
DTSTART;TZID=Europe/Brussels:20241002T200000
DTEND;TZID=Europe/Brussels:20241002T230000
DTSTAMP:20260420T204440
CREATED:20240724T213853Z
LAST-MODIFIED:20241001T203557Z
UID:136418-1727899200-1727910000@musicinbelgium.net
SUMMARY:CRYSTAL FIGHTERS & CASSIA (Bruxelles)
DESCRIPTION:Prix: 30\,50 EUR (prévente: 29\,50 EUR) \nÀ l’affiche:\n– Crystal Fighters\n– Cassia \nConcert initialement prévu le 18.02.2024 à l’AB
URL:https://musicinbelgium.net/evenement/crystal-fighters-bruxelles-3/
LOCATION:La Madeleine\, Rue Duquesnoy 14\, Bruxelles\, 1000\, Belgium
CATEGORIES:!!!SOLD OUT!!!
END:VEVENT
BEGIN:VEVENT
DTSTART;TZID=Europe/Brussels:20241002T201500
DTEND;TZID=Europe/Brussels:20241002T223000
DTSTAMP:20260420T204440
CREATED:20240725T210530Z
LAST-MODIFIED:20241001T203200Z
UID:136483-1727900100-1727908200@musicinbelgium.net
SUMMARY:STONE & SOUNDS MINT (Borgerhout)
DESCRIPTION:Prix: 30\,00 EUR (prévente: 28\,50 EUR)\nMoins de 26 ans: 26\,50 EUR \nÀ l’affiche:\n– Stone\n– Sounds Mint
URL:https://musicinbelgium.net/evenement/stone-borgerhout/
LOCATION:Trix\, Noordersingel 28-30\, Borgerhout\, 2140\, Belgium
CATEGORIES:!!!SOLD OUT!!!
END:VEVENT
BEGIN:VEVENT
DTSTART;TZID=Europe/Brussels:20241002T203000
DTEND;TZID=Europe/Brussels:20241002T230000
DTSTAMP:20260420T204440
CREATED:20240726T180111Z
LAST-MODIFIED:20240726T180111Z
UID:136603-1727901000-1727910000@musicinbelgium.net
SUMMARY:Trixie WHITLEY (Sint-Niklaas)
DESCRIPTION:Prix: 33\,00 EUR (prévente: 30\,00 EUR) \nÀ l’affiche:\n– Trixie Whitley
URL:https://musicinbelgium.net/evenement/trixie-whitley-sint-niklaas/
LOCATION:De Casino\, Stationsstraat 104\, Sint-Niklaas\, 9100\, Belgium
CATEGORIES:!!!SOLD OUT!!!
END:VEVENT
BEGIN:VEVENT
DTSTART;TZID=Europe/Brussels:20241003T200000
DTEND;TZID=Europe/Brussels:20241003T213000
DTSTAMP:20260420T204440
CREATED:20240725T221140Z
LAST-MODIFIED:20241003T050913Z
UID:136519-1727985600-1727991000@musicinbelgium.net
SUMMARY:BUFFALO TOM (Borgerhout)
DESCRIPTION:Prix: 37\,00 EUR (prévente: 35\,00 EUR) \nÀ l’affiche:\n– Buffalo Tom
URL:https://musicinbelgium.net/evenement/buffalo-tom-borgerhout/
LOCATION:De Roma\, Turnhoutsebaan 327\, Borgerhout\, 2140\, Belgium
CATEGORIES:!!!SOLD OUT!!!
END:VEVENT
BEGIN:VEVENT
DTSTART;TZID=Europe/Brussels:20241003T200000
DTEND;TZID=Europe/Brussels:20241003T221000
DTSTAMP:20260420T204440
CREATED:20240726T171702Z
LAST-MODIFIED:20241003T051208Z
UID:136580-1727985600-1727993400@musicinbelgium.net
SUMMARY:Bryan ADAMS (Bruxelles)
DESCRIPTION:Prix: sold out \nÀ l’affiche:\n– Bryan Adams \n‘So Happy It Hurts Tour 2024’
URL:https://musicinbelgium.net/evenement/bryan-adams-bruxelles-2/
LOCATION:Forest National\, Avenue Victor Rousseau 208\, Bruxelles\, 1000\, Belgium
CATEGORIES:!!!SOLD OUT!!!
END:VEVENT
BEGIN:VEVENT
DTSTART;TZID=Europe/Brussels:20241006T200000
DTEND;TZID=Europe/Brussels:20241006T223000
DTSTAMP:20260420T204441
CREATED:20240724T203306Z
LAST-MODIFIED:20241006T101655Z
UID:136373-1728244800-1728253800@musicinbelgium.net
SUMMARY:POND & BARBAGALLO (Bruxelles)
DESCRIPTION:Prix: 28\,50 EUR (prévente: 25\,50 EUR)\nBota’Carte: 22\,50 EUR \nÀ l’affiche:\n– Pond\n– Barbagallo
URL:https://musicinbelgium.net/evenement/pond-barbagallo-bruxelles/
LOCATION:Le Botanique\, Museum\, Rue Royale 236\, Bruxelles\, 1210\, Belgium
CATEGORIES:!!!SOLD OUT!!!
END:VEVENT
BEGIN:VEVENT
DTSTART;TZID=Europe/Brussels:20241006T201500
DTEND;TZID=Europe/Brussels:20241006T230000
DTSTAMP:20260420T204441
CREATED:20240724T221416Z
LAST-MODIFIED:20241006T102657Z
UID:136448-1728245700-1728255600@musicinbelgium.net
SUMMARY:Trixie WHITLEY & Jonas DE KESEL (Gent)
DESCRIPTION:Prix: 34\,00 EUR (prévente: 32\,00 EUR) \nÀ l’affiche:\n– Trixie Whitley\n– Jonas De Kesel
URL:https://musicinbelgium.net/evenement/trixie-whitley-jonas-de-kesel-gent/
LOCATION:Club Wintercircus\, Miriam Makebaplein 2\, Gent\, 9000\, Belgium
CATEGORIES:!!!SOLD OUT!!!
END:VEVENT
BEGIN:VEVENT
DTSTART;TZID=Europe/Brussels:20241007T200000
DTEND;TZID=Europe/Brussels:20241007T223000
DTSTAMP:20260420T204441
CREATED:20240819T170846Z
LAST-MODIFIED:20241006T214037Z
UID:137046-1728331200-1728340200@musicinbelgium.net
SUMMARY:John MAUS & HUN HUN (Bruxelles)
DESCRIPTION:Prix: 27\,50 EUR (prévente: 24\,50 EUR)\nBota’Carte: 21\,50 EUR \nÀ l’affiche:\n– John Maus\n– Hun Hun
URL:https://musicinbelgium.net/evenement/john-maus-bruxelles/
LOCATION:Le Botanique\, Orangerie\, rue Royale 236\, Bruxelles\, 1000\, Belgium
CATEGORIES:!!!SOLD OUT!!!
END:VEVENT
BEGIN:VEVENT
DTSTART;TZID=Europe/Brussels:20241007T201500
DTEND;TZID=Europe/Brussels:20241007T230000
DTSTAMP:20260420T204441
CREATED:20240724T221606Z
LAST-MODIFIED:20241006T214351Z
UID:136450-1728332100-1728342000@musicinbelgium.net
SUMMARY:Trixie WHITLEY & ROMANIE (Gent)
DESCRIPTION:Prix: 34\,00 EUR (prévente: 32\,00 EUR) \nÀ l’affiche:\n– Trixie Whitley\n– Romanie
URL:https://musicinbelgium.net/evenement/trixie-whitley-romanie-gent/
LOCATION:Club Wintercircus\, Miriam Makebaplein 2\, Gent\, 9000\, Belgium
CATEGORIES:!!!SOLD OUT!!!
END:VEVENT
BEGIN:VEVENT
DTSTART;TZID=Europe/Brussels:20241008T200000
DTEND;TZID=Europe/Brussels:20241008T220000
DTSTAMP:20260420T204441
CREATED:20240725T221353Z
LAST-MODIFIED:20241009T104946Z
UID:136521-1728417600-1728424800@musicinbelgium.net
SUMMARY:Emmy d'ARC & Iskander MOON (Borgerhout)
DESCRIPTION:Prix: 17\,00 EUR (prévente: 15\,00 EUR) \nÀ l’affiche:\n– Emmy d’Arc\n– Iskander Moon
URL:https://musicinbelgium.net/evenement/emmy-darc-borgerhout-3/
LOCATION:De Roma (Foyer)\, Turnhoutsebaan 286\, Borgerhout\, 2140\, Belgium
CATEGORIES:!!!SOLD OUT!!!
END:VEVENT
BEGIN:VEVENT
DTSTART;TZID=Europe/Brussels:20241008T200000
DTEND;TZID=Europe/Brussels:20241008T230000
DTSTAMP:20260420T204441
CREATED:20240725T225431Z
LAST-MODIFIED:20241007T212433Z
UID:136558-1728417600-1728428400@musicinbelgium.net
SUMMARY:Daniel NORGREN (Bruxelles)
DESCRIPTION:Prix: 32\,70 EUR \nÀ l’affiche:\n– Daniel Norgren
URL:https://musicinbelgium.net/evenement/daniel-norgren-bruxelles-3/
LOCATION:Cirque Royal\, rue de l'Enseignement 81\, Bruxelles\, 1000\, Belgium
CATEGORIES:!!!SOLD OUT!!!
END:VEVENT
BEGIN:VEVENT
DTSTART;TZID=Europe/Brussels:20241009T200000
DTEND;TZID=Europe/Brussels:20241009T220000
DTSTAMP:20260420T204441
CREATED:20240725T221458Z
LAST-MODIFIED:20241009T104630Z
UID:136523-1728504000-1728511200@musicinbelgium.net
SUMMARY:Emmy d'ARC & Iskander MOON (Borgerhout)
DESCRIPTION:Prix: 17\,00 EUR (prévente: 15\,00 EUR) \nÀ l’affiche:\n– Emmy d’Arc\n– Isklander Moon
URL:https://musicinbelgium.net/evenement/emmy-darc-borgerhout-4/
LOCATION:De Roma (Foyer)\, Turnhoutsebaan 286\, Borgerhout\, 2140\, Belgium
CATEGORIES:!!!SOLD OUT!!!
END:VEVENT
BEGIN:VEVENT
DTSTART;TZID=Europe/Brussels:20241010T200000
DTEND;TZID=Europe/Brussels:20241010T214000
DTSTAMP:20260420T204441
CREATED:20241009T222935Z
LAST-MODIFIED:20241009T223019Z
UID:139790-1728590400-1728596400@musicinbelgium.net
SUMMARY:Daniel NORGREN (Borgerhout)
DESCRIPTION:Prix: 35\,00 EUR (prévente: 33\,00 EUR) \nÀ l’affiche:\n– Daniel Norgren
URL:https://musicinbelgium.net/evenement/daniel-norgren-borgerhout/
LOCATION:De Roma\, Turnhoutsebaan 327\, Borgerhout\, 2140\, Belgium
CATEGORIES:!!!SOLD OUT!!!
END:VEVENT
BEGIN:VEVENT
DTSTART;TZID=Europe/Brussels:20241010T200000
DTEND;TZID=Europe/Brussels:20241010T223000
DTSTAMP:20260420T204441
CREATED:20240819T171220Z
LAST-MODIFIED:20241009T215931Z
UID:137050-1728590400-1728599400@musicinbelgium.net
SUMMARY:FAT DOG & ELLiS-D (Bruxelles)
DESCRIPTION:Prix: 21\,00 EUR (prévente: 18\,00 EUR)\nBota’Carte: 15\,00 EUR \nÀ l’affiche:\n– Fat Dog\n– ELLiS-D
URL:https://musicinbelgium.net/evenement/fat-dog-bruxelles/
LOCATION:Le Botanique\, Museum\, Rue Royale 236\, Bruxelles\, 1210\, Belgium
CATEGORIES:!!!SOLD OUT!!!
END:VEVENT
BEGIN:VEVENT
DTSTART;TZID=Europe/Brussels:20241010T210000
DTEND;TZID=Europe/Brussels:20241010T223000
DTSTAMP:20260420T204441
CREATED:20241009T221947Z
LAST-MODIFIED:20241009T222019Z
UID:139783-1728594000-1728599400@musicinbelgium.net
SUMMARY:ADMIRAL FREEBEE (Borgerhout)
DESCRIPTION:Prix: 31\,00 EUR (prévente) \nÀ l’affiche:\n– Admiral Freebee \n‘Back To The Ever Present Tour »
URL:https://musicinbelgium.net/evenement/admiral-freebee-borgerhout-2/
LOCATION:Trix\, Noordersingel 28-30\, Borgerhout\, 2140\, Belgium
CATEGORIES:!!!SOLD OUT!!!
END:VEVENT
BEGIN:VEVENT
DTSTART;TZID=Europe/Brussels:20241012T200000
DTEND;TZID=Europe/Brussels:20241012T223000
DTSTAMP:20260420T204441
CREATED:20240820T232541Z
LAST-MODIFIED:20241012T081108Z
UID:137245-1728763200-1728772200@musicinbelgium.net
SUMMARY:Emmy d'ARC & Iskander MOON (Bruxelles)
DESCRIPTION:Prix: 17\,00 EUR \nÀ l’affiche:\n– Emmy d’Arc\n– Iskander Moon
URL:https://musicinbelgium.net/evenement/emmy-darc-bruxelles-2/
LOCATION:AB Club\, bd Anspach 110\, Bruxelles\, 1000\, Belgium
CATEGORIES:!!!SOLD OUT!!!
END:VEVENT
BEGIN:VEVENT
DTSTART;TZID=Europe/Brussels:20241014T200000
DTEND;TZID=Europe/Brussels:20241014T223000
DTSTAMP:20260420T204441
CREATED:20240820T232719Z
LAST-MODIFIED:20241013T110307Z
UID:137247-1728936000-1728945000@musicinbelgium.net
SUMMARY:GURRIERS & NERVES (Bruxelles)
DESCRIPTION:Prix: 17\,00 EUR \nÀ l’affiche:\n– Gurriers\n– Nerves
URL:https://musicinbelgium.net/evenement/gurriers-bruxelles/
LOCATION:AB Club\, bd Anspach 110\, Bruxelles\, 1000\, Belgium
CATEGORIES:!!!SOLD OUT!!!
END:VEVENT
BEGIN:VEVENT
DTSTART;TZID=Europe/Brussels:20241016T193000
DTEND;TZID=Europe/Brussels:20241016T223000
DTSTAMP:20260420T204441
CREATED:20240820T233710Z
LAST-MODIFIED:20241015T210608Z
UID:137253-1729107000-1729117800@musicinbelgium.net
SUMMARY:GODSPEED YOU! BLACK EMPEROR & Mathieu BALL (Bruxelles)
DESCRIPTION:Prix: 35\,00 EUR (prévente) \nÀ l’affiche:\n– Godspeed You! Black Emperor\n– Mathieu Ball
URL:https://musicinbelgium.net/evenement/godspeed-you-black-emperor-bruxelles-4/
LOCATION:AB Salle\, bd Anspach 110\, Bruxelles\, 1000\, Belgium
CATEGORIES:!!!SOLD OUT!!!
END:VEVENT
BEGIN:VEVENT
DTSTART;TZID=Europe/Brussels:20241016T203000
DTEND;TZID=Europe/Brussels:20241016T230000
DTSTAMP:20260420T204441
CREATED:20240726T180345Z
LAST-MODIFIED:20241015T210922Z
UID:136605-1729110600-1729119600@musicinbelgium.net
SUMMARY:Jasper STEVERLINCK (Sint-Niklaas)
DESCRIPTION:Prix: 40\,00 EUR (prévente: 37\,00 EUR) \nÀ l’affiche:\n– Jasper Steverlinck
URL:https://musicinbelgium.net/evenement/jasper-steverlinck-sint-niklaas/
LOCATION:De Casino\, Stationsstraat 104\, Sint-Niklaas\, 9100\, Belgium
CATEGORIES:!!!SOLD OUT!!!
END:VEVENT
END:VCALENDAR