
BEGIN:VCALENDAR
VERSION:2.0
PRODID:-//Music In Belgium - ECPv6.15.20//NONSGML v1.0//EN
CALSCALE:GREGORIAN
METHOD:PUBLISH
X-WR-CALNAME:Music In Belgium
X-ORIGINAL-URL:https://musicinbelgium.net
X-WR-CALDESC:Events for Music In Belgium
REFRESH-INTERVAL;VALUE=DURATION:PT1H
X-Robots-Tag:noindex
X-PUBLISHED-TTL:PT1H
BEGIN:VTIMEZONE
TZID:Europe/Brussels
BEGIN:DAYLIGHT
TZOFFSETFROM:+0100
TZOFFSETTO:+0200
TZNAME:CEST
DTSTART:20250330T010000
END:DAYLIGHT
BEGIN:STANDARD
TZOFFSETFROM:+0200
TZOFFSETTO:+0100
TZNAME:CET
DTSTART:20251026T010000
END:STANDARD
BEGIN:DAYLIGHT
TZOFFSETFROM:+0100
TZOFFSETTO:+0200
TZNAME:CEST
DTSTART:20260329T010000
END:DAYLIGHT
BEGIN:STANDARD
TZOFFSETFROM:+0200
TZOFFSETTO:+0100
TZNAME:CET
DTSTART:20261025T010000
END:STANDARD
BEGIN:DAYLIGHT
TZOFFSETFROM:+0100
TZOFFSETTO:+0200
TZNAME:CEST
DTSTART:20270328T010000
END:DAYLIGHT
BEGIN:STANDARD
TZOFFSETFROM:+0200
TZOFFSETTO:+0100
TZNAME:CET
DTSTART:20271031T010000
END:STANDARD
END:VTIMEZONE
BEGIN:VEVENT
DTSTART;TZID=Europe/Brussels:20260425T200000
DTEND;TZID=Europe/Brussels:20260425T223000
DTSTAMP:20260425T004401
CREATED:20260112T102659Z
LAST-MODIFIED:20260112T104738Z
UID:154414-1777147200-1777156200@musicinbelgium.net
SUMMARY:The SCABS (Bruxelles)
DESCRIPTION:Prix: 39\,00 EUR (prévente: 38\,00 EUR) \nÀ l’affiche:\n– The Scabs \n‘The Phoenix Tour’
URL:https://musicinbelgium.net/evenement/the-scabs-bruxelles-3/
LOCATION:AB Salle\, bd Anspach 110\, Bruxelles\, 1000\, Belgium
CATEGORIES:!!!SOLD OUT!!!
END:VEVENT
BEGIN:VEVENT
DTSTART;TZID=Europe/Brussels:20260425T200000
DTEND;TZID=Europe/Brussels:20260425T230000
DTSTAMP:20260425T004401
CREATED:20260121T212925Z
LAST-MODIFIED:20260121T212925Z
UID:155052-1777147200-1777158000@musicinbelgium.net
SUMMARY:Jools HOLLAND (Borgerhout)
DESCRIPTION:Prix: 47\,00 EUR (prévente: 45\,00 EUR) \nÀ l’affiche:\n– Jools Holland And His Rhythm & Blues Orchestra
URL:https://musicinbelgium.net/evenement/jools-holland-borgerhout-2/
LOCATION:De Roma\, Turnhoutsebaan 327\, Borgerhout\, 2140\, Belgium
CATEGORIES:!!!SOLD OUT!!!
END:VEVENT
END:VCALENDAR