
BEGIN:VCALENDAR
VERSION:2.0
PRODID:-//Music In Belgium - ECPv6.15.20//NONSGML v1.0//EN
CALSCALE:GREGORIAN
METHOD:PUBLISH
X-WR-CALNAME:Music In Belgium
X-ORIGINAL-URL:https://musicinbelgium.net
X-WR-CALDESC:Events for Music In Belgium
REFRESH-INTERVAL;VALUE=DURATION:PT1H
X-Robots-Tag:noindex
X-PUBLISHED-TTL:PT1H
BEGIN:VTIMEZONE
TZID:Europe/Brussels
BEGIN:DAYLIGHT
TZOFFSETFROM:+0100
TZOFFSETTO:+0200
TZNAME:CEST
DTSTART:20250330T010000
END:DAYLIGHT
BEGIN:STANDARD
TZOFFSETFROM:+0200
TZOFFSETTO:+0100
TZNAME:CET
DTSTART:20251026T010000
END:STANDARD
BEGIN:DAYLIGHT
TZOFFSETFROM:+0100
TZOFFSETTO:+0200
TZNAME:CEST
DTSTART:20260329T010000
END:DAYLIGHT
BEGIN:STANDARD
TZOFFSETFROM:+0200
TZOFFSETTO:+0100
TZNAME:CET
DTSTART:20261025T010000
END:STANDARD
BEGIN:DAYLIGHT
TZOFFSETFROM:+0100
TZOFFSETTO:+0200
TZNAME:CEST
DTSTART:20270328T010000
END:DAYLIGHT
BEGIN:STANDARD
TZOFFSETFROM:+0200
TZOFFSETTO:+0100
TZNAME:CET
DTSTART:20271031T010000
END:STANDARD
END:VTIMEZONE
BEGIN:VEVENT
DTSTART;TZID=Europe/Brussels:20260415T193000
DTEND;TZID=Europe/Brussels:20260415T220000
DTSTAMP:20260425T150339
CREATED:20260108T224724Z
LAST-MODIFIED:20260414T051647Z
UID:154175-1776281400-1776290400@musicinbelgium.net
SUMMARY:BLACK SEA DAHU + MALUMMÍ (Bruxelles)
DESCRIPTION:Prix: 23\,50 EUR (prévente: 20\,50 EUR)\nBota’Carte: 17\,50 EUR \nÀ l’affiche:\n– Black Sea Dahu\n– Malummí
URL:https://musicinbelgium.net/evenement/black-sea-dahu-bruxelles-2/
LOCATION:Le Botanique\, Orangerie\, rue Royale 236\, Bruxelles\, 1000\, Belgium
CATEGORIES:!!!SOLD OUT!!!
END:VEVENT
BEGIN:VEVENT
DTSTART;TZID=Europe/Brussels:20260415T200000
DTEND;TZID=Europe/Brussels:20260415T220000
DTSTAMP:20260425T150339
CREATED:20260108T224942Z
LAST-MODIFIED:20260414T211714Z
UID:154177-1776283200-1776290400@musicinbelgium.net
SUMMARY:Tom SMITH (Bruxelles)
DESCRIPTION:Prix: 46\,00 EUR (prévente: 43\,00 EUR)\nBota’Carte: 40\,00 EUR \nÀ l’affiche:\n– Tom Smith
URL:https://musicinbelgium.net/evenement/tom-smith-bruxelles/
LOCATION:Eglise Notre-Dame de Laeken\, Parvis Notre Dame\, Bruxelles\, 1000\, Belgium
CATEGORIES:!!!SOLD OUT!!!
END:VEVENT
END:VCALENDAR