
BEGIN:VCALENDAR
VERSION:2.0
PRODID:-//Music In Belgium - ECPv6.15.20//NONSGML v1.0//EN
CALSCALE:GREGORIAN
METHOD:PUBLISH
X-WR-CALNAME:Music In Belgium
X-ORIGINAL-URL:https://musicinbelgium.net
X-WR-CALDESC:Events for Music In Belgium
REFRESH-INTERVAL;VALUE=DURATION:PT1H
X-Robots-Tag:noindex
X-PUBLISHED-TTL:PT1H
BEGIN:VTIMEZONE
TZID:Europe/Brussels
BEGIN:DAYLIGHT
TZOFFSETFROM:+0100
TZOFFSETTO:+0200
TZNAME:CEST
DTSTART:20240331T010000
END:DAYLIGHT
BEGIN:STANDARD
TZOFFSETFROM:+0200
TZOFFSETTO:+0100
TZNAME:CET
DTSTART:20241027T010000
END:STANDARD
BEGIN:DAYLIGHT
TZOFFSETFROM:+0100
TZOFFSETTO:+0200
TZNAME:CEST
DTSTART:20250330T010000
END:DAYLIGHT
BEGIN:STANDARD
TZOFFSETFROM:+0200
TZOFFSETTO:+0100
TZNAME:CET
DTSTART:20251026T010000
END:STANDARD
BEGIN:DAYLIGHT
TZOFFSETFROM:+0100
TZOFFSETTO:+0200
TZNAME:CEST
DTSTART:20260329T010000
END:DAYLIGHT
BEGIN:STANDARD
TZOFFSETFROM:+0200
TZOFFSETTO:+0100
TZNAME:CET
DTSTART:20261025T010000
END:STANDARD
END:VTIMEZONE
BEGIN:VEVENT
DTSTART;TZID=Europe/Brussels:20250124T185500
DTEND;TZID=Europe/Brussels:20250124T230000
DTSTAMP:20260424T094731
CREATED:20241226T183445Z
LAST-MODIFIED:20250123T062830Z
UID:143347-1737744900-1737759600@musicinbelgium.net
SUMMARY:CATTLE DECAPITATION & SHADOW OF INTENT (Sint-Niklaas)
DESCRIPTION:Prix: 33\,00 EUR (prévente: 32\,00 EUR) \nÀ l’affiche:\n– Cattle Decapitation\n– Shadow Of Intent\n– Revocation\n– Vulvodynia
URL:https://musicinbelgium.net/evenement/cattle-decapitation-shadow-of-intent-sint-niklaas/
LOCATION:De Casino\, Stationsstraat 104\, Sint-Niklaas\, 9100\, Belgium
CATEGORIES:!!!SOLD OUT!!!
END:VEVENT
BEGIN:VEVENT
DTSTART;TZID=Europe/Brussels:20250124T200000
DTEND;TZID=Europe/Brussels:20250124T223000
DTSTAMP:20260424T094731
CREATED:20241108T190134Z
LAST-MODIFIED:20250123T062946Z
UID:141349-1737748800-1737757800@musicinbelgium.net
SUMMARY:FRONT 242 & REIN (Bruxelles)
DESCRIPTION:Prix: 43\,00 EUR (prévente: 42\,00 EUR) \nÀ l’affiche:\n– Front 242\n– Rein \n‘Black Out’
URL:https://musicinbelgium.net/evenement/front-242-bruxelles-6/
LOCATION:AB\, Boulevard Anspach 110\, Bruxelles\, 1000\, Belgium
CATEGORIES:!!!SOLD OUT!!!
END:VEVENT
END:VCALENDAR