
BEGIN:VCALENDAR
VERSION:2.0
PRODID:-//Music In Belgium - ECPv6.15.20//NONSGML v1.0//EN
CALSCALE:GREGORIAN
METHOD:PUBLISH
X-WR-CALNAME:Music In Belgium
X-ORIGINAL-URL:https://musicinbelgium.net
X-WR-CALDESC:Events for Music In Belgium
REFRESH-INTERVAL;VALUE=DURATION:PT1H
X-Robots-Tag:noindex
X-PUBLISHED-TTL:PT1H
BEGIN:VTIMEZONE
TZID:Europe/Brussels
BEGIN:DAYLIGHT
TZOFFSETFROM:+0100
TZOFFSETTO:+0200
TZNAME:CEST
DTSTART:20230326T010000
END:DAYLIGHT
BEGIN:STANDARD
TZOFFSETFROM:+0200
TZOFFSETTO:+0100
TZNAME:CET
DTSTART:20231029T010000
END:STANDARD
BEGIN:DAYLIGHT
TZOFFSETFROM:+0100
TZOFFSETTO:+0200
TZNAME:CEST
DTSTART:20240331T010000
END:DAYLIGHT
BEGIN:STANDARD
TZOFFSETFROM:+0200
TZOFFSETTO:+0100
TZNAME:CET
DTSTART:20241027T010000
END:STANDARD
BEGIN:DAYLIGHT
TZOFFSETFROM:+0100
TZOFFSETTO:+0200
TZNAME:CEST
DTSTART:20250330T010000
END:DAYLIGHT
BEGIN:STANDARD
TZOFFSETFROM:+0200
TZOFFSETTO:+0100
TZNAME:CET
DTSTART:20251026T010000
END:STANDARD
END:VTIMEZONE
BEGIN:VEVENT
DTSTART;TZID=Europe/Brussels:20241029T200000
DTEND;TZID=Europe/Brussels:20241029T223000
DTSTAMP:20260426T005434
CREATED:20240819T181030Z
LAST-MODIFIED:20241029T114257Z
UID:137102-1730232000-1730241000@musicinbelgium.net
SUMMARY:UNPROCESSED & AVRALIZE & ICE SEALED EYES (Bruxelles)
DESCRIPTION:Prix: 10\,00 EUR\nBota’Carte: 7\,00 EUR \nÀ l’affiche:\n– Unprocessed\n– Avralize\n– Ice Sealed Eyes
URL:https://musicinbelgium.net/evenement/unprocessed-avralize-bruxelles/
LOCATION:Le Botanique\, Rotonde\, rue Royale 236\, Bruxelles\, 1000\, Belgium
CATEGORIES:!!!SOLD OUT!!!
END:VEVENT
BEGIN:VEVENT
DTSTART;TZID=Europe/Brussels:20241029T210000
DTEND;TZID=Europe/Brussels:20241029T223000
DTSTAMP:20260426T005434
CREATED:20240820T230550Z
LAST-MODIFIED:20241029T114754Z
UID:137228-1730235600-1730241000@musicinbelgium.net
SUMMARY:CIGARETTES AFTER SEX (Bruxelles)
DESCRIPTION:Prix: sold out \nÀ l’affiche:\n– Cigarettes After Sex
URL:https://musicinbelgium.net/evenement/cigarettes-after-sex-bruxelles-2/
LOCATION:Forest National\, Avenue Victor Rousseau 208\, Bruxelles\, 1000\, Belgium
CATEGORIES:!!!SOLD OUT!!!
END:VEVENT
END:VCALENDAR