
BEGIN:VCALENDAR
VERSION:2.0
PRODID:-//Music In Belgium - ECPv6.15.20//NONSGML v1.0//EN
CALSCALE:GREGORIAN
METHOD:PUBLISH
X-ORIGINAL-URL:https://musicinbelgium.net
X-WR-CALDESC:Events for Music In Belgium
REFRESH-INTERVAL;VALUE=DURATION:PT1H
X-Robots-Tag:noindex
X-PUBLISHED-TTL:PT1H
BEGIN:VTIMEZONE
TZID:Europe/Brussels
BEGIN:DAYLIGHT
TZOFFSETFROM:+0100
TZOFFSETTO:+0200
TZNAME:CEST
DTSTART:20230326T010000
END:DAYLIGHT
BEGIN:STANDARD
TZOFFSETFROM:+0200
TZOFFSETTO:+0100
TZNAME:CET
DTSTART:20231029T010000
END:STANDARD
BEGIN:DAYLIGHT
TZOFFSETFROM:+0100
TZOFFSETTO:+0200
TZNAME:CEST
DTSTART:20240331T010000
END:DAYLIGHT
BEGIN:STANDARD
TZOFFSETFROM:+0200
TZOFFSETTO:+0100
TZNAME:CET
DTSTART:20241027T010000
END:STANDARD
BEGIN:DAYLIGHT
TZOFFSETFROM:+0100
TZOFFSETTO:+0200
TZNAME:CEST
DTSTART:20250330T010000
END:DAYLIGHT
BEGIN:STANDARD
TZOFFSETFROM:+0200
TZOFFSETTO:+0100
TZNAME:CET
DTSTART:20251026T010000
END:STANDARD
END:VTIMEZONE
BEGIN:VEVENT
DTSTART;TZID=Europe/Brussels:20240719T143000
DTEND;TZID=Europe/Brussels:20240719T235900
DTSTAMP:20260423T154517
CREATED:20240402T111408Z
LAST-MODIFIED:20240719T074633Z
UID:129671-1721399400-1721433540@musicinbelgium.net
SUMMARY:ROCK HERK (Herk-de-Stad)
DESCRIPTION:Prix:\nJour: 53\,00 EUR\nPass 2 jours: 85\,00 EUR \nA l’affiche (ordre alphabétique):\n– Bluai\n– Brorlab\n– Desmond Dandies\n– Doodseskader\n– Glints\n– Goose\n– Hotel Lux\n– Koala Disco\n– LeBlanc\n– MadMadMad\n– Millionaire\n– Mojo & The Kitchen Brothers\n– Raketkanon\n– Ronker\n– Shame\n– Vitalic\n– Waste\n– Whispering Sons\n– Yesnomaybe
URL:https://musicinbelgium.net/evenement/rock-herk-herk-de-stad-11/
LOCATION:Rock Herk\, Sint Truidersteenweg\, Herk-de-Stad\, 3540\, Belgium
CATEGORIES:!!!SOLD OUT!!!
END:VEVENT
END:VCALENDAR