
BEGIN:VCALENDAR
VERSION:2.0
PRODID:-//Music In Belgium - ECPv6.15.20//NONSGML v1.0//EN
CALSCALE:GREGORIAN
METHOD:PUBLISH
X-ORIGINAL-URL:https://musicinbelgium.net
X-WR-CALDESC:Events for Music In Belgium
REFRESH-INTERVAL;VALUE=DURATION:PT1H
X-Robots-Tag:noindex
X-PUBLISHED-TTL:PT1H
BEGIN:VTIMEZONE
TZID:Europe/Brussels
BEGIN:DAYLIGHT
TZOFFSETFROM:+0100
TZOFFSETTO:+0200
TZNAME:CEST
DTSTART:20230326T010000
END:DAYLIGHT
BEGIN:STANDARD
TZOFFSETFROM:+0200
TZOFFSETTO:+0100
TZNAME:CET
DTSTART:20231029T010000
END:STANDARD
BEGIN:DAYLIGHT
TZOFFSETFROM:+0100
TZOFFSETTO:+0200
TZNAME:CEST
DTSTART:20240331T010000
END:DAYLIGHT
BEGIN:STANDARD
TZOFFSETFROM:+0200
TZOFFSETTO:+0100
TZNAME:CET
DTSTART:20241027T010000
END:STANDARD
BEGIN:DAYLIGHT
TZOFFSETFROM:+0100
TZOFFSETTO:+0200
TZNAME:CEST
DTSTART:20250330T010000
END:DAYLIGHT
BEGIN:STANDARD
TZOFFSETFROM:+0200
TZOFFSETTO:+0100
TZNAME:CET
DTSTART:20251026T010000
END:STANDARD
END:VTIMEZONE
BEGIN:VEVENT
DTSTART;TZID=Europe/Brussels:20240707T130000
DTEND;TZID=Europe/Brussels:20240707T235900
DTSTAMP:20260423T154528
CREATED:20240330T121601Z
LAST-MODIFIED:20240330T121731Z
UID:129598-1720357200-1720396740@musicinbelgium.net
SUMMARY:ROCK WERCHTER (Werchter)
DESCRIPTION:Prix:\nJour: 134\,00 EUR\nPass 4 jours: 309\,00 EUR \nA l’affiche (ordre alphabétique):\n– Bluai\n– The Breeders\n– Brutus\n– Foo Fighters\n– High Vis\n– HotWax\n– Idles\n– Isaac Roux\n– Ise\n– Jungle\n– Lauren Spencer Smith\n– Lawrence\n– Loyle Carner\n– Matt Maltese\n– Michael Kiwanuka\n– Parcels\n– Pretenders\n– Royal Blood\n– Sampha\n– Scowl\n– The Snuts\n– Soccer Mommy\n– Whispering Sons
URL:https://musicinbelgium.net/evenement/rock-werchter-werchter-15/
LOCATION:Werchter Festivalpark\, Hachtsesteenweg\, Werchter\, 3118\, Belgium
CATEGORIES:!!!SOLD OUT!!!
END:VEVENT
END:VCALENDAR