
BEGIN:VCALENDAR
VERSION:2.0
PRODID:-//Music In Belgium - ECPv6.15.20//NONSGML v1.0//EN
CALSCALE:GREGORIAN
METHOD:PUBLISH
X-ORIGINAL-URL:https://musicinbelgium.net
X-WR-CALDESC:Events for Music In Belgium
REFRESH-INTERVAL;VALUE=DURATION:PT1H
X-Robots-Tag:noindex
X-PUBLISHED-TTL:PT1H
BEGIN:VTIMEZONE
TZID:Europe/Brussels
BEGIN:DAYLIGHT
TZOFFSETFROM:+0100
TZOFFSETTO:+0200
TZNAME:CEST
DTSTART:20230326T010000
END:DAYLIGHT
BEGIN:STANDARD
TZOFFSETFROM:+0200
TZOFFSETTO:+0100
TZNAME:CET
DTSTART:20231029T010000
END:STANDARD
BEGIN:DAYLIGHT
TZOFFSETFROM:+0100
TZOFFSETTO:+0200
TZNAME:CEST
DTSTART:20240331T010000
END:DAYLIGHT
BEGIN:STANDARD
TZOFFSETFROM:+0200
TZOFFSETTO:+0100
TZNAME:CET
DTSTART:20241027T010000
END:STANDARD
BEGIN:DAYLIGHT
TZOFFSETFROM:+0100
TZOFFSETTO:+0200
TZNAME:CEST
DTSTART:20250330T010000
END:DAYLIGHT
BEGIN:STANDARD
TZOFFSETFROM:+0200
TZOFFSETTO:+0100
TZNAME:CET
DTSTART:20251026T010000
END:STANDARD
END:VTIMEZONE
BEGIN:VEVENT
DTSTART;TZID=Europe/Brussels:20240614T200000
DTEND;TZID=Europe/Brussels:20240614T230000
DTSTAMP:20260423T184712
CREATED:20240408T204232Z
LAST-MODIFIED:20240614T053618Z
UID:129919-1718395200-1718406000@musicinbelgium.net
SUMMARY:J. BERNARDT & LÉZARD (Sint-Niklaas)
DESCRIPTION:Prix: 29\,00 EUR (prévente: 26\,00 EUR) \nÀ l’affiche:\n– J. Bernardt\n– Lézard \ntry-out show
URL:https://musicinbelgium.net/evenement/j-bernardt-sint-niklaas/
LOCATION:De Casino\, Stationsstraat 104\, Sint-Niklaas\, 9100\, Belgium
CATEGORIES:!!!SOLD OUT!!!
END:VEVENT
END:VCALENDAR