
BEGIN:VCALENDAR
VERSION:2.0
PRODID:-//Music In Belgium - ECPv6.15.20//NONSGML v1.0//EN
CALSCALE:GREGORIAN
METHOD:PUBLISH
X-ORIGINAL-URL:https://musicinbelgium.net
X-WR-CALDESC:Events for Music In Belgium
REFRESH-INTERVAL;VALUE=DURATION:PT1H
X-Robots-Tag:noindex
X-PUBLISHED-TTL:PT1H
BEGIN:VTIMEZONE
TZID:Europe/Brussels
BEGIN:DAYLIGHT
TZOFFSETFROM:+0100
TZOFFSETTO:+0200
TZNAME:CEST
DTSTART:20230326T010000
END:DAYLIGHT
BEGIN:STANDARD
TZOFFSETFROM:+0200
TZOFFSETTO:+0100
TZNAME:CET
DTSTART:20231029T010000
END:STANDARD
BEGIN:DAYLIGHT
TZOFFSETFROM:+0100
TZOFFSETTO:+0200
TZNAME:CEST
DTSTART:20240331T010000
END:DAYLIGHT
BEGIN:STANDARD
TZOFFSETFROM:+0200
TZOFFSETTO:+0100
TZNAME:CET
DTSTART:20241027T010000
END:STANDARD
BEGIN:DAYLIGHT
TZOFFSETFROM:+0100
TZOFFSETTO:+0200
TZNAME:CEST
DTSTART:20250330T010000
END:DAYLIGHT
BEGIN:STANDARD
TZOFFSETFROM:+0200
TZOFFSETTO:+0100
TZNAME:CET
DTSTART:20251026T010000
END:STANDARD
END:VTIMEZONE
BEGIN:VEVENT
DTSTART;TZID=Europe/Brussels:20240603T193000
DTEND;TZID=Europe/Brussels:20240603T230000
DTSTAMP:20260423T171825
CREATED:20240210T194921Z
LAST-MODIFIED:20240602T112931Z
UID:128333-1717443000-1717455600@musicinbelgium.net
SUMMARY:ANGUS & JULIA STONE (Bruxelles)
DESCRIPTION:Prix: 43\,60 EUR / 39\,24 EUR \nÀ l’affiche:\n– Angus & Julia Stone\n– Solann
URL:https://musicinbelgium.net/evenement/angus-julia-stone-bruxelles-2/
LOCATION:Cirque Royal\, rue de l'Enseignement 81\, Bruxelles\, 1000\, Belgium
CATEGORIES:!!!SOLD OUT!!!
END:VEVENT
BEGIN:VEVENT
DTSTART;TZID=Europe/Brussels:20240603T200000
DTEND;TZID=Europe/Brussels:20240603T221500
DTSTAMP:20260423T171825
CREATED:20240212T220411Z
LAST-MODIFIED:20240602T112721Z
UID:128450-1717444800-1717452900@musicinbelgium.net
SUMMARY:DOGSTAR & RATMOSPHERE (Borgerhout)
DESCRIPTION:Prix: 32\,50 EUR \nÀ l’affiche:\n– Dogstar\n– Ratmosphere \n‘Somewhere Between The Power Lines And Palm Trees Tour’
URL:https://musicinbelgium.net/evenement/dogstar-borgerhout/
LOCATION:Trix\, Noordersingel 28-30\, Borgerhout\, 2140\, Belgium
CATEGORIES:!!!SOLD OUT!!!
END:VEVENT
END:VCALENDAR