
BEGIN:VCALENDAR
VERSION:2.0
PRODID:-//Music In Belgium - ECPv6.15.20//NONSGML v1.0//EN
CALSCALE:GREGORIAN
METHOD:PUBLISH
X-ORIGINAL-URL:https://musicinbelgium.net
X-WR-CALDESC:Events for Music In Belgium
REFRESH-INTERVAL;VALUE=DURATION:PT1H
X-Robots-Tag:noindex
X-PUBLISHED-TTL:PT1H
BEGIN:VTIMEZONE
TZID:Europe/Brussels
BEGIN:DAYLIGHT
TZOFFSETFROM:+0100
TZOFFSETTO:+0200
TZNAME:CEST
DTSTART:20230326T010000
END:DAYLIGHT
BEGIN:STANDARD
TZOFFSETFROM:+0200
TZOFFSETTO:+0100
TZNAME:CET
DTSTART:20231029T010000
END:STANDARD
BEGIN:DAYLIGHT
TZOFFSETFROM:+0100
TZOFFSETTO:+0200
TZNAME:CEST
DTSTART:20240331T010000
END:DAYLIGHT
BEGIN:STANDARD
TZOFFSETFROM:+0200
TZOFFSETTO:+0100
TZNAME:CET
DTSTART:20241027T010000
END:STANDARD
BEGIN:DAYLIGHT
TZOFFSETFROM:+0100
TZOFFSETTO:+0200
TZNAME:CEST
DTSTART:20250330T010000
END:DAYLIGHT
BEGIN:STANDARD
TZOFFSETFROM:+0200
TZOFFSETTO:+0100
TZNAME:CET
DTSTART:20251026T010000
END:STANDARD
END:VTIMEZONE
BEGIN:VEVENT
DTSTART;TZID=Europe/Brussels:20240523T190000
DTEND;TZID=Europe/Brussels:20240523T223000
DTSTAMP:20260424T011612
CREATED:20240107T211725Z
LAST-MODIFIED:20240523T050954Z
UID:127543-1716490800-1716503400@musicinbelgium.net
SUMMARY:I PREVAIL & SET IT OFF & KID BOOKIE (Bruxelles)
DESCRIPTION:Prix: 43\,00 EUR (prévente: 42\,00 EUR) \nÀ l’affiche:\n– I Prevail\n– Set It Off\n– Kid Bookie
URL:https://musicinbelgium.net/evenement/i-prevail-set-it-off-kid-bookie-bruxelles-2/
LOCATION:AB Salle\, bd Anspach 110\, Bruxelles\, 1000\, Belgium
CATEGORIES:!!!SOLD OUT!!!
END:VEVENT
BEGIN:VEVENT
DTSTART;TZID=Europe/Brussels:20240523T200000
DTEND;TZID=Europe/Brussels:20240523T230000
DTSTAMP:20260424T011612
CREATED:20240408T103724Z
LAST-MODIFIED:20240523T051223Z
UID:129850-1716494400-1716505200@musicinbelgium.net
SUMMARY:HTRK & NYKOLAES and DANIËL PAUL (Gent)
DESCRIPTION:Prix: 22\,00 EUR (prévente: 19\,50 EUR) \nÀ l’affiche:\n– HTRK\n– Nykolaes & Daniël Paul
URL:https://musicinbelgium.net/evenement/htrk-gent/
LOCATION:Plantentuin\, Karel Lodewijk Ledeganckstraat 35\, Gent\, 9000\, Belgium
CATEGORIES:!!!SOLD OUT!!!
END:VEVENT
END:VCALENDAR