
BEGIN:VCALENDAR
VERSION:2.0
PRODID:-//Music In Belgium - ECPv6.15.20//NONSGML v1.0//EN
CALSCALE:GREGORIAN
METHOD:PUBLISH
X-ORIGINAL-URL:https://musicinbelgium.net
X-WR-CALDESC:Events for Music In Belgium
REFRESH-INTERVAL;VALUE=DURATION:PT1H
X-Robots-Tag:noindex
X-PUBLISHED-TTL:PT1H
BEGIN:VTIMEZONE
TZID:Europe/Brussels
BEGIN:DAYLIGHT
TZOFFSETFROM:+0100
TZOFFSETTO:+0200
TZNAME:CEST
DTSTART:20230326T010000
END:DAYLIGHT
BEGIN:STANDARD
TZOFFSETFROM:+0200
TZOFFSETTO:+0100
TZNAME:CET
DTSTART:20231029T010000
END:STANDARD
BEGIN:DAYLIGHT
TZOFFSETFROM:+0100
TZOFFSETTO:+0200
TZNAME:CEST
DTSTART:20240331T010000
END:DAYLIGHT
BEGIN:STANDARD
TZOFFSETFROM:+0200
TZOFFSETTO:+0100
TZNAME:CET
DTSTART:20241027T010000
END:STANDARD
BEGIN:DAYLIGHT
TZOFFSETFROM:+0100
TZOFFSETTO:+0200
TZNAME:CEST
DTSTART:20250330T010000
END:DAYLIGHT
BEGIN:STANDARD
TZOFFSETFROM:+0200
TZOFFSETTO:+0100
TZNAME:CET
DTSTART:20251026T010000
END:STANDARD
END:VTIMEZONE
BEGIN:VEVENT
DTSTART;TZID=Europe/Brussels:20240309T210000
DTEND;TZID=Europe/Brussels:20240309T210000
DTSTAMP:20260422T103559
CREATED:20240102T211822Z
LAST-MODIFIED:20240308T234132Z
UID:127085-1710018000-1710018000@musicinbelgium.net
SUMMARY:PSYCHEDELIC PORN CRUMPETS (Bruxelles) (REPORTÉ)
DESCRIPTION:Prix: 21\,50 EUR (prévente: 18\,50 EUR)\nBota’Carte: 15\,50 EUR \nÀ l’affiche:\n– Psychedelic Porn Crumpets \nConcert reporté au 27.06.2024 \n« Pour des raisons médicales\, Psychedelic Porn Crumpets est contraint de reporter le show initialement prévu le samedi 9 mars au 27 juin 2024. Vos tickets restent valables pour le prochain show ! Toute demande de remboursement peut être adressée à la billetterie.
URL:https://musicinbelgium.net/evenement/psychedelic-porn-crumpets-bruxelles-2/
LOCATION:Le Botanique\, Orangerie\, rue Royale 236\, Bruxelles\, 1000\, Belgium
CATEGORIES:!!!REPORTÉ!!!
END:VEVENT
END:VCALENDAR