
BEGIN:VCALENDAR
VERSION:2.0
PRODID:-//Music In Belgium - ECPv6.15.20//NONSGML v1.0//EN
CALSCALE:GREGORIAN
METHOD:PUBLISH
X-WR-CALNAME:Music In Belgium
X-ORIGINAL-URL:https://musicinbelgium.net
X-WR-CALDESC:Events for Music In Belgium
REFRESH-INTERVAL;VALUE=DURATION:PT1H
X-Robots-Tag:noindex
X-PUBLISHED-TTL:PT1H
BEGIN:VTIMEZONE
TZID:Europe/Brussels
BEGIN:DAYLIGHT
TZOFFSETFROM:+0100
TZOFFSETTO:+0200
TZNAME:CEST
DTSTART:20250330T010000
END:DAYLIGHT
BEGIN:STANDARD
TZOFFSETFROM:+0200
TZOFFSETTO:+0100
TZNAME:CET
DTSTART:20251026T010000
END:STANDARD
BEGIN:DAYLIGHT
TZOFFSETFROM:+0100
TZOFFSETTO:+0200
TZNAME:CEST
DTSTART:20260329T010000
END:DAYLIGHT
BEGIN:STANDARD
TZOFFSETFROM:+0200
TZOFFSETTO:+0100
TZNAME:CET
DTSTART:20261025T010000
END:STANDARD
BEGIN:DAYLIGHT
TZOFFSETFROM:+0100
TZOFFSETTO:+0200
TZNAME:CEST
DTSTART:20270328T010000
END:DAYLIGHT
BEGIN:STANDARD
TZOFFSETFROM:+0200
TZOFFSETTO:+0100
TZNAME:CET
DTSTART:20271031T010000
END:STANDARD
END:VTIMEZONE
BEGIN:VEVENT
DTSTART;TZID=Europe/Brussels:20260426T180000
DTEND;TZID=Europe/Brussels:20260426T203000
DTSTAMP:20260426T021221
CREATED:20260108T231913Z
LAST-MODIFIED:20260112T104627Z
UID:154205-1777226400-1777235400@musicinbelgium.net
SUMMARY:The TWILIGHT SAD (Bruxelles)
DESCRIPTION:Prix: 25\,50 EUR (prévente: 22\,50 EUR)\nBota’Carte: 19\,50 EUR \nÀ l’affiche:\n– The Twilight Sad
URL:https://musicinbelgium.net/evenement/the-twilight-sad-bruxelles/
LOCATION:Le Botanique\, Orangerie\, rue Royale 236\, Bruxelles\, 1000\, Belgium
END:VEVENT
BEGIN:VEVENT
DTSTART;TZID=Europe/Brussels:20260426T200000
DTEND;TZID=Europe/Brussels:20260426T223000
DTSTAMP:20260426T021221
CREATED:20260112T102845Z
LAST-MODIFIED:20260112T102845Z
UID:154416-1777233600-1777242600@musicinbelgium.net
SUMMARY:DEKKER (Bruxelles)
DESCRIPTION:Prix: 31\,00 EUR (prévente: 30\,00 EUR) \nÀ l’affiche:\n– Dekker
URL:https://musicinbelgium.net/evenement/dekker-bruxelles/
LOCATION:AB Ballroom\, bd Anspach 110\, Bruxelles\, 1000\, Belgium
END:VEVENT
BEGIN:VEVENT
DTSTART;TZID=Europe/Brussels:20260426T200000
DTEND;TZID=Europe/Brussels:20260426T223000
DTSTAMP:20260426T021221
CREATED:20260112T103026Z
LAST-MODIFIED:20260112T103026Z
UID:154418-1777233600-1777242600@musicinbelgium.net
SUMMARY:TJE (Bruxelles)
DESCRIPTION:Prix: 17\,00 EUR \nÀ l’affiche:\n– Tje
URL:https://musicinbelgium.net/evenement/tje-bruxelles/
LOCATION:AB Club\, bd Anspach 110\, Bruxelles\, 1000\, Belgium
END:VEVENT
BEGIN:VEVENT
DTSTART;TZID=Europe/Brussels:20260426T200000
DTEND;TZID=Europe/Brussels:20260426T223000
DTSTAMP:20260426T021221
CREATED:20260119T215209Z
LAST-MODIFIED:20260119T215209Z
UID:154890-1777233600-1777242600@musicinbelgium.net
SUMMARY:HEAVY LUNGS (Borgerhout)
DESCRIPTION:Prix: 20\,00 EUR (prévente: 18\,50 EUR)\nMoins de 26 ans: 16\,50 EUR \nÀ l’affiche:\n– Heavy Lungs
URL:https://musicinbelgium.net/evenement/heavy-lungs-borgerhout/
LOCATION:Trix Club\, Noordersingel 28-30\, Borgerhout\, 2140\, Belgium
END:VEVENT
BEGIN:VEVENT
DTSTART;TZID=Europe/Brussels:20260426T200000
DTEND;TZID=Europe/Brussels:20260426T230000
DTSTAMP:20260426T021221
CREATED:20260116T001150Z
LAST-MODIFIED:20260116T001150Z
UID:154633-1777233600-1777244400@musicinbelgium.net
SUMMARY:Bongeziwe MABANDLA (Gent)
DESCRIPTION:Prix: 28\,00 EUR (prévente: 26\,00 EUR) \nÀ l’affiche:\n– Bongeziwe Mabandla
URL:https://musicinbelgium.net/evenement/bongeziwe-mabandla-gent/
LOCATION:Club Wintercircus\, Miriam Makebaplein 2\, Gent\, 9000\, Belgium
END:VEVENT
BEGIN:VEVENT
DTSTART;TZID=Europe/Brussels:20260426T200000
DTEND;TZID=Europe/Brussels:20260426T230000
DTSTAMP:20260426T021221
CREATED:20260121T213130Z
LAST-MODIFIED:20260121T213130Z
UID:155054-1777233600-1777244400@musicinbelgium.net
SUMMARY:Cat CLYDE (Borgerhout)
DESCRIPTION:Prix: 18\,00 EUR (prévente: 16\,00 EUR) \nÀ l’affiche:\n– Cat Clyde
URL:https://musicinbelgium.net/evenement/cat-clyde-borgerhout-2/
LOCATION:De Roma (Foyer)\, Turnhoutsebaan 286\, Borgerhout\, 2140\, Belgium
END:VEVENT
BEGIN:VEVENT
DTSTART;TZID=Europe/Brussels:20260426T200000
DTEND;TZID=Europe/Brussels:20260426T230000
DTSTAMP:20260426T021221
CREATED:20260125T205018Z
LAST-MODIFIED:20260125T205018Z
UID:155464-1777233600-1777244400@musicinbelgium.net
SUMMARY:Eric CLAPTON (Merksem)
DESCRIPTION:Prix:  \nÀ l’affiche:\n– Eric Clapton
URL:https://musicinbelgium.net/evenement/eric-clapton-merksem-4/
LOCATION:AFAS Dome\, Schijnpoortweg 119\, Merksem\, 2170\, Belgium
END:VEVENT
BEGIN:VEVENT
DTSTART;TZID=Europe/Brussels:20260426T200000
DTEND;TZID=Europe/Brussels:20260426T230000
DTSTAMP:20260426T021221
CREATED:20260201T231357Z
LAST-MODIFIED:20260201T231357Z
UID:155882-1777233600-1777244400@musicinbelgium.net
SUMMARY:A PLACE TO BURY STRANGERS (Bruxelles)
DESCRIPTION:Prix: 20\,00 EUR \nÀ l’affiche:\n– A Place To Bury Strangers
URL:https://musicinbelgium.net/evenement/a-place-to-bury-strangers-bruxelles/
LOCATION:Magasin 4\, Rue de l'Entrepôt 7\, Bruxelles\, 1020\, Belgium
END:VEVENT
BEGIN:VEVENT
DTSTART;TZID=Europe/Brussels:20260426T200000
DTEND;TZID=Europe/Brussels:20260426T230000
DTSTAMP:20260426T021221
CREATED:20260408T224630Z
LAST-MODIFIED:20260408T224630Z
UID:157822-1777233600-1777244400@musicinbelgium.net
SUMMARY:L.A. SALAMI (Brugge)
DESCRIPTION:Prix: 19\,00 EUR (prévente: 16\,00 EUR)\nPrikkaart: 12\,00 EUR \nA l’affiche:\n– L.A. Salami \nConcert initialement prévu le 28.10.2025
URL:https://musicinbelgium.net/evenement/l-a-salami-brugge-2/
LOCATION:Cactus Café\, Bargeweg 10\, Brugge\, 8000\, Belgium
END:VEVENT
END:VCALENDAR