
BEGIN:VCALENDAR
VERSION:2.0
PRODID:-//Music In Belgium - ECPv6.15.20//NONSGML v1.0//EN
CALSCALE:GREGORIAN
METHOD:PUBLISH
X-WR-CALNAME:Music In Belgium
X-ORIGINAL-URL:https://musicinbelgium.net
X-WR-CALDESC:Events for Music In Belgium
REFRESH-INTERVAL;VALUE=DURATION:PT1H
X-Robots-Tag:noindex
X-PUBLISHED-TTL:PT1H
BEGIN:VTIMEZONE
TZID:Europe/Brussels
BEGIN:DAYLIGHT
TZOFFSETFROM:+0100
TZOFFSETTO:+0200
TZNAME:CEST
DTSTART:20250330T010000
END:DAYLIGHT
BEGIN:STANDARD
TZOFFSETFROM:+0200
TZOFFSETTO:+0100
TZNAME:CET
DTSTART:20251026T010000
END:STANDARD
BEGIN:DAYLIGHT
TZOFFSETFROM:+0100
TZOFFSETTO:+0200
TZNAME:CEST
DTSTART:20260329T010000
END:DAYLIGHT
BEGIN:STANDARD
TZOFFSETFROM:+0200
TZOFFSETTO:+0100
TZNAME:CET
DTSTART:20261025T010000
END:STANDARD
BEGIN:DAYLIGHT
TZOFFSETFROM:+0100
TZOFFSETTO:+0200
TZNAME:CEST
DTSTART:20270328T010000
END:DAYLIGHT
BEGIN:STANDARD
TZOFFSETFROM:+0200
TZOFFSETTO:+0100
TZNAME:CET
DTSTART:20271031T010000
END:STANDARD
END:VTIMEZONE
BEGIN:VEVENT
DTSTART;TZID=Europe/Brussels:20260421T200000
DTEND;TZID=Europe/Brussels:20260421T230000
DTSTAMP:20260421T032335
CREATED:20260124T095050Z
LAST-MODIFIED:20260124T095050Z
UID:155360-1776801600-1776812400@musicinbelgium.net
SUMMARY:Typh BARROW (Bruxelles)
DESCRIPTION:Prix:  \nÀ l’affiche:\n– Typh Barrow
URL:https://musicinbelgium.net/evenement/typh-barrow-bruxelles-5/
LOCATION:Cirque Royal\, rue de l'Enseignement 81\, Bruxelles\, 1000\, Belgium
END:VEVENT
BEGIN:VEVENT
DTSTART;TZID=Europe/Brussels:20260421T200000
DTEND;TZID=Europe/Brussels:20260421T230000
DTSTAMP:20260421T032335
CREATED:20260408T230956Z
LAST-MODIFIED:20260419T231017Z
UID:157839-1776801600-1776812400@musicinbelgium.net
SUMMARY:REVEREND BEAT-MAN & Milan SLICK + JENKINSES (Bruxelles)
DESCRIPTION:Prix: 15\,00 EUR \nÀ l’affiche:\n– Reverend Beat-Man & Milan Slick\n– Jenkinses
URL:https://musicinbelgium.net/evenement/reverend-beat-man-bruxelles/
LOCATION:Magasin 4\, Rue de l'Entrepôt 7\, Bruxelles\, 1020\, Belgium
END:VEVENT
BEGIN:VEVENT
DTSTART;TZID=Europe/Brussels:20260421T203000
DTEND;TZID=Europe/Brussels:20260421T220000
DTSTAMP:20260421T032335
CREATED:20260201T090157Z
LAST-MODIFIED:20260419T230826Z
UID:155719-1776803400-1776808800@musicinbelgium.net
SUMMARY:PURELINK (Bruxelles)
DESCRIPTION:Prix: 21\,50 EUR (prévente: 18\,50 EUR)\nBota’Carte: 15\,50 EUR \nÀ l’affiche:\n– Purelink
URL:https://musicinbelgium.net/evenement/purelink-bruxelles/
LOCATION:Le Botanique\, Witloof Bar\, rue Royale 236\, Bruxelles\, 1000\, Belgium
END:VEVENT
END:VCALENDAR