
BEGIN:VCALENDAR
VERSION:2.0
PRODID:-//Music In Belgium - ECPv6.15.20//NONSGML v1.0//EN
CALSCALE:GREGORIAN
METHOD:PUBLISH
X-WR-CALNAME:Music In Belgium
X-ORIGINAL-URL:https://musicinbelgium.net
X-WR-CALDESC:Events for Music In Belgium
REFRESH-INTERVAL;VALUE=DURATION:PT1H
X-Robots-Tag:noindex
X-PUBLISHED-TTL:PT1H
BEGIN:VTIMEZONE
TZID:Europe/Brussels
BEGIN:DAYLIGHT
TZOFFSETFROM:+0100
TZOFFSETTO:+0200
TZNAME:CEST
DTSTART:20250330T010000
END:DAYLIGHT
BEGIN:STANDARD
TZOFFSETFROM:+0200
TZOFFSETTO:+0100
TZNAME:CET
DTSTART:20251026T010000
END:STANDARD
BEGIN:DAYLIGHT
TZOFFSETFROM:+0100
TZOFFSETTO:+0200
TZNAME:CEST
DTSTART:20260329T010000
END:DAYLIGHT
BEGIN:STANDARD
TZOFFSETFROM:+0200
TZOFFSETTO:+0100
TZNAME:CET
DTSTART:20261025T010000
END:STANDARD
BEGIN:DAYLIGHT
TZOFFSETFROM:+0100
TZOFFSETTO:+0200
TZNAME:CEST
DTSTART:20270328T010000
END:DAYLIGHT
BEGIN:STANDARD
TZOFFSETFROM:+0200
TZOFFSETTO:+0100
TZNAME:CET
DTSTART:20271031T010000
END:STANDARD
END:VTIMEZONE
BEGIN:VEVENT
DTSTART;TZID=Europe/Brussels:20260420T200000
DTEND;TZID=Europe/Brussels:20260420T223000
DTSTAMP:20260420T024324
CREATED:20260408T223925Z
LAST-MODIFIED:20260419T230651Z
UID:157817-1776715200-1776724200@musicinbelgium.net
SUMMARY:YUUF + ALISN (Brugge)
DESCRIPTION:Prix: 18\,00 EUR (prévente: 15\,00 EUR)\nPrikkaart: Gratuit \nA l’affiche:\n– Yuuf\n– ALISN
URL:https://musicinbelgium.net/evenement/yuuf-brugge/
LOCATION:Cactus Café\, Bargeweg 10\, Brugge\, 8000\, Belgium
END:VEVENT
BEGIN:VEVENT
DTSTART;TZID=Europe/Brussels:20260420T203000
DTEND;TZID=Europe/Brussels:20260420T230000
DTSTAMP:20260420T024324
CREATED:20260419T231846Z
LAST-MODIFIED:20260419T231846Z
UID:158220-1776717000-1776726000@musicinbelgium.net
SUMMARY:HUGS OF THE SKY + CHEAP TEEN (Bruxelles)
DESCRIPTION:Prix: Gratuit \nÀ l’affiche:\n– Hugs Of The Sky\n– Cheap Teen
URL:https://musicinbelgium.net/evenement/hugs-of-the-sky-cheap-teen-bruxelles/
LOCATION:Chaff\, Place du Jeu de Balle 21\, Bruxelles\, 1000\, Belgium
END:VEVENT
END:VCALENDAR