
BEGIN:VCALENDAR
VERSION:2.0
PRODID:-//Music In Belgium - ECPv6.15.20//NONSGML v1.0//EN
CALSCALE:GREGORIAN
METHOD:PUBLISH
X-WR-CALNAME:Music In Belgium
X-ORIGINAL-URL:https://musicinbelgium.net
X-WR-CALDESC:Events for Music In Belgium
REFRESH-INTERVAL;VALUE=DURATION:PT1H
X-Robots-Tag:noindex
X-PUBLISHED-TTL:PT1H
BEGIN:VTIMEZONE
TZID:Europe/Brussels
BEGIN:DAYLIGHT
TZOFFSETFROM:+0100
TZOFFSETTO:+0200
TZNAME:CEST
DTSTART:20240331T010000
END:DAYLIGHT
BEGIN:STANDARD
TZOFFSETFROM:+0200
TZOFFSETTO:+0100
TZNAME:CET
DTSTART:20241027T010000
END:STANDARD
BEGIN:DAYLIGHT
TZOFFSETFROM:+0100
TZOFFSETTO:+0200
TZNAME:CEST
DTSTART:20250330T010000
END:DAYLIGHT
BEGIN:STANDARD
TZOFFSETFROM:+0200
TZOFFSETTO:+0100
TZNAME:CET
DTSTART:20251026T010000
END:STANDARD
BEGIN:DAYLIGHT
TZOFFSETFROM:+0100
TZOFFSETTO:+0200
TZNAME:CEST
DTSTART:20260329T010000
END:DAYLIGHT
BEGIN:STANDARD
TZOFFSETFROM:+0200
TZOFFSETTO:+0100
TZNAME:CET
DTSTART:20261025T010000
END:STANDARD
END:VTIMEZONE
BEGIN:VEVENT
DTSTART;TZID=Europe/Brussels:20250122T200000
DTEND;TZID=Europe/Brussels:20250122T223000
DTSTAMP:20260424T205615
CREATED:20241222T193238Z
LAST-MODIFIED:20250120T220315Z
UID:143040-1737576000-1737585000@musicinbelgium.net
SUMMARY:I H8 CAMERA & DIÈZE (Bruxelles)
DESCRIPTION:Prix: 17\,00 EUR \nÀ l’affiche:\n– I H8 Camera\n– Dièze
URL:https://musicinbelgium.net/evenement/i-h8-camera-bruxelles/
LOCATION:AB Club\, bd Anspach 110\, Bruxelles\, 1000\, Belgium
CATEGORIES:!!!SOLD OUT!!!
END:VEVENT
BEGIN:VEVENT
DTSTART;TZID=Europe/Brussels:20250122T200000
DTEND;TZID=Europe/Brussels:20250122T230000
DTSTAMP:20260424T205615
CREATED:20241226T175546Z
LAST-MODIFIED:20250121T220606Z
UID:143326-1737576000-1737586800@musicinbelgium.net
SUMMARY:GETDOWN SERVICES & DULL BOY JOHNNY (Brugge)
DESCRIPTION:Prix: 17\,00 EUR (prévente: 14\,00 EUR)\nPrikkaart: 11\,00 EUR \nA l’affiche:\n– Getdown Services\n– Dull Boy Johnny
URL:https://musicinbelgium.net/evenement/getdown-services-brugge/
LOCATION:Cactus Café\, Bargeweg 10\, Brugge\, 8000\, Belgium
END:VEVENT
BEGIN:VEVENT
DTSTART;TZID=Europe/Brussels:20250122T201500
DTEND;TZID=Europe/Brussels:20250122T223000
DTSTAMP:20260424T205615
CREATED:20241223T221739Z
LAST-MODIFIED:20250121T174229Z
UID:143163-1737576900-1737585000@musicinbelgium.net
SUMMARY:HIPPOTRAKTOR & MY DILIGENCE (Borgerhout)
DESCRIPTION:Prix: 21\,00 EUR (prévente: 19\,50 EUR)\nMoins de 26 ans: 17\,50 EUR \nÀ l’affiche:\n– Hippotraktor\n– My Diligence
URL:https://musicinbelgium.net/evenement/hippotraktor-my-diligence-borgerhout/
LOCATION:Trix Club\, Noordersingel 28-30\, Borgerhout\, 2140\, Belgium
END:VEVENT
BEGIN:VEVENT
DTSTART;TZID=Europe/Brussels:20250122T203000
DTEND;TZID=Europe/Brussels:20250122T230000
DTSTAMP:20260424T205615
CREATED:20250122T092053Z
LAST-MODIFIED:20250122T092053Z
UID:144144-1737577800-1737586800@musicinbelgium.net
SUMMARY:MEMORIALS & RAPHAEL S'AMELIORE (Bruxelles)
DESCRIPTION:Prix: 18\,00 EUR (prévente: 15\,00 EUR) \nÀ l’affiche:\n– Memorials\n– Raphaël s’améliore
URL:https://musicinbelgium.net/evenement/memorials-raphael-sameliore-bruxelles/
LOCATION:Atelier 210\, Chaussee Saint-Pierre 210\, Bruxelles\, 1000\, Belgium
END:VEVENT
BEGIN:VEVENT
DTSTART;TZID=Europe/Brussels:20250122T213000
DTEND;TZID=Europe/Brussels:20250122T230000
DTSTAMP:20260424T205615
CREATED:20250105T234534Z
LAST-MODIFIED:20250105T234548Z
UID:143787-1737581400-1737586800@musicinbelgium.net
SUMMARY:WARIETTA (Gent)
DESCRIPTION:Prix: Gratuit \nÀ l’affiche:\n– Warietta
URL:https://musicinbelgium.net/evenement/warietta-gent/
LOCATION:Kinky Star\, Vlasmarkt 9\, Gent\, 9000\, Belgium
END:VEVENT
END:VCALENDAR