
BEGIN:VCALENDAR
VERSION:2.0
PRODID:-//Music In Belgium - ECPv6.15.20//NONSGML v1.0//EN
CALSCALE:GREGORIAN
METHOD:PUBLISH
X-WR-CALNAME:Music In Belgium
X-ORIGINAL-URL:https://musicinbelgium.net
X-WR-CALDESC:Events for Music In Belgium
REFRESH-INTERVAL;VALUE=DURATION:PT1H
X-Robots-Tag:noindex
X-PUBLISHED-TTL:PT1H
BEGIN:VTIMEZONE
TZID:Europe/Brussels
BEGIN:DAYLIGHT
TZOFFSETFROM:+0100
TZOFFSETTO:+0200
TZNAME:CEST
DTSTART:20230326T010000
END:DAYLIGHT
BEGIN:STANDARD
TZOFFSETFROM:+0200
TZOFFSETTO:+0100
TZNAME:CET
DTSTART:20231029T010000
END:STANDARD
BEGIN:DAYLIGHT
TZOFFSETFROM:+0100
TZOFFSETTO:+0200
TZNAME:CEST
DTSTART:20240331T010000
END:DAYLIGHT
BEGIN:STANDARD
TZOFFSETFROM:+0200
TZOFFSETTO:+0100
TZNAME:CET
DTSTART:20241027T010000
END:STANDARD
BEGIN:DAYLIGHT
TZOFFSETFROM:+0100
TZOFFSETTO:+0200
TZNAME:CEST
DTSTART:20250330T010000
END:DAYLIGHT
BEGIN:STANDARD
TZOFFSETFROM:+0200
TZOFFSETTO:+0100
TZNAME:CET
DTSTART:20251026T010000
END:STANDARD
END:VTIMEZONE
BEGIN:VEVENT
DTSTART;TZID=Europe/Brussels:20240611T200000
DTEND;TZID=Europe/Brussels:20240611T223000
DTSTAMP:20260423T035854
CREATED:20240210T225230Z
LAST-MODIFIED:20240210T225230Z
UID:128356-1718136000-1718145000@musicinbelgium.net
SUMMARY:MY DILIGENCE & DVNE (Bruxelles)
DESCRIPTION:Prix: 21\,50 EUR (prévente: 18\,50 EUR)\nBota’Carte: 15\,50 EUR \nÀ l’affiche:\n– My Diligence\n– DVNE
URL:https://musicinbelgium.net/evenement/my-diligence-dvne-bruxelles/
LOCATION:Le Botanique\, Orangerie\, rue Royale 236\, Bruxelles\, 1000\, Belgium
END:VEVENT
BEGIN:VEVENT
DTSTART;TZID=Europe/Brussels:20240611T200000
DTEND;TZID=Europe/Brussels:20240611T230000
DTSTAMP:20260423T035854
CREATED:20240610T223202Z
LAST-MODIFIED:20240610T223202Z
UID:131460-1718136000-1718146800@musicinbelgium.net
SUMMARY:HENGE & BOTHLANE (Borgerhout)
DESCRIPTION:Prix: 20\,00 EUR (prévente: 18\,50 EUR)\nMoins de 26 ans: 16\,50 EUR \nÀ l’affiche:\n– Henge\n– Bothlane
URL:https://musicinbelgium.net/evenement/henge-bothlane-borgerhout/
LOCATION:Trix Club\, Noordersingel 28-30\, Borgerhout\, 2140\, Belgium
END:VEVENT
BEGIN:VEVENT
DTSTART;TZID=Europe/Brussels:20240611T203000
DTEND;TZID=Europe/Brussels:20240611T223000
DTSTAMP:20260423T035854
CREATED:20240107T221809Z
LAST-MODIFIED:20240609T215000Z
UID:127562-1718137800-1718145000@musicinbelgium.net
SUMMARY:GHINZU (Bruxelles)
DESCRIPTION:Prix: 39\,00 EUR (prévente: 38\,00 EUR) \nÀ l’affiche:\n– Ghinzu
URL:https://musicinbelgium.net/evenement/ghinzu-bruxelles-2/
LOCATION:AB Salle\, bd Anspach 110\, Bruxelles\, 1000\, Belgium
CATEGORIES:!!!SOLD OUT!!!
END:VEVENT
BEGIN:VEVENT
DTSTART;TZID=Europe/Brussels:20240611T210000
DTEND;TZID=Europe/Brussels:20240611T230000
DTSTAMP:20260423T035854
CREATED:20240610T222106Z
LAST-MODIFIED:20240610T222135Z
UID:131457-1718139600-1718146800@musicinbelgium.net
SUMMARY:SNÕÕPER & BRORLAB (Antwerpen)
DESCRIPTION:Prix: 17\,00 EUR (prévente: 15\,00 EUR) \nÀ l’affiche:\n– Snõõper\n– Brorlab
URL:https://musicinbelgium.net/evenement/snooper-brorlab-antwerpen/
LOCATION:Het Bos\, Ankerrui 5-7\, Antwerpen\, 2000\, Belgium
END:VEVENT
END:VCALENDAR