
BEGIN:VCALENDAR
VERSION:2.0
PRODID:-//Music In Belgium - ECPv6.15.20//NONSGML v1.0//EN
CALSCALE:GREGORIAN
METHOD:PUBLISH
X-ORIGINAL-URL:https://musicinbelgium.net
X-WR-CALDESC:Events for Music In Belgium
REFRESH-INTERVAL;VALUE=DURATION:PT1H
X-Robots-Tag:noindex
X-PUBLISHED-TTL:PT1H
BEGIN:VTIMEZONE
TZID:Europe/Brussels
BEGIN:DAYLIGHT
TZOFFSETFROM:+0100
TZOFFSETTO:+0200
TZNAME:CEST
DTSTART:20220327T010000
END:DAYLIGHT
BEGIN:STANDARD
TZOFFSETFROM:+0200
TZOFFSETTO:+0100
TZNAME:CET
DTSTART:20221030T010000
END:STANDARD
BEGIN:DAYLIGHT
TZOFFSETFROM:+0100
TZOFFSETTO:+0200
TZNAME:CEST
DTSTART:20230326T010000
END:DAYLIGHT
BEGIN:STANDARD
TZOFFSETFROM:+0200
TZOFFSETTO:+0100
TZNAME:CET
DTSTART:20231029T010000
END:STANDARD
BEGIN:DAYLIGHT
TZOFFSETFROM:+0100
TZOFFSETTO:+0200
TZNAME:CEST
DTSTART:20240331T010000
END:DAYLIGHT
BEGIN:STANDARD
TZOFFSETFROM:+0200
TZOFFSETTO:+0100
TZNAME:CET
DTSTART:20241027T010000
END:STANDARD
END:VTIMEZONE
BEGIN:VEVENT
DTSTART;TZID=Europe/Brussels:20231213T200000
DTEND;TZID=Europe/Brussels:20231213T211500
DTSTAMP:20260424T234111
CREATED:20231029T155440Z
LAST-MODIFIED:20231210T233858Z
UID:125557-1702497600-1702502100@musicinbelgium.net
SUMMARY:Noémie WOLFS (Borgerhout)
DESCRIPTION:Prix: 16\,00 EUR / 14\,00 EUR \nÀ l’affiche:\n– Noémie Wolfs
URL:https://musicinbelgium.net/evenement/noemie-wolfs-borgerhout/
LOCATION:De Roma (Foyer)\, Turnhoutsebaan 286\, Borgerhout\, 2140\, Belgium
CATEGORIES:!!!SOLD OUT!!!
END:VEVENT
BEGIN:VEVENT
DTSTART;TZID=Europe/Brussels:20231213T200000
DTEND;TZID=Europe/Brussels:20231213T230000
DTSTAMP:20260424T234111
CREATED:20230817T221847Z
LAST-MODIFIED:20231210T233601Z
UID:123579-1702497600-1702508400@musicinbelgium.net
SUMMARY:The HAUNTED YOUTH & PYO (Liège)
DESCRIPTION:Prix: 23\,00 EUR (prévente) \nÀ l’affiche:\n– The Haunted Youth\n– Pyo
URL:https://musicinbelgium.net/evenement/the-haunted-youth-liege/
LOCATION:Reflektor\, Place Xavier Neujean 24\, Liege\, 4000\, Belgium
CATEGORIES:!!!SOLD OUT!!!
END:VEVENT
BEGIN:VEVENT
DTSTART;TZID=Europe/Brussels:20231213T203000
DTEND;TZID=Europe/Brussels:20231213T223000
DTSTAMP:20260424T234111
CREATED:20230519T092048Z
LAST-MODIFIED:20231213T003407Z
UID:121313-1702499400-1702506600@musicinbelgium.net
SUMMARY:SILLY BOY BLUE (Bruxelles)
DESCRIPTION:Prix: 24\,50 EUR (prévente: 21\,50 EUR)\nBota’Carte: 18\,50 EUR \nÀ l’affiche:\n– Silly Boy Blue
URL:https://musicinbelgium.net/evenement/silly-boy-blue-bruxelles/
LOCATION:Le Botanique\, Rotonde\, rue Royale 236\, Bruxelles\, 1000\, Belgium
END:VEVENT
BEGIN:VEVENT
DTSTART;TZID=Europe/Brussels:20231213T210000
DTEND;TZID=Europe/Brussels:20231213T210000
DTSTAMP:20260424T234111
CREATED:20231014T104650Z
LAST-MODIFIED:20231210T233751Z
UID:125233-1702501200-1702501200@musicinbelgium.net
SUMMARY:PANDAR BEAR & SONIC BOOM (Gent) (ANNULÉ)
DESCRIPTION:Prix: 30\,00 EUR (prévente: 26\,00 EUR) \nÀ l’affiche:\n– Panda Bear & Sonic Boom
URL:https://musicinbelgium.net/evenement/pandar-bear-sonic-boom-gent/
LOCATION:Ha Concerts\, Kouter 29\, Gent\, 9000\, Belgium
CATEGORIES:!!!ANNULÉ!!!
END:VEVENT
END:VCALENDAR