
BEGIN:VCALENDAR
VERSION:2.0
PRODID:-//Music In Belgium - ECPv6.15.20//NONSGML v1.0//EN
CALSCALE:GREGORIAN
METHOD:PUBLISH
X-WR-CALNAME:Music In Belgium
X-ORIGINAL-URL:https://musicinbelgium.net
X-WR-CALDESC:Events for Music In Belgium
REFRESH-INTERVAL;VALUE=DURATION:PT1H
X-Robots-Tag:noindex
X-PUBLISHED-TTL:PT1H
BEGIN:VTIMEZONE
TZID:Europe/Brussels
BEGIN:DAYLIGHT
TZOFFSETFROM:+0100
TZOFFSETTO:+0200
TZNAME:CEST
DTSTART:20220327T010000
END:DAYLIGHT
BEGIN:STANDARD
TZOFFSETFROM:+0200
TZOFFSETTO:+0100
TZNAME:CET
DTSTART:20221030T010000
END:STANDARD
BEGIN:DAYLIGHT
TZOFFSETFROM:+0100
TZOFFSETTO:+0200
TZNAME:CEST
DTSTART:20230326T010000
END:DAYLIGHT
BEGIN:STANDARD
TZOFFSETFROM:+0200
TZOFFSETTO:+0100
TZNAME:CET
DTSTART:20231029T010000
END:STANDARD
BEGIN:DAYLIGHT
TZOFFSETFROM:+0100
TZOFFSETTO:+0200
TZNAME:CEST
DTSTART:20240331T010000
END:DAYLIGHT
BEGIN:STANDARD
TZOFFSETFROM:+0200
TZOFFSETTO:+0100
TZNAME:CET
DTSTART:20241027T010000
END:STANDARD
END:VTIMEZONE
BEGIN:VEVENT
DTSTART;TZID=Europe/Brussels:20231211T200000
DTEND;TZID=Europe/Brussels:20231211T223000
DTSTAMP:20260422T202213
CREATED:20231003T164951Z
LAST-MODIFIED:20231209T231048Z
UID:124917-1702324800-1702333800@musicinbelgium.net
SUMMARY:SEXTILE & SKEMER (Bruxelles)
DESCRIPTION:Prix: 19\,50 EUR (prévente: 16\,50 EUR)\nBota’Carte: 13\,50 EUR \nÀ l’affiche:\n– Sextile\n– Skemer
URL:https://musicinbelgium.net/evenement/sextile-bruxelles/
LOCATION:Le Botanique\, Rotonde\, rue Royale 236\, Bruxelles\, 1000\, Belgium
CATEGORIES:!!!SOLD OUT!!!
END:VEVENT
BEGIN:VEVENT
DTSTART;TZID=Europe/Brussels:20231211T210000
DTEND;TZID=Europe/Brussels:20231211T230000
DTSTAMP:20260422T202213
CREATED:20231210T234648Z
LAST-MODIFIED:20231210T234648Z
UID:126505-1702328400-1702335600@musicinbelgium.net
SUMMARY:LORD FRIDAY THE 13TH & STRAWBERRY STORM (Bruxelles)
DESCRIPTION:Prix: Gratuit \nÀ l’affiche:\n– Lord Friday The 13th\n– Strawberry Storm
URL:https://musicinbelgium.net/evenement/lord-friday-the-13th-strawberry-storm-bruxelles/
LOCATION:Chaff\, Place du Jeu de Balle 21\, Bruxelles\, 1000\, Belgium
END:VEVENT
END:VCALENDAR