
BEGIN:VCALENDAR
VERSION:2.0
PRODID:-//Music In Belgium - ECPv6.15.20//NONSGML v1.0//EN
CALSCALE:GREGORIAN
METHOD:PUBLISH
X-ORIGINAL-URL:https://musicinbelgium.net
X-WR-CALDESC:Events for Music In Belgium
REFRESH-INTERVAL;VALUE=DURATION:PT1H
X-Robots-Tag:noindex
X-PUBLISHED-TTL:PT1H
BEGIN:VTIMEZONE
TZID:Europe/Brussels
BEGIN:DAYLIGHT
TZOFFSETFROM:+0100
TZOFFSETTO:+0200
TZNAME:CEST
DTSTART:20220327T010000
END:DAYLIGHT
BEGIN:STANDARD
TZOFFSETFROM:+0200
TZOFFSETTO:+0100
TZNAME:CET
DTSTART:20221030T010000
END:STANDARD
BEGIN:DAYLIGHT
TZOFFSETFROM:+0100
TZOFFSETTO:+0200
TZNAME:CEST
DTSTART:20230326T010000
END:DAYLIGHT
BEGIN:STANDARD
TZOFFSETFROM:+0200
TZOFFSETTO:+0100
TZNAME:CET
DTSTART:20231029T010000
END:STANDARD
BEGIN:DAYLIGHT
TZOFFSETFROM:+0100
TZOFFSETTO:+0200
TZNAME:CEST
DTSTART:20240331T010000
END:DAYLIGHT
BEGIN:STANDARD
TZOFFSETFROM:+0200
TZOFFSETTO:+0100
TZNAME:CET
DTSTART:20241027T010000
END:STANDARD
END:VTIMEZONE
BEGIN:VEVENT
DTSTART;TZID=Europe/Brussels:20231011T190000
DTEND;TZID=Europe/Brussels:20231011T223000
DTSTAMP:20260423T030232
CREATED:20230727T210002Z
LAST-MODIFIED:20231009T213005Z
UID:122941-1697050800-1697063400@musicinbelgium.net
SUMMARY:Luke COMBS (Bruxelles)
DESCRIPTION:Prix: 30\,00 EUR (prévente) \nÀ l’affiche:\n– Luke Combs
URL:https://musicinbelgium.net/evenement/luke-combs-bruxelles/
LOCATION:AB Salle\, bd Anspach 110\, Bruxelles\, 1000\, Belgium
CATEGORIES:!!!SOLD OUT!!!
END:VEVENT
BEGIN:VEVENT
DTSTART;TZID=Europe/Brussels:20231011T200000
DTEND;TZID=Europe/Brussels:20231011T223000
DTSTAMP:20260423T030232
CREATED:20230827T204018Z
LAST-MODIFIED:20231009T213139Z
UID:123890-1697054400-1697063400@musicinbelgium.net
SUMMARY:VIOLENT MAGIC ORCHESTRA & KLAKMATRAK (Bruxelles)
DESCRIPTION:Prix: 18\,50 EUR (prévente: 15\,50 EUR)\nBota’Carte: 12\,50 EUR \nÀ l’affiche:\n– Violent Magic Orchestra\n– Klakmatrak
URL:https://musicinbelgium.net/evenement/violent-magic-orchestra-bruxelles-2/
LOCATION:Le Botanique\, Rotonde\, rue Royale 236\, Bruxelles\, 1000\, Belgium
END:VEVENT
BEGIN:VEVENT
DTSTART;TZID=Europe/Brussels:20231011T200000
DTEND;TZID=Europe/Brussels:20231011T224500
DTSTAMP:20260423T030232
CREATED:20230401T222924Z
LAST-MODIFIED:20231010T220611Z
UID:120014-1697054400-1697064300@musicinbelgium.net
SUMMARY:Gavin DeGRAW & Emmy d'ARC (Borgerhout)
DESCRIPTION:Prix: 33\,00 EUR / 31\,00 EUR \nÀ l’affiche:\n– Gavin DeGraw\n– Emmy d’Arc
URL:https://musicinbelgium.net/evenement/gavin-degraw-borgerhout/
LOCATION:De Roma\, Turnhoutsebaan 327\, Borgerhout\, 2140\, Belgium
END:VEVENT
END:VCALENDAR